{"text_format":"1","workbook":"xlsx","n_sheets":34,"sheets":["1","2","3","4","5","6","TOTAL","utilizare","Recapitulare","comenzi","total apart","reg_chitante","chitante","d","termoficare","stat","fRU","fRE","penal","RegJurnal","ian","feb","mar","apr","mai","iun","iul","aug","sep","oct","noe","dec","chelt","cash"],"not_rendered":{"charts":0,"images":3,"macros":1,"external_links":0,"defined_names":17,"comments":3,"pivot_tables":0},"unopened":[],"bounds":{"document_bytes":16777216,"sheet_cells":100000,"rows_first":2000,"rows_last":500,"rows_between":2000,"halvings":0,"cell_chars":16384,"cell_head_chars":4096},"cells_cut":0,"cells_raw":0,"read":"whole","date_system":"1900"}

{"sheet":"1","index":0,"n_rows":23,"n_cols":35,"rows_kept":23,"cut":false,"hidden":false,"merged":[]}
[null,null,null,null,null,null,null,null,null,null,"Cons apă",null,"Apă rece",null,"Apă caldă"]
["Nr ap","Locatar","Nr pers","Nr cam","Fără CT","Fără contor gaz","Salubritate","Ap fara CT","Cota","Supraf","rece","caldă","Val","Dif","Val","Dif","Încălz","Gaz metan","Energ elect","Salubr","Diverse pers","Diverse apart","Diverse cota","Diverse scara","Compen","TOTAL","Ap",null,null,"Cota incalz","cota recalc","incaz spatii comune","incalz coloane","calorifere ","total"]
[1,"Lăpuştea",2,2,null,null,2,null,1.18,null,5,0,{"$f":"K3*TOTAL!D$6","v":21.65},{"$f":"G3*TOTAL!F$7","v":0.8},{"$f":"L3*TOTAL!F$9","v":0},{"$f":"E3*TOTAL!F$12","v":0},{"$f":"ROUND(I3*TOTAL!B$14/100+'1'!AE3*TOTAL!B$15/100+'1'!J3*TOTAL!D$16,2)","v":31.84},{"$f":"F3*TOTAL!J$18","v":0},{"$f":"C3*TOTAL!D$18","v":0.92},{"$f":"G3*TOTAL!F$15","v":12.58},{"$f":"ROUND(C3*TOTAL!C$26,2)","v":19.149999999999999},{"$f":"TOTAL!$F$26","v":0},{"$f":"ROUND(I3*TOTAL!H$26/100,2)","v":5.73},{"$f":"ROUND(TOTAL!K$5/15,2)","v":0},null,{"$f":"SUM(M3:X3)-Y3","v":92.67},{"$f":"A3","v":1},null,null,{"$f":"I3","v":1.18},{"$f":"AD3*100/TOTAL!H$3","v":1.5769076573566752},{"$f":"ROUND(I3*TOTAL!B$14/100,2)","v":13.86},{"$f":"AE3*TOTAL!B$15/100","v":17.971385807831087},{"$f":"J3*TOTAL!D$16","v":0},{"$f":"SUM(AF3:AH3)","v":31.831385807831087}]
[{"$f":"A3+1","v":2},"Bugnar",1,2,null,null,{"$f":"C4","v":1},null,1.1299999999999999,null,21,0,{"$f":"K4*TOTAL!D$6","v":90.93},{"$f":"G4*TOTAL!F$7","v":0.4},{"$f":"L4*TOTAL!F$9","v":0},{"$f":"E4*TOTAL!F$12","v":0},{"$f":"ROUND(I4*TOTAL!B$14/100+'1'!AE4*TOTAL!B$15/100+'1'!J4*TOTAL!D$16,2)","v":30.49},{"$f":"F4*TOTAL!J$18","v":0},{"$f":"C4*TOTAL!D$18","v":0.46},{"$f":"G4*TOTAL!F$15","v":6.29},{"$f":"ROUND(C4*TOTAL!C$26,2)","v":9.58},{"$f":"TOTAL!$F$26","v":0},{"$f":"ROUND(I4*TOTAL!H$26/100,2)","v":5.49},{"$f":"ROUND(TOTAL!K$5/15,2)","v":0},null,143.64000000000001,{"$f":"A4","v":2},null,null,{"$f":"I4","v":1.1299999999999999},{"$f":"AD4*100/TOTAL!H$3","v":1.5100895362822395},{"$f":"ROUND(I4*TOTAL!B$14/100,2)","v":13.28},{"$f":"AE4*TOTAL!B$15/100","v":17.209886409194173},{"$f":"J4*TOTAL!D$16","v":0},{"$f":"SUM(AF4:AH4)","v":30.48988640919417}]
[{"$f":"A4+1","v":3},"Tunyogi",2,2,{"$f":"C5","v":2},{"$f":"C5","v":2},2,1,1.1200000000000001,46.53,3,2,{"$f":"K5*TOTAL!D$6","v":12.99},{"$f":"G5*TOTAL!F$7","v":0.8},{"$f":"L5*TOTAL!F$9","v":22},{"$f":"E5*TOTAL!F$12","v":-3.66},{"$f":"ROUND(I5*TOTAL!B$14/100+'1'!AE5*TOTAL!B$15/100+'1'!J5*TOTAL!D$16,2)","v":221.58},{"$f":"F5*TOTAL!J$18","v":38.32},{"$f":"C5*TOTAL!D$18","v":0.92},{"$f":"G5*TOTAL!F$15","v":12.58},{"$f":"ROUND(C5*TOTAL!C$26,2)","v":19.149999999999999},{"$f":"TOTAL!$F$26","v":0},{"$f":"ROUND(I5*TOTAL!H$26/100,2)","v":5.44},{"$f":"ROUND(TOTAL!K$5/15,2)","v":0},null,330.12,3,null,null,1.1200000000000001,{"$f":"AD5*100/TOTAL!H$3","v":1.4967259120673528},{"$f":"ROUND(I5*TOTAL!B$14/100,2)","v":13.16},{"$f":"AE5*TOTAL!B$15/100","v":17.057586529466793},{"$f":"J5*TOTAL!D$16","v":191.35927799999999},221.57686452946677]
[4,"Garbou",1,3,null,null,0,null,1.44,null,3,0,{"$f":"K6*TOTAL!D$6","v":12.99},{"$f":"G6*TOTAL!F$7","v":0},{"$f":"L6*TOTAL!F$9","v":0},{"$f":"E6*TOTAL!F$12","v":0},{"$f":"ROUND(I6*TOTAL!B$14/100+'1'!AE6*TOTAL!B$15/100+'1'!J6*TOTAL!D$16,2)","v":38.85},{"$f":"F6*TOTAL!J$18","v":0},{"$f":"C6*TOTAL!D$18","v":0.46},{"$f":"G6*TOTAL!F$15","v":0},{"$f":"ROUND(C6*TOTAL!C$26,2)","v":9.58},{"$f":"TOTAL!$F$26","v":0},{"$f":"ROUND(I6*TOTAL!H$26/100,2)","v":7},{"$f":"ROUND(TOTAL!K$5/15,2)","v":0},null,68.88,4,null,null,1.44,{"$f":"AD6*100/TOTAL!H$3","v":1.9243618869437391},{"$f":"ROUND(I6*TOTAL!B$14/100,2)","v":16.920000000000002},{"$f":"AE6*TOTAL!B$15/100","v":21.931182680743017},{"$f":"J6*TOTAL!D$16","v":0},38.851182680743023]
[5,"Szép",3,3,{"$f":"C7","v":3},{"$f":"C7","v":3},3,1,1.46,60.34,6,11,{"$f":"K7*TOTAL!D$6","v":25.98},{"$f":"G7*TOTAL!F$7","v":1.2000000000000002},{"$f":"L7*TOTAL!F$9","v":121},{"$f":"E7*TOTAL!F$12","v":-5.49},{"$f":"ROUND(I7*TOTAL!B$14/100+'1'!AE7*TOTAL!B$15/100+'1'!J7*TOTAL!D$16,2)","v":287.54000000000002},{"$f":"F7*TOTAL!J$18","v":57.480000000000004},{"$f":"C7*TOTAL!D$18","v":1.3800000000000001},{"$f":"G7*TOTAL!F$15","v":18.87},{"$f":"ROUND(C7*TOTAL!C$26,2)","v":28.73},{"$f":"TOTAL!$F$26","v":0},{"$f":"ROUND(I7*TOTAL!H$26/100,2)","v":7.09},{"$f":"ROUND(TOTAL!K$5/15,2)","v":0},null,543.78000000000009,5,null,null,1.46,{"$f":"AD7*100/TOTAL!H$3","v":1.9510891353735134},{"$f":"ROUND(I7*TOTAL!B$14/100,2)","v":17.149999999999999},{"$f":"AE7*TOTAL!B$15/100","v":22.235782440197784},{"$f":"J7*TOTAL!D$16","v":248.15428399999999},287.54006644019779]
[6,"Bara",1,2,{"$f":"C8","v":1},{"$f":"C8","v":1},0,1,1.1299999999999999,46.73,0,0,{"$f":"K8*TOTAL!D$6","v":0},{"$f":"G8*TOTAL!F$7","v":0},{"$f":"L8*TOTAL!F$9","v":0},{"$f":"E8*TOTAL!F$12","v":-1.83},{"$f":"ROUND(I8*TOTAL!B$14/100+'1'!AE8*TOTAL!B$15/100+'1'!J8*TOTAL!D$16,2)","v":222.67},{"$f":"F8*TOTAL!J$18","v":19.16},{"$f":"C8*TOTAL!D$18","v":0.46},{"$f":"G8*TOTAL!F$15","v":0},{"$f":"ROUND(C8*TOTAL!C$26,2)","v":9.58},{"$f":"TOTAL!$F$26","v":0},{"$f":"ROUND(I8*TOTAL!H$26/100,2)","v":5.49},{"$f":"ROUND(TOTAL!K$5/15,2)","v":0},null,255.53,6,null,null,1.1299999999999999,{"$f":"AD8*100/TOTAL!H$3","v":1.5100895362822395},{"$f":"ROUND(I8*TOTAL!B$14/100,2)","v":13.28},{"$f":"AE8*TOTAL!B$15/100","v":17.209886409194173},{"$f":"J8*TOTAL!D$16","v":192.18179799999996},222.67168440919414]
[7,"Colceriu",1,3,{"$f":"C9","v":1},{"$f":"C9","v":1},1,1,1.44,31.1,2,5,{"$f":"K9*TOTAL!D$6","v":8.66},{"$f":"G9*TOTAL!F$7","v":0.4},{"$f":"L9*TOTAL!F$9","v":55},{"$f":"E9*TOTAL!F$12","v":-1.83},{"$f":"ROUND(I9*TOTAL!B$14/100+'1'!AE9*TOTAL!B$15/100+'1'!J9*TOTAL!D$16,2)","v":166.75},{"$f":"F9*TOTAL!J$18","v":19.16},{"$f":"C9*TOTAL!D$18","v":0.46},{"$f":"G9*TOTAL!F$15","v":6.29},{"$f":"ROUND(C9*TOTAL!C$26,2)","v":9.58},{"$f":"TOTAL!$F$26","v":0},{"$f":"ROUND(I9*TOTAL!H$26/100,2)","v":7},{"$f":"ROUND(TOTAL!K$5/15,2)","v":0},null,271.47000000000003,7,null,null,1.44,{"$f":"AD9*100/TOTAL!H$3","v":1.9243618869437391},{"$f":"ROUND(I9*TOTAL!B$14/100,2)","v":16.920000000000002},{"$f":"AE9*TOTAL!B$15/100","v":21.931182680743017},{"$f":"J9*TOTAL!D$16","v":127.90186},166.75304268074302]
[8,"Gabor",1,3,null,null,1,null,1.46,null,0,0,{"$f":"K10*TOTAL!D$6","v":0},{"$f":"G10*TOTAL!F$7","v":0.4},{"$f":"L10*TOTAL!F$9","v":0},{"$f":"E10*TOTAL!F$12","v":0},{"$f":"ROUND(I10*TOTAL!B$14/100+'1'!AE10*TOTAL!B$15/100+'1'!J10*TOTAL!D$16,2)","v":39.39},{"$f":"F10*TOTAL!J$18","v":0},{"$f":"C10*TOTAL!D$18","v":0.46},{"$f":"G10*TOTAL!F$15","v":6.29},{"$f":"ROUND(C10*TOTAL!C$26,2)","v":9.58},{"$f":"TOTAL!$F$26","v":0},{"$f":"ROUND(I10*TOTAL!H$26/100,2)","v":7.09},{"$f":"ROUND(TOTAL!K$5/15,2)","v":0},null,63.209999999999994,8,null,null,1.46,{"$f":"AD10*100/TOTAL!H$3","v":1.9510891353735134},{"$f":"ROUND(I10*TOTAL!B$14/100,2)","v":17.149999999999999},{"$f":"AE10*TOTAL!B$15/100","v":22.235782440197784},{"$f":"J10*TOTAL!D$16","v":0},39.385782440197787]
[9,"Neamţ",3,2,null,null,3,null,1.1299999999999999,null,13,0,{"$f":"K11*TOTAL!D$6","v":56.29},{"$f":"G11*TOTAL!F$7","v":1.2000000000000002},{"$f":"L11*TOTAL!F$9","v":0},{"$f":"E11*TOTAL!F$12","v":0},{"$f":"ROUND(I11*TOTAL!B$14/100+'1'!AE11*TOTAL!B$15/100+'1'!J11*TOTAL!D$16,2)","v":30.49},{"$f":"F11*TOTAL!J$18","v":0},{"$f":"C11*TOTAL!D$18","v":1.3800000000000001},{"$f":"G11*TOTAL!F$15","v":18.87},{"$f":"ROUND(C11*TOTAL!C$26,2)","v":28.73},{"$f":"TOTAL!$F$26","v":0},{"$f":"ROUND(I11*TOTAL!H$26/100,2)","v":5.49},{"$f":"ROUND(TOTAL!K$5/15,2)","v":0},null,142.45000000000002,9,null,null,1.1299999999999999,{"$f":"AD11*100/TOTAL!H$3","v":1.5100895362822395},{"$f":"ROUND(I11*TOTAL!B$14/100,2)","v":13.28},{"$f":"AE11*TOTAL!B$15/100","v":17.209886409194173},{"$f":"J11*TOTAL!D$16","v":0},30.48988640919417]
[10,"Micşunescu",1,3,null,null,0,null,1.44,null,0,0,{"$f":"K12*TOTAL!D$6","v":0},{"$f":"G12*TOTAL!F$7","v":0},{"$f":"L12*TOTAL!F$9","v":0},{"$f":"E12*TOTAL!F$12","v":0},{"$f":"ROUND(I12*TOTAL!B$14/100+'1'!AE12*TOTAL!B$15/100+'1'!J12*TOTAL!D$16,2)","v":38.85},{"$f":"F12*TOTAL!J$18","v":0},{"$f":"C12*TOTAL!D$18","v":0.46},{"$f":"G12*TOTAL!F$15","v":0},{"$f":"ROUND(C12*TOTAL!C$26,2)","v":9.58},{"$f":"TOTAL!$F$26","v":0},{"$f":"ROUND(I12*TOTAL!H$26/100,2)","v":7},{"$f":"ROUND(TOTAL!K$5/15,2)","v":0},18.07,37.82,10,null,null,1.44,{"$f":"AD12*100/TOTAL!H$3","v":1.9243618869437391},{"$f":"ROUND(I12*TOTAL!B$14/100,2)","v":16.920000000000002},{"$f":"AE12*TOTAL!B$15/100","v":21.931182680743017},{"$f":"J12*TOTAL!D$16","v":0},38.851182680743023]
[11,"Jugrestan",1,3,null,null,1,null,1.46,null,3,0,{"$f":"K13*TOTAL!D$6","v":12.99},{"$f":"G13*TOTAL!F$7","v":0.4},{"$f":"L13*TOTAL!F$9","v":0},{"$f":"E13*TOTAL!F$12","v":0},{"$f":"ROUND(I13*TOTAL!B$14/100+'1'!AE13*TOTAL!B$15/100+'1'!J13*TOTAL!D$16,2)","v":39.39},{"$f":"F13*TOTAL!J$18","v":0},{"$f":"C13*TOTAL!D$18","v":0.46},{"$f":"G13*TOTAL!F$15","v":6.29},{"$f":"ROUND(C13*TOTAL!C$26,2)","v":9.58},{"$f":"TOTAL!$F$26","v":0},{"$f":"ROUND(I13*TOTAL!H$26/100,2)","v":7.09},{"$f":"ROUND(TOTAL!K$5/15,2)","v":0},null,76.2,11,null,null,1.46,{"$f":"AD13*100/TOTAL!H$3","v":1.9510891353735134},{"$f":"ROUND(I13*TOTAL!B$14/100,2)","v":17.149999999999999},{"$f":"AE13*TOTAL!B$15/100","v":22.235782440197784},{"$f":"J13*TOTAL!D$16","v":0},39.385782440197787]
[12,"Tárkányi",2,2,{"$f":"C14","v":2},{"$f":"C14","v":2},2,1,1.1100000000000001,46.19,4,7,{"$f":"K14*TOTAL!D$6","v":17.32},{"$f":"G14*TOTAL!F$7","v":0.8},{"$f":"L14*TOTAL!F$9","v":77},{"$f":"E14*TOTAL!F$12","v":-3.66},{"$f":"ROUND(I14*TOTAL!B$14/100+'1'!AE14*TOTAL!B$15/100+'1'!J14*TOTAL!D$16,2)","v":219.91},{"$f":"F14*TOTAL!J$18","v":38.32},{"$f":"C14*TOTAL!D$18","v":0.92},{"$f":"G14*TOTAL!F$15","v":12.58},{"$f":"ROUND(C14*TOTAL!C$26,2)","v":19.149999999999999},{"$f":"TOTAL!$F$26","v":0},{"$f":"ROUND(I14*TOTAL!H$26/100,2)","v":5.39},{"$f":"ROUND(TOTAL!K$5/15,2)","v":0},null,387.72999999999996,12,null,null,1.1100000000000001,{"$f":"AD14*100/TOTAL!H$3","v":1.4833622878524657},{"$f":"ROUND(I14*TOTAL!B$14/100,2)","v":13.04},{"$f":"AE14*TOTAL!B$15/100","v":16.905286649739413},{"$f":"J14*TOTAL!D$16","v":189.96099399999997},219.90628064973939]
[13,"Nebert",1,3,null,null,1,null,1.44,null,4,0,{"$f":"K15*TOTAL!D$6","v":17.32},{"$f":"G15*TOTAL!F$7","v":0.4},{"$f":"L15*TOTAL!F$9","v":0},{"$f":"E15*TOTAL!F$12","v":0},{"$f":"ROUND(I15*TOTAL!B$14/100+'1'!AE15*TOTAL!B$15/100+'1'!J15*TOTAL!D$16,2)","v":38.85},{"$f":"F15*TOTAL!J$18","v":0},{"$f":"C15*TOTAL!D$18","v":0.46},{"$f":"G15*TOTAL!F$15","v":6.29},{"$f":"ROUND(C15*TOTAL!C$26,2)","v":9.58},{"$f":"TOTAL!$F$26","v":0},{"$f":"ROUND(I15*TOTAL!H$26/100,2)","v":7},{"$f":"ROUND(TOTAL!K$5/15,2)","v":0},null,79.900000000000006,13,null,null,1.44,{"$f":"AD15*100/TOTAL!H$3","v":1.9243618869437391},{"$f":"ROUND(I15*TOTAL!B$14/100,2)","v":16.920000000000002},{"$f":"AE15*TOTAL!B$15/100","v":21.931182680743017},{"$f":"J15*TOTAL!D$16","v":0},38.851182680743023]
[14,"Crişan",1,3,null,null,1,null,1.46,null,4,0,{"$f":"K16*TOTAL!D$6","v":17.32},{"$f":"G16*TOTAL!F$7","v":0.4},{"$f":"L16*TOTAL!F$9","v":0},{"$f":"E16*TOTAL!F$12","v":0},{"$f":"ROUND(I16*TOTAL!B$14/100+'1'!AE16*TOTAL!B$15/100+'1'!J16*TOTAL!D$16,2)","v":39.39},{"$f":"F16*TOTAL!J$18","v":0},{"$f":"C16*TOTAL!D$18","v":0.46},{"$f":"G16*TOTAL!F$15","v":6.29},{"$f":"ROUND(C16*TOTAL!C$26,2)","v":9.58},{"$f":"TOTAL!$F$26","v":0},{"$f":"ROUND(I16*TOTAL!H$26/100,2)","v":7.09},{"$f":"ROUND(TOTAL!K$5/15,2)","v":0},null,80.53,14,null,null,1.46,{"$f":"AD16*100/TOTAL!H$3","v":1.9510891353735134},{"$f":"ROUND(I16*TOTAL!B$14/100,2)","v":17.149999999999999},{"$f":"AE16*TOTAL!B$15/100","v":22.235782440197784},{"$f":"J16*TOTAL!D$16","v":0},39.385782440197787]
[15,"Lazăr",2,2,0,null,2,null,1.1299999999999999,null,5,0,{"$f":"K17*TOTAL!D$6","v":21.65},{"$f":"G17*TOTAL!F$7","v":0.8},{"$f":"L17*TOTAL!F$9","v":0},{"$f":"E17*TOTAL!F$12","v":0},{"$f":"ROUND(I17*TOTAL!B$14/100+'1'!AE17*TOTAL!B$15/100+'1'!J17*TOTAL!D$16,2)","v":30.49},{"$f":"F17*TOTAL!J$18","v":0},{"$f":"C17*TOTAL!D$18","v":0.92},{"$f":"G17*TOTAL!F$15","v":12.58},{"$f":"ROUND(C17*TOTAL!C$26,2)","v":19.149999999999999},{"$f":"TOTAL!$F$26","v":0},{"$f":"ROUND(I17*TOTAL!H$26/100,2)","v":5.49},{"$f":"ROUND(TOTAL!K$5/15,2)","v":0},null,91.08,15,null,null,1.1299999999999999,{"$f":"AD17*100/TOTAL!H$3","v":1.5100895362822395},{"$f":"ROUND(I17*TOTAL!B$14/100,2)","v":13.28},{"$f":"AE17*TOTAL!B$15/100","v":17.209886409194173},{"$f":"J17*TOTAL!D$16","v":0},30.48988640919417]
[null,null,{"$f":"SUM(C3:C17)","v":23},38,9,9,20,5,19.529999999999998,230.89,73,25,316.08999999999997,8.0000000000000018,275,-16.47,1476.4800000000002,172.44,10.580000000000002,125.80000000000003,220.28000000000006,0,94.88,0,18.07,2665.01,null,null,{"$f":"SUM(M18:X18)-Y18","v":2665.0100000000007},{"$f":"SUM(AD3:AD17)","v":19.529999999999998},26.099158091674461,229.46000000000004,{"$f":"SUM(AG3:AG17)","v":297.44166510757719},{"$f":"SUM(AH3:AH17)","v":949.55821399999991},{"$f":"SUM(AI3:AI17)","v":1476.4598791075771}]
[null,null,null,null,null,null,null,null,null,null,null,null,"Presedinte",null,"Sef Comisie Cenzori",null,null,null,"Contabil"]
[]
[]
[null,"Pentru completarea cartii de imobil locatarii sunt rugati sa aduca o copie xerox dupa buletin, CI , certficat de nastere pt copii."]
[null,"De la toti care stau efectiv in apartament indiferent de calitate, proprietar, chirias cu flotant sau fara flotant."]

{"sheet":"2","index":1,"n_rows":19,"n_cols":35,"rows_kept":19,"cut":false,"hidden":false,"merged":[]}
[null,null,null,null,null,null,null,null,null,null,"Cons apă",null,"Apă rece",null,"Apă caldă"]
["Nr ap","Locatar","Nr pers","Nr cam","Fără CT","Fără contor gaz","Salubritate","Ap fara CT","Cota","Supraf","rece","caldă","Val","Dif","Val","Dif","Încălz","Gaz metan","Energ elect","Salubr","Diverse pers","Diverse apart","Diverse cota","Diverse scara","Compen","TOTAL","Ap",null,null,"Cota incalz","cota recalc","incaz spatii comune","incalz coloane","calorifere ","total"]
[16,"Vescan",4,3,null,null,{"$f":"C3","v":4},null,1.42,null,4,0,{"$f":"K3*TOTAL!D$6","v":17.32},{"$f":"G3*TOTAL!F$7","v":1.6},{"$f":"L3*TOTAL!F$9","v":0},{"$f":"E3*TOTAL!F$12","v":0},{"$f":"ROUND(I3*TOTAL!B$14/100+'2'!AE3*TOTAL!B$15/100+'2'!J3*TOTAL!D$16,2)","v":16.68},{"$f":"F3*TOTAL!J19","v":0},{"$f":"C3*TOTAL!D$19","v":2.2000000000000002},{"$f":"G3*TOTAL!F$15","v":25.16},{"$f":"ROUND(C3*TOTAL!C$26,2)","v":38.31},{"$f":"TOTAL!$F$26","v":0},{"$f":"ROUND(I3*TOTAL!H$26/100,2)","v":6.9},{"$f":"ROUND(TOTAL!K$7/11,2)","v":0},null,{"$f":"SUM(M3:X3)-Y3","v":108.17000000000002},{"$f":"A3","v":16},null,null,null,{"$f":"AD3*100/TOTAL!H$3","v":0},{"$f":"ROUND(I3*TOTAL!B$14/100,2)","v":16.68},{"$f":"AE3*TOTAL!B$15/100","v":0},{"$f":"J3*TOTAL!D$16","v":0},{"$f":"SUM(AF3:AH3)","v":16.68}]
[{"$f":"A3+1","v":17},"Mihăescu",2,3,{"$f":"C4","v":2},null,{"$f":"C4","v":2},1,1.44,59.9,4,4,{"$f":"K4*TOTAL!D$6","v":17.32},{"$f":"G4*TOTAL!F$7","v":0.8},{"$f":"L4*TOTAL!F$9","v":44},{"$f":"E4*TOTAL!F$12","v":-3.66},{"$f":"ROUND(I4*TOTAL!B$14/100+'2'!AE4*TOTAL!B$15/100+'2'!J4*TOTAL!D$16,2)","v":285.19},{"$f":"T19","v":0},{"$f":"C4*TOTAL!D$19","v":1.1000000000000001},{"$f":"G4*TOTAL!F$15","v":12.58},{"$f":"ROUND(C4*TOTAL!C$26,2)","v":19.149999999999999},{"$f":"TOTAL!$F$26","v":0},{"$f":"ROUND(I4*TOTAL!H$26/100,2)","v":7},{"$f":"ROUND(TOTAL!K$7/11,2)","v":0},null,383.47999999999996,17,null,null,1.44,{"$f":"AD4*100/TOTAL!H$3","v":1.9243618869437391},{"$f":"ROUND(I4*TOTAL!B$14/100,2)","v":16.920000000000002},{"$f":"AE4*TOTAL!B$15/100","v":21.931182680743017},{"$f":"J4*TOTAL!D$16","v":246.34473999999997},285.19592268074302]
[18,"Pop Florin",2,3,null,null,2,null,1.44,null,8,0,{"$f":"K5*TOTAL!D$6","v":34.64},{"$f":"G5*TOTAL!F$7","v":0.8},{"$f":"L5*TOTAL!F$9","v":0},{"$f":"E5*TOTAL!F$12","v":0},{"$f":"ROUND(I5*TOTAL!B$14/100+'2'!AE5*TOTAL!B$15/100+'2'!J5*TOTAL!D$16,2)","v":16.920000000000002},{"$f":"F5*TOTAL!I$18","v":0},{"$f":"C5*TOTAL!D$19","v":1.1000000000000001},{"$f":"G5*TOTAL!F$15","v":12.58},{"$f":"ROUND(C5*TOTAL!C$26,2)","v":19.149999999999999},{"$f":"TOTAL!$F$26","v":0},{"$f":"ROUND(I5*TOTAL!H$26/100,2)","v":7},{"$f":"ROUND(TOTAL!K$7/11,2)","v":0},null,92.19,18,null,null,null,null,{"$f":"ROUND(I5*TOTAL!B$14/100,2)","v":16.920000000000002},{"$f":"AE5*TOTAL!B$15/100","v":0},{"$f":"J5*TOTAL!D$16","v":0},16.920000000000002]
[19,"Mureşan I",2,4,null,null,2,null,1.65,null,10,0,{"$f":"K6*TOTAL!D$6","v":43.3},{"$f":"G6*TOTAL!F$7","v":0.8},{"$f":"L6*TOTAL!F$9","v":0},{"$f":"E6*TOTAL!F$12","v":0},{"$f":"ROUND(I6*TOTAL!B$14/100+'2'!AE6*TOTAL!B$15/100+'2'!J6*TOTAL!D$16,2)","v":19.39},{"$f":"F6*TOTAL!I$18","v":0},{"$f":"C6*TOTAL!D$19","v":1.1000000000000001},{"$f":"G6*TOTAL!F$15","v":12.58},{"$f":"ROUND(C6*TOTAL!C$26,2)","v":19.149999999999999},{"$f":"TOTAL!$F$26","v":0},{"$f":"ROUND(I6*TOTAL!H$26/100,2)","v":8.02},{"$f":"ROUND(TOTAL!K$7/11,2)","v":0},null,104.33999999999999,19,null,null,null,null,{"$f":"ROUND(I6*TOTAL!B$14/100,2)","v":19.39},{"$f":"AE6*TOTAL!B$15/100","v":0},{"$f":"J6*TOTAL!D$16","v":0},19.39]
[20,"Ibbison",2,3,null,null,2,null,1.44,null,6,0,{"$f":"K7*TOTAL!D$6","v":25.98},{"$f":"G7*TOTAL!F$7","v":0.8},{"$f":"L7*TOTAL!F$9","v":0},{"$f":"E7*TOTAL!F$12","v":0},{"$f":"ROUND(I7*TOTAL!B$14/100+'2'!AE7*TOTAL!B$15/100+'2'!J7*TOTAL!D$16,2)","v":16.920000000000002},{"$f":"F7*TOTAL!I$18","v":0},{"$f":"C7*TOTAL!D$19","v":1.1000000000000001},{"$f":"G7*TOTAL!F$15","v":12.58},{"$f":"ROUND(C7*TOTAL!C$26,2)","v":19.149999999999999},{"$f":"TOTAL!$F$26","v":0},{"$f":"ROUND(I7*TOTAL!H$26/100,2)","v":7},{"$f":"ROUND(TOTAL!K$7/11,2)","v":0},null,83.53,20,null,null,null,null,{"$f":"ROUND(I7*TOTAL!B$14/100,2)","v":16.920000000000002},{"$f":"AE7*TOTAL!B$15/100","v":0},{"$f":"J7*TOTAL!D$16","v":0},16.920000000000002]
[21,"Kállai",2,4,null,null,2,null,1.67,null,6,0,{"$f":"K8*TOTAL!D$6","v":25.98},{"$f":"G8*TOTAL!F$7","v":0.8},{"$f":"L8*TOTAL!F$9","v":0},{"$f":"E8*TOTAL!F$12","v":0},{"$f":"ROUND(I8*TOTAL!B$14/100+'2'!AE8*TOTAL!B$15/100+'2'!J8*TOTAL!D$16,2)","v":19.62},{"$f":"F8*TOTAL!I$18","v":0},{"$f":"C8*TOTAL!D$19","v":1.1000000000000001},{"$f":"G8*TOTAL!F$15","v":12.58},{"$f":"ROUND(C8*TOTAL!C$26,2)","v":19.149999999999999},{"$f":"TOTAL!$F$26","v":0},{"$f":"ROUND(I8*TOTAL!H$26/100,2)","v":8.11},{"$f":"ROUND(TOTAL!K$7/11,2)","v":0},null,87.34,21,null,null,null,null,{"$f":"ROUND(I8*TOTAL!B$14/100,2)","v":19.62},{"$f":"AE8*TOTAL!B$15/100","v":0},{"$f":"J8*TOTAL!D$16","v":0},19.62]
[22,"Indolean",2,3,null,null,2,null,1.44,null,5,0,{"$f":"K9*TOTAL!D$6","v":21.65},{"$f":"G9*TOTAL!F$7","v":0.8},{"$f":"L9*TOTAL!F$9","v":0},{"$f":"E9*TOTAL!F$12","v":0},{"$f":"ROUND(I9*TOTAL!B$14/100+'2'!AE9*TOTAL!B$15/100+'2'!J9*TOTAL!D$16,2)","v":16.920000000000002},{"$f":"F9*TOTAL!I$18","v":0},{"$f":"C9*TOTAL!D$19","v":1.1000000000000001},{"$f":"G9*TOTAL!F$15","v":12.58},{"$f":"ROUND(C9*TOTAL!C$26,2)","v":19.149999999999999},{"$f":"TOTAL!$F$26","v":0},{"$f":"ROUND(I9*TOTAL!H$26/100,2)","v":7},{"$f":"ROUND(TOTAL!K$7/11,2)","v":0},null,79.2,22,null,null,null,null,{"$f":"ROUND(I9*TOTAL!B$14/100,2)","v":16.920000000000002},{"$f":"AE9*TOTAL!B$15/100","v":0},{"$f":"J9*TOTAL!D$16","v":0},16.920000000000002]
[23,"Mureşan E",2,4,null,null,2,null,0.67,null,5,0,{"$f":"K10*TOTAL!D$6","v":21.65},{"$f":"G10*TOTAL!F$7","v":0.8},{"$f":"L10*TOTAL!F$9","v":0},{"$f":"E10*TOTAL!F$12","v":0},{"$f":"ROUND(I10*TOTAL!B$14/100+'2'!AE10*TOTAL!B$15/100+'2'!J10*TOTAL!D$16,2)","v":7.87},{"$f":"F10*TOTAL!I$18","v":0},{"$f":"C10*TOTAL!D$19","v":1.1000000000000001},{"$f":"G10*TOTAL!F$15","v":12.58},{"$f":"ROUND(C10*TOTAL!C$26,2)","v":19.149999999999999},{"$f":"TOTAL!$F$26","v":0},{"$f":"ROUND(I10*TOTAL!H$26/100,2)","v":3.26},{"$f":"ROUND(TOTAL!K$7/11,2)","v":0},null,66.41,23,null,null,null,null,{"$f":"ROUND(I10*TOTAL!B$14/100,2)","v":7.87},{"$f":"AE10*TOTAL!B$15/100","v":0},{"$f":"J10*TOTAL!D$16","v":0},7.87]
["23A","Stanimir",2,4,null,null,2,null,1,null,11,0,{"$f":"K11*TOTAL!D$6","v":47.63},{"$f":"G11*TOTAL!F$7","v":0.8},{"$f":"L11*TOTAL!F$9","v":0},{"$f":"E11*TOTAL!F$12","v":0},{"$f":"ROUND(I11*TOTAL!B$14/100+'2'!AE11*TOTAL!B$15/100+'2'!J11*TOTAL!D$16,2)","v":11.75},{"$f":"F11*TOTAL!I$18","v":0},{"$f":"C11*TOTAL!D$19","v":1.1000000000000001},{"$f":"G11*TOTAL!F$15","v":12.58},{"$f":"ROUND(C11*TOTAL!C$26,2)","v":19.149999999999999},{"$f":"TOTAL!$F$26","v":0},{"$f":"ROUND(I11*TOTAL!H$26/100,2)","v":4.8600000000000003},{"$f":"ROUND(TOTAL!K$7/11,2)","v":0},null,97.86999999999999,"23A",null,null,null,null,{"$f":"ROUND(I11*TOTAL!B$14/100,2)","v":11.75},{"$f":"AE11*TOTAL!B$15/100","v":0},{"$f":"J11*TOTAL!D$16","v":0},11.75]
[24,"Cheţan",3,3,null,null,3,null,1.44,null,5,0,{"$f":"K12*TOTAL!D$6","v":21.65},{"$f":"G12*TOTAL!F$7","v":1.2000000000000002},{"$f":"L12*TOTAL!F$9","v":0},{"$f":"E12*TOTAL!F$12","v":0},{"$f":"ROUND(I12*TOTAL!B$14/100+'2'!AE12*TOTAL!B$15/100+'2'!J12*TOTAL!D$16,2)","v":16.920000000000002},{"$f":"F12*TOTAL!I$18","v":0},{"$f":"C12*TOTAL!D$19","v":1.6500000000000001},{"$f":"G12*TOTAL!F$15","v":18.87},{"$f":"ROUND(C12*TOTAL!C$26,2)","v":28.73},{"$f":"TOTAL!$F$26","v":0},{"$f":"ROUND(I12*TOTAL!H$26/100,2)","v":7},{"$f":"ROUND(TOTAL!K$7/11,2)","v":0},null,96.02,24,null,null,null,null,{"$f":"ROUND(I12*TOTAL!B$14/100,2)","v":16.920000000000002},{"$f":"AE12*TOTAL!B$15/100","v":0},{"$f":"J12*TOTAL!D$16","v":0},16.920000000000002]
[25,"Călin",2,4,null,null,2,null,1.67,null,6,0,{"$f":"K13*TOTAL!D$6","v":25.98},{"$f":"G13*TOTAL!F$7","v":0.8},{"$f":"L13*TOTAL!F$9","v":0},{"$f":"E13*TOTAL!F$12","v":0},{"$f":"ROUND(I13*TOTAL!B$14/100+'2'!AE13*TOTAL!B$15/100+'2'!J13*TOTAL!D$16,2)","v":19.62},{"$f":"F13*TOTAL!I$18","v":0},{"$f":"C13*TOTAL!D$19","v":1.1000000000000001},{"$f":"G13*TOTAL!F$15","v":12.58},{"$f":"ROUND(C13*TOTAL!C$26,2)","v":19.149999999999999},{"$f":"TOTAL!$F$26","v":0},{"$f":"ROUND(I13*TOTAL!H$26/100,2)","v":8.11},{"$f":"ROUND(TOTAL!K$7/11,2)","v":0},null,87.34,25,null,null,null,null,{"$f":"ROUND(I13*TOTAL!B$14/100,2)","v":19.62},{"$f":"AE13*TOTAL!B$15/100","v":0},{"$f":"J13*TOTAL!D$16","v":0},19.62]
[null,null,{"$f":"SUM(C3:C13)","v":25},38,2,0,25,1,15.279999999999998,59.9,70,4,303.10000000000002,10,44,-3.66,447.80000000000007,0,13.749999999999998,157.25,239.39000000000001,0,74.260000000000005,0,0,1285.8899999999999,null,null,{"$f":"SUM(M14:X14)-Y14","v":1285.8900000000001},{"$f":"AD4","v":1.44},{"$f":"AE4","v":1.9243618869437391},{"$f":"SUM(AF3:AF13)","v":179.53000000000003},{"$f":"SUM(AG3:AG13)","v":21.931182680743017},{"$f":"SUM(AH3:AH13)","v":246.34473999999997},{"$f":"SUM(AI3:AI13)","v":447.80592268074309}]
[null,null,null,null,null,null,null,null,null,null,null,null,"Presedinte",null,"Sef Comisie Cenzori",null,null,null,"Contabil"]
[]
[]
[null,"Pentru completarea cartii de imobil locatarii sunt rugati sa aduca o copie xerox dupa buletin, CI , certficat de nastere pt copii."]
[null,"De la toti care stau efectiv in apartament indiferent de calitate, proprietar, chirias cu flotant sau fara flotant."]

{"sheet":"3","index":2,"n_rows":18,"n_cols":35,"rows_kept":18,"cut":false,"hidden":false,"merged":[]}
[null,null,null,null,null,null,null,null,null,null,"Cons apă",null,"Apă rece",null,"Apă caldă"]
["Nr ap","Locatar","Nr pers","Nr cam","Fără CT","Fără contor gaz","Salubritate","Ap fara CT","Cota","Supraf","rece","caldă","Val","Dif","Val","Dif","Încălz","Gaz metan","Energ elect","Salubr","Diverse pers","Diverse apart","Diverse cota","Diverse scara","Compen","TOTAL","Ap",null,null,"Cota incalz"]
[26,"Turcu",1,3,0,1,0,1,1.46,0,0,0,{"$f":"K3*TOTAL!D$6","v":0},{"$f":"G3*TOTAL!F$7","v":0},{"$f":"L3*TOTAL!F$9","v":0},{"$f":"E3*TOTAL!F$12","v":0},{"$f":"ROUND(I3*TOTAL!B$14/100+'3'!AE3*TOTAL!B$15/100+'3'!J3*TOTAL!D$16,2)","v":39.39},{"$f":"F3*TOTAL!J$20","v":0},{"$f":"C3*TOTAL!D$20","v":0.31},{"$f":"G3*TOTAL!F$15","v":0},{"$f":"ROUND(C3*TOTAL!C$26,2)","v":9.58},{"$f":"TOTAL!$F$26","v":0},{"$f":"ROUND(I3*TOTAL!H$26/100,2)","v":7.09},{"$f":"ROUND(TOTAL!K$9/'3'!C$13*'3'!C3,2)","v":0},null,{"$f":"SUM(M3:X3)-Y3","v":56.370000000000005},{"$f":"A3","v":26},null,null,1.46,{"$f":"AD3*100/TOTAL!H$3","v":1.9510891353735134},{"$f":"ROUND(I3*TOTAL!B$14/100,2)","v":17.149999999999999},{"$f":"AE3*TOTAL!B$15/100","v":22.235782440197784},{"$f":"J3*TOTAL!D$16","v":0},{"$f":"SUM(AF3:AH3)","v":39.385782440197787}]
[{"$f":"A3+1","v":27},"Creţeanu",3,3,null,null,{"$f":"C4","v":3},null,1.46,null,14,0,{"$f":"K4*TOTAL!D$6","v":60.620000000000005},{"$f":"G4*TOTAL!F$7","v":1.2000000000000002},{"$f":"L4*TOTAL!F$9","v":0},{"$f":"E4*TOTAL!F$12","v":0},{"$f":"ROUND(I4*TOTAL!B$14/100+'3'!AE4*TOTAL!B$15/100+'3'!J4*TOTAL!D$16,2)","v":39.39},{"$f":"F4*TOTAL!J$20","v":0},{"$f":"C4*TOTAL!D$20","v":0.92999999999999994},{"$f":"G4*TOTAL!F$15","v":18.87},{"$f":"ROUND(C4*TOTAL!C$26,2)","v":28.73},{"$f":"TOTAL!$F$26","v":0},{"$f":"ROUND(I4*TOTAL!H$26/100,2)","v":7.09},{"$f":"ROUND(TOTAL!K$9/'3'!C$13*'3'!C4,2)","v":0},null,156.83000000000001,27,null,null,1.46,{"$f":"AD4*100/TOTAL!H$3","v":1.9510891353735134},{"$f":"ROUND(I4*TOTAL!B$14/100,2)","v":17.149999999999999},{"$f":"AE4*TOTAL!B$15/100","v":22.235782440197784},{"$f":"J4*TOTAL!D$16","v":0},39.385782440197787]
[28,"Zegreanu",1,3,{"$f":"C5","v":1},null,1,1,1.44,59.9,2,3,{"$f":"K5*TOTAL!D$6","v":8.66},{"$f":"G5*TOTAL!F$7","v":0.4},{"$f":"L5*TOTAL!F$9","v":33},{"$f":"E5*TOTAL!F$12","v":-1.83},{"$f":"ROUND(I5*TOTAL!B$14/100+'3'!AE5*TOTAL!B$15/100+'3'!J5*TOTAL!D$16,2)","v":285.19},{"$f":"F5*TOTAL!J$20","v":0},{"$f":"C5*TOTAL!D$20","v":0.31},{"$f":"G5*TOTAL!F$15","v":6.29},{"$f":"ROUND(C5*TOTAL!C$26,2)","v":9.58},{"$f":"TOTAL!$F$26","v":0},{"$f":"ROUND(I5*TOTAL!H$26/100,2)","v":7},{"$f":"ROUND(TOTAL!K$9/'3'!C$13*'3'!C5,2)","v":0},null,348.6,28,null,null,1.44,{"$f":"AD5*100/TOTAL!H$3","v":1.9243618869437391},{"$f":"ROUND(I5*TOTAL!B$14/100,2)","v":16.920000000000002},{"$f":"AE5*TOTAL!B$15/100","v":21.931182680743017},{"$f":"J5*TOTAL!D$16","v":246.34473999999997},285.19592268074302]
[29,"Şerban",2,4,{"$f":"C6","v":2},null,2,1,1.67,69.349999999999994,2,2,{"$f":"K6*TOTAL!D$6","v":8.66},{"$f":"G6*TOTAL!F$7","v":0.8},{"$f":"L6*TOTAL!F$9","v":22},{"$f":"E6*TOTAL!F$12","v":-3.66},{"$f":"ROUND(I6*TOTAL!B$14/100+'3'!AE6*TOTAL!B$15/100+'3'!J6*TOTAL!D$16,2)","v":330.26},{"$f":"F6*TOTAL!J$20","v":0},{"$f":"C6*TOTAL!D$20","v":0.62},{"$f":"G6*TOTAL!F$15","v":12.58},{"$f":"ROUND(C6*TOTAL!C$26,2)","v":19.149999999999999},{"$f":"TOTAL!$F$26","v":0},{"$f":"ROUND(I6*TOTAL!H$26/100,2)","v":8.11},{"$f":"ROUND(TOTAL!K$9/'3'!C$13*'3'!C6,2)","v":0},null,398.52,29,null,null,1.67,{"$f":"AD6*100/TOTAL!H$3","v":2.2317252438861419},{"$f":"ROUND(I6*TOTAL!B$14/100,2)","v":19.62},{"$f":"AE6*TOTAL!B$15/100","v":25.434079914472807},{"$f":"J6*TOTAL!D$16","v":285.20880999999997},330.26288991447279]
[30,"Mihăescu",2,3,{"$f":"C7","v":2},null,2,1,1.44,59.88,3,5,{"$f":"K7*TOTAL!D$6","v":12.99},{"$f":"G7*TOTAL!F$7","v":0.8},{"$f":"L7*TOTAL!F$9","v":55},{"$f":"E7*TOTAL!F$12","v":-3.66},{"$f":"ROUND(I7*TOTAL!B$14/100+'3'!AE7*TOTAL!B$15/100+'3'!J7*TOTAL!D$16,2)","v":285.11},{"$f":"F7*TOTAL!J$20","v":0},{"$f":"C7*TOTAL!D$20","v":0.62},{"$f":"G7*TOTAL!F$15","v":12.58},{"$f":"ROUND(C7*TOTAL!C$26,2)","v":19.149999999999999},{"$f":"TOTAL!$F$26","v":0},{"$f":"ROUND(I7*TOTAL!H$26/100,2)","v":7},{"$f":"ROUND(TOTAL!K$9/'3'!C$13*'3'!C7,2)","v":0},null,389.59,30,null,null,1.44,{"$f":"AD7*100/TOTAL!H$3","v":1.9243618869437391},{"$f":"ROUND(I7*TOTAL!B$14/100,2)","v":16.920000000000002},{"$f":"AE7*TOTAL!B$15/100","v":21.931182680743017},{"$f":"J7*TOTAL!D$16","v":246.26248799999999},285.11367068074298]
[31,"Pop R",1,4,{"$f":"C8","v":1},null,1,1,1.65,68.099999999999994,0,6,{"$f":"K8*TOTAL!D$6","v":0},{"$f":"G8*TOTAL!F$7","v":0.4},{"$f":"L8*TOTAL!F$9","v":66},{"$f":"E8*TOTAL!F$12","v":-1.83},{"$f":"ROUND(I8*TOTAL!B$14/100+'3'!AE8*TOTAL!B$15/100+'3'!J8*TOTAL!D$16,2)","v":324.58},{"$f":"F8*TOTAL!J$20","v":0},{"$f":"C8*TOTAL!D$20","v":0.31},{"$f":"G8*TOTAL!F$15","v":6.29},{"$f":"ROUND(C8*TOTAL!C$26,2)","v":9.58},{"$f":"TOTAL!$F$26","v":0},{"$f":"ROUND(I8*TOTAL!H$26/100,2)","v":8.02},{"$f":"ROUND(TOTAL!K$9/'3'!C$13*'3'!C8,2)","v":0},null,413.34999999999997,31,null,null,1.65,{"$f":"AD8*100/TOTAL!H$3","v":2.2049979954563677},{"$f":"ROUND(I8*TOTAL!B$14/100,2)","v":19.39},{"$f":"AE8*TOTAL!B$15/100","v":25.12948015501804},{"$f":"J8*TOTAL!D$16","v":280.06805999999995},324.58754015501802]
[32,"Lungu",2,3,null,null,2,null,1.44,null,6,0,{"$f":"K9*TOTAL!D$6","v":25.98},{"$f":"G9*TOTAL!F$7","v":0.8},{"$f":"L9*TOTAL!F$9","v":0},{"$f":"E9*TOTAL!F$12","v":0},{"$f":"ROUND(I9*TOTAL!B$14/100+'3'!AE9*TOTAL!B$15/100+'3'!J9*TOTAL!D$16,2)","v":38.85},{"$f":"F9*TOTAL!J$20","v":0},{"$f":"C9*TOTAL!D$20","v":0.62},{"$f":"G9*TOTAL!F$15","v":12.58},{"$f":"ROUND(C9*TOTAL!C$26,2)","v":19.149999999999999},{"$f":"TOTAL!$F$26","v":0},{"$f":"ROUND(I9*TOTAL!H$26/100,2)","v":7},{"$f":"ROUND(TOTAL!K$9/'3'!C$13*'3'!C9,2)","v":0},null,104.97999999999999,32,null,null,1.44,{"$f":"AD9*100/TOTAL!H$3","v":1.9243618869437391},{"$f":"ROUND(I9*TOTAL!B$14/100,2)","v":16.920000000000002},{"$f":"AE9*TOTAL!B$15/100","v":21.931182680743017},{"$f":"J9*TOTAL!D$16","v":0},38.851182680743023]
[33,"Mihuţ",2,4,{"$f":"C10","v":2},null,2,1,1.67,69.349999999999994,3,6,{"$f":"K10*TOTAL!D$6","v":12.99},{"$f":"G10*TOTAL!F$7","v":0.8},{"$f":"L10*TOTAL!F$9","v":66},{"$f":"E10*TOTAL!F$12","v":-3.66},{"$f":"ROUND(I10*TOTAL!B$14/100+'3'!AE10*TOTAL!B$15/100+'3'!J10*TOTAL!D$16,2)","v":330.26},{"$f":"F10*TOTAL!J$20","v":0},{"$f":"C10*TOTAL!D$20","v":0.62},{"$f":"G10*TOTAL!F$15","v":12.58},{"$f":"ROUND(C10*TOTAL!C$26,2)","v":19.149999999999999},{"$f":"TOTAL!$F$26","v":0},{"$f":"ROUND(I10*TOTAL!H$26/100,2)","v":8.11},{"$f":"ROUND(TOTAL!K$9/'3'!C$13*'3'!C10,2)","v":0},null,446.84999999999997,33,null,null,1.67,{"$f":"AD10*100/TOTAL!H$3","v":2.2317252438861419},{"$f":"ROUND(I10*TOTAL!B$14/100,2)","v":19.62},{"$f":"AE10*TOTAL!B$15/100","v":25.434079914472807},{"$f":"J10*TOTAL!D$16","v":285.20880999999997},330.26288991447279]
[34,"Postescu",2,3,null,null,2,null,1.44,null,8,0,{"$f":"K11*TOTAL!D$6","v":34.64},{"$f":"G11*TOTAL!F$7","v":0.8},{"$f":"L11*TOTAL!F$9","v":0},{"$f":"E11*TOTAL!F$12","v":0},{"$f":"ROUND(I11*TOTAL!B$14/100+'3'!AE11*TOTAL!B$15/100+'3'!J11*TOTAL!D$16,2)","v":38.85},{"$f":"F11*TOTAL!J$20","v":0},{"$f":"C11*TOTAL!D$20","v":0.62},{"$f":"G11*TOTAL!F$15","v":12.58},{"$f":"ROUND(C11*TOTAL!C$26,2)","v":19.149999999999999},{"$f":"TOTAL!$F$26","v":0},{"$f":"ROUND(I11*TOTAL!H$26/100,2)","v":7},{"$f":"ROUND(TOTAL!K$9/'3'!C$13*'3'!C11,2)","v":0},null,113.63999999999999,34,null,null,1.44,{"$f":"AD11*100/TOTAL!H$3","v":1.9243618869437391},{"$f":"ROUND(I11*TOTAL!B$14/100,2)","v":16.920000000000002},{"$f":"AE11*TOTAL!B$15/100","v":21.931182680743017},{"$f":"J11*TOTAL!D$16","v":0},38.851182680743023]
[35,"Goia",2,4,{"$f":"C12","v":2},null,2,1,1.67,69.349999999999994,1,2,{"$f":"K12*TOTAL!D$6","v":4.33},{"$f":"G12*TOTAL!F$7","v":0.8},{"$f":"L12*TOTAL!F$9","v":22},{"$f":"E12*TOTAL!F$12","v":-3.66},{"$f":"ROUND(I12*TOTAL!B$14/100+'3'!AE12*TOTAL!B$15/100+'3'!J12*TOTAL!D$16,2)","v":330.26},{"$f":"F12*TOTAL!J$20","v":0},{"$f":"C12*TOTAL!D$20","v":0.62},{"$f":"G12*TOTAL!F$15","v":12.58},{"$f":"ROUND(C12*TOTAL!C$26,2)","v":19.149999999999999},{"$f":"TOTAL!$F$26","v":0},{"$f":"ROUND(I12*TOTAL!H$26/100,2)","v":8.11},{"$f":"ROUND(TOTAL!K$9/'3'!C$13*'3'!C12,2)","v":0},null,394.19,35,null,null,1.67,{"$f":"AD12*100/TOTAL!H$3","v":2.2317252438861419},{"$f":"ROUND(I12*TOTAL!B$14/100,2)","v":19.62},{"$f":"AE12*TOTAL!B$15/100","v":25.434079914472807},{"$f":"J12*TOTAL!D$16","v":285.20880999999997},330.26288991447279]
[null,null,{"$f":"SUM(C3:C12)","v":18},34,10,1,17,7,15.339999999999998,395.93000000000006,39,24,168.87000000000003,6.8,264,-18.3,2042.1399999999999,0,5.58,106.92999999999999,172.37,0,74.53,0,0,2822.92,null,null,{"$f":"SUM(M13:X13)-Y13","v":2822.9199999999996},{"$f":"SUM(AD3:AD12)","v":15.339999999999998},{"$f":"SUM(AE3:AE12)","v":20.499799545636776},{"$f":"SUM(AF3:AF12)","v":180.23000000000002},{"$f":"SUM(AG3:AG12)","v":233.6280155018041},{"$f":"SUM(AH3:AH12)","v":1628.3017180000002},{"$f":"SUM(AI2:AI12)","v":2042.1597335018041}]
[null,null,null,null,null,null,null,null,null,null,null,null,"Presedinte",null,"Sef Comisie Cenzori",null,null,null,"Contabil"]
[]
[]
[null,"Pentru completarea cartii de imobil locatarii sunt rugati sa aduca o copie xerox dupa buletin, CI , certficat de nastere pt copii."]
[null,"De la toti care stau efectiv in apartament indiferent de calitate, proprietar, chirias cu flotant sau fara flotant."]

{"sheet":"4","index":3,"n_rows":18,"n_cols":35,"rows_kept":18,"cut":false,"hidden":false,"merged":[]}
[null,null,null,null,null,null,null,null,null,null,"Cons apă",null,"Apă rece",null,"Apă caldă"]
["Nr ap","Locatar","Nr pers","Nr cam","Fără CT","Fără contor gaz","Salubritate","Ap fara CT","Cota","Supraf","rece","caldă","Val","Dif","Val","Dif","Încălz","Gaz metan","Energ elect","Salubr","Diverse pers","Diverse apart","Diverse cota","Diverse scara","Compen","TOTAL","Ap",null,null,"Cota incalz"]
[36,"Dodu",2,3,2,0,{"$f":"C3","v":2},1,1.44,59.9,3,4,{"$f":"K3*TOTAL!D$6","v":12.99},{"$f":"G3*TOTAL!F$7","v":0.8},{"$f":"L3*TOTAL!F$9","v":44},{"$f":"E3*TOTAL!F$12","v":-3.66},{"$f":"ROUND(I3*TOTAL!B$14/100+'4'!AE3*TOTAL!B$15/100+'4'!J3*TOTAL!D$16,2)","v":285.19},{"$f":"F3*TOTAL!J$21","v":0},{"$f":"C3*TOTAL!D$21","v":0.4},{"$f":"G3*TOTAL!F$15","v":12.58},{"$f":"ROUND(C3*TOTAL!C$26,2)","v":19.149999999999999},{"$f":"TOTAL!$F$26","v":0},{"$f":"ROUND(I3*TOTAL!H$26/100,2)","v":7},{"$f":"ROUND(TOTAL!K$11/'4'!C$13*'4'!C3,2)","v":0},null,{"$f":"SUM(M3:X3)-Y3","v":378.44999999999993},{"$f":"A3","v":36},null,null,1.44,{"$f":"AD3*100/TOTAL!H$3","v":1.9243618869437391},{"$f":"ROUND(I3*TOTAL!B$14/100,2)","v":16.920000000000002},{"$f":"AE3*TOTAL!B$15/100","v":21.931182680743017},{"$f":"J3*TOTAL!D$16","v":246.34473999999997},{"$f":"SUM(AF3:AH3)","v":285.19592268074302}]
[{"$f":"A3+1","v":37},"Drăghici",2,2,null,0,{"$f":"C4","v":2},null,1.1299999999999999,null,15,0,{"$f":"K4*TOTAL!D$6","v":64.95},{"$f":"G4*TOTAL!F$7","v":0.8},{"$f":"L4*TOTAL!F$9","v":0},{"$f":"E4*TOTAL!F$12","v":0},{"$f":"ROUND(I4*TOTAL!B$14/100+'4'!AE4*TOTAL!B$15/100+'4'!J4*TOTAL!D$16,2)","v":30.49},{"$f":"F4*TOTAL!J$21","v":0},{"$f":"C4*TOTAL!D$21","v":0.4},{"$f":"G4*TOTAL!F$15","v":12.58},{"$f":"ROUND(C4*TOTAL!C$26,2)","v":19.149999999999999},{"$f":"TOTAL!$F$26","v":0},{"$f":"ROUND(I4*TOTAL!H$26/100,2)","v":5.49},{"$f":"ROUND(TOTAL!K$11/'4'!C$13*'4'!C4,2)","v":0},null,133.86000000000001,37,null,null,1.1299999999999999,{"$f":"AD4*100/TOTAL!H$3","v":1.5100895362822395},{"$f":"ROUND(I4*TOTAL!B$14/100,2)","v":13.28},{"$f":"AE4*TOTAL!B$15/100","v":17.209886409194173},{"$f":"J4*TOTAL!D$16","v":0},30.48988640919417]
[38,"Néda",2,3,{"$f":"C5","v":2},null,2,1,1.44,59.9,5,7,{"$f":"K5*TOTAL!D$6","v":21.65},{"$f":"G5*TOTAL!F$7","v":0.8},{"$f":"L5*TOTAL!F$9","v":77},{"$f":"E5*TOTAL!F$12","v":-3.66},{"$f":"ROUND(I5*TOTAL!B$14/100+'4'!AE5*TOTAL!B$15/100+'4'!J5*TOTAL!D$16,2)","v":285.19},{"$f":"F5*TOTAL!J$21","v":0},{"$f":"C5*TOTAL!D$21","v":0.4},{"$f":"G5*TOTAL!F$15","v":12.58},{"$f":"ROUND(C5*TOTAL!C$26,2)","v":19.149999999999999},{"$f":"TOTAL!$F$26","v":0},{"$f":"ROUND(I5*TOTAL!H$26/100,2)","v":7},{"$f":"ROUND(TOTAL!K$11/'4'!C$13*'4'!C5,2)","v":0},null,420.10999999999996,38,null,null,1.44,{"$f":"AD5*100/TOTAL!H$3","v":1.9243618869437391},{"$f":"ROUND(I5*TOTAL!B$14/100,2)","v":16.920000000000002},{"$f":"AE5*TOTAL!B$15/100","v":21.931182680743017},{"$f":"J5*TOTAL!D$16","v":246.34473999999997},285.19592268074302]
[39,"Vornicescu",2,4,null,null,2,null,1.67,null,10,0,{"$f":"K6*TOTAL!D$6","v":43.3},{"$f":"G6*TOTAL!F$7","v":0.8},{"$f":"L6*TOTAL!F$9","v":0},{"$f":"E6*TOTAL!F$12","v":0},{"$f":"ROUND(I6*TOTAL!B$14/100+'4'!AE6*TOTAL!B$15/100+'4'!J6*TOTAL!D$16,2)","v":45.06},{"$f":"F6*TOTAL!J$21","v":0},{"$f":"C6*TOTAL!D$21","v":0.4},{"$f":"G6*TOTAL!F$15","v":12.58},{"$f":"ROUND(C6*TOTAL!C$26,2)","v":19.149999999999999},{"$f":"TOTAL!$F$26","v":0},{"$f":"ROUND(I6*TOTAL!H$26/100,2)","v":8.11},{"$f":"ROUND(TOTAL!K$11/'4'!C$13*'4'!C6,2)","v":0},null,129.39999999999998,39,null,null,1.67,{"$f":"AD6*100/TOTAL!H$3","v":2.2317252438861419},{"$f":"ROUND(I6*TOTAL!B$14/100,2)","v":19.62},{"$f":"AE6*TOTAL!B$15/100","v":25.434079914472807},{"$f":"J6*TOTAL!D$16","v":0},45.054079914472808]
[40,"Sparleanu",2,3,null,null,2,null,1.44,null,9,0,{"$f":"K7*TOTAL!D$6","v":38.97},{"$f":"G7*TOTAL!F$7","v":0.8},{"$f":"L7*TOTAL!F$9","v":0},{"$f":"E7*TOTAL!F$12","v":0},{"$f":"ROUND(I7*TOTAL!B$14/100+'4'!AE7*TOTAL!B$15/100+'4'!J7*TOTAL!D$16,2)","v":16.920000000000002},{"$f":"F7*TOTAL!J$21","v":0},{"$f":"C7*TOTAL!D$21","v":0.4},{"$f":"G7*TOTAL!F$15","v":12.58},{"$f":"ROUND(C7*TOTAL!C$26,2)","v":19.149999999999999},{"$f":"TOTAL!$F$26","v":0},{"$f":"ROUND(I7*TOTAL!H$26/100,2)","v":7},{"$f":"ROUND(TOTAL!K$11/'4'!C$13*'4'!C7,2)","v":0},null,95.82,40,null,null,null,{"$f":"AD7*100/TOTAL!H$3","v":0},{"$f":"ROUND(I7*TOTAL!B$14/100,2)","v":16.920000000000002},{"$f":"AE7*TOTAL!B$15/100","v":0},{"$f":"J7*TOTAL!D$16","v":0},16.920000000000002]
[41,"Raboca",3,4,{"$f":"C8","v":3},{"$f":"C8","v":3},3,1,1.65,68.099999999999994,4,5,{"$f":"K8*TOTAL!D$6","v":17.32},{"$f":"G8*TOTAL!F$7","v":1.2000000000000002},{"$f":"L8*TOTAL!F$9","v":55},{"$f":"E8*TOTAL!F$12","v":-5.49},{"$f":"ROUND(I8*TOTAL!B$14/100+'4'!AE8*TOTAL!B$15/100+'4'!J8*TOTAL!D$16,2)","v":324.58},{"$f":"F8*TOTAL!J$21","v":42.480000000000004},{"$f":"C8*TOTAL!D$21","v":0.60000000000000009},{"$f":"G8*TOTAL!F$15","v":18.87},{"$f":"ROUND(C8*TOTAL!C$26,2)","v":28.73},{"$f":"TOTAL!$F$26","v":0},{"$f":"ROUND(I8*TOTAL!H$26/100,2)","v":8.02},{"$f":"ROUND(TOTAL!K$11/'4'!C$13*'4'!C8,2)","v":0},null,491.31000000000006,41,null,null,1.65,{"$f":"AD8*100/TOTAL!H$3","v":2.2049979954563677},{"$f":"ROUND(I8*TOTAL!B$14/100,2)","v":19.39},{"$f":"AE8*TOTAL!B$15/100","v":25.12948015501804},{"$f":"J8*TOTAL!D$16","v":280.06805999999995},324.58754015501802]
[42,"Negru",2,3,null,null,2,null,1.44,null,10,0,{"$f":"K9*TOTAL!D$6","v":43.3},{"$f":"G9*TOTAL!F$7","v":0.8},{"$f":"L9*TOTAL!F$9","v":0},{"$f":"E9*TOTAL!F$12","v":0},{"$f":"ROUND(I9*TOTAL!B$14/100+'4'!AE9*TOTAL!B$15/100+'4'!J9*TOTAL!D$16,2)","v":16.920000000000002},{"$f":"F9*TOTAL!J$21","v":0},{"$f":"C9*TOTAL!D$21","v":0.4},{"$f":"G9*TOTAL!F$15","v":12.58},{"$f":"ROUND(C9*TOTAL!C$26,2)","v":19.149999999999999},{"$f":"TOTAL!$F$26","v":0},{"$f":"ROUND(I9*TOTAL!H$26/100,2)","v":7},{"$f":"ROUND(TOTAL!K$11/'4'!C$13*'4'!C9,2)","v":0},null,100.15,42,null,null,null,{"$f":"AD9*100/TOTAL!H$3","v":0},{"$f":"ROUND(I9*TOTAL!B$14/100,2)","v":16.920000000000002},{"$f":"AE9*TOTAL!B$15/100","v":0},{"$f":"J9*TOTAL!D$16","v":0},16.920000000000002]
[43,"Roşescu",4,4,null,null,4,null,1.67,null,8,0,{"$f":"K10*TOTAL!D$6","v":34.64},{"$f":"G10*TOTAL!F$7","v":1.6},{"$f":"L10*TOTAL!F$9","v":0},{"$f":"E10*TOTAL!F$12","v":0},{"$f":"ROUND(I10*TOTAL!B$14/100+'4'!AE10*TOTAL!B$15/100+'4'!J10*TOTAL!D$16,2)","v":45.06},{"$f":"F10*TOTAL!J$21","v":0},{"$f":"C10*TOTAL!D$21","v":0.8},{"$f":"G10*TOTAL!F$15","v":25.16},{"$f":"ROUND(C10*TOTAL!C$26,2)","v":38.31},{"$f":"TOTAL!$F$26","v":0},{"$f":"ROUND(I10*TOTAL!H$26/100,2)","v":8.11},{"$f":"ROUND(TOTAL!K$11/'4'!C$13*'4'!C10,2)","v":0},null,153.68,43,null,null,1.67,{"$f":"AD10*100/TOTAL!H$3","v":2.2317252438861419},{"$f":"ROUND(I10*TOTAL!B$14/100,2)","v":19.62},{"$f":"AE10*TOTAL!B$15/100","v":25.434079914472807},{"$f":"J10*TOTAL!D$16","v":0},45.054079914472808]
[44,"Ursu",2,3,null,null,2,null,1.44,null,4,0,{"$f":"K11*TOTAL!D$6","v":17.32},{"$f":"G11*TOTAL!F$7","v":0.8},{"$f":"L11*TOTAL!F$9","v":0},{"$f":"E11*TOTAL!F$12","v":0},{"$f":"ROUND(I11*TOTAL!B$14/100+'4'!AE11*TOTAL!B$15/100+'4'!J11*TOTAL!D$16,2)","v":16.920000000000002},{"$f":"F11*TOTAL!J$21","v":0},{"$f":"C11*TOTAL!D$21","v":0.4},{"$f":"G11*TOTAL!F$15","v":12.58},{"$f":"ROUND(C11*TOTAL!C$26,2)","v":19.149999999999999},{"$f":"TOTAL!$F$26","v":0},{"$f":"ROUND(I11*TOTAL!H$26/100,2)","v":7},{"$f":"ROUND(TOTAL!K$11/'4'!C$13*'4'!C11,2)","v":0},null,74.17,44,null,null,null,{"$f":"AD11*100/TOTAL!H$3","v":0},{"$f":"ROUND(I11*TOTAL!B$14/100,2)","v":16.920000000000002},{"$f":"AE11*TOTAL!B$15/100","v":0},{"$f":"J11*TOTAL!D$16","v":0},16.920000000000002]
[45,"Săcui",2,4,null,null,2,null,1.67,null,3,0,{"$f":"K12*TOTAL!D$6","v":12.99},{"$f":"G12*TOTAL!F$7","v":0.8},{"$f":"L12*TOTAL!F$9","v":0},{"$f":"E12*TOTAL!F$12","v":0},{"$f":"ROUND(I12*TOTAL!B$14/100+'4'!AE12*TOTAL!B$15/100+'4'!J12*TOTAL!D$16,2)","v":45.06},{"$f":"F12*TOTAL!J$21","v":0},{"$f":"C12*TOTAL!D$21","v":0.4},{"$f":"G12*TOTAL!F$15","v":12.58},{"$f":"ROUND(C12*TOTAL!C$26,2)","v":19.149999999999999},{"$f":"TOTAL!$F$26","v":0},{"$f":"ROUND(I12*TOTAL!H$26/100,2)","v":8.11},{"$f":"ROUND(TOTAL!K$11/'4'!C$13*'4'!C12,2)","v":0},null,99.089999999999989,45,null,null,1.67,{"$f":"AD12*100/TOTAL!H$3","v":2.2317252438861419},{"$f":"ROUND(I12*TOTAL!B$14/100,2)","v":19.62},{"$f":"AE12*TOTAL!B$15/100","v":25.434079914472807},{"$f":"J12*TOTAL!D$16","v":0},45.054079914472808]
[null,null,{"$f":"SUM(C3:C12)","v":23},33,7,3,23,3,14.989999999999998,187.89999999999998,71,16,307.42999999999995,9.2000000000000011,176,-12.81,1111.3900000000001,42.480000000000004,4.6000000000000005,144.67000000000002,220.24,0,72.84,0,0,2076.04,null,null,{"$f":"SUM(M13:X13)-Y13","v":2076.04},{"$f":"SUM(AD3:AD12)","v":10.67},{"$f":"SUM(AE3:AE12)","v":14.258987037284513},{"$f":"SUM(AF3:AF12)","v":176.13},{"$f":"SUM(AG3:AG12)","v":162.50397166911668},{"$f":"SUM(AH3:AH12)","v":772.75753999999984},{"$f":"SUM(AI2:AI12)","v":1111.3915116691167}]
[null,null,null,null,null,null,null,null,null,null,null,null,"Presedinte",null,"Sef Comisie Cenzori",null,null,null,"Contabil"]
[]
[]
[null,"Pentru completarea cartii de imobil locatarii sunt rugati sa aduca o copie xerox dupa buletin, CI , certficat de nastere pt copii."]
[null,"De la toti care stau efectiv in apartament indiferent de calitate, proprietar, chirias cu flotant sau fara flotant."]

{"sheet":"5","index":4,"n_rows":18,"n_cols":35,"rows_kept":18,"cut":false,"hidden":false,"merged":[]}
[null,null,null,null,null,null,null,null,null,null,"Cons apă",null,"Apă rece",null,"Apă caldă"]
["Nr ap","Locatar","Nr pers","Nr cam","Fără CT","Fără contor gaz","Salubritate","Ap fara CT","Cota","Supraf","rece","caldă","Val","Dif","Val","Dif","Încălz","Gaz metan","Energ elect","Salubr","Diverse pers","Diverse apart","Diverse cota","Diverse scara","Compen","TOTAL","Ap",null,null,"Cota incalz"]
[46,"Mărinceanu",2,3,{"$f":"C3","v":2},{"$f":"C3","v":2},{"$f":"C3","v":2},1,1.44,59.83,5,5,{"$f":"K3*TOTAL!D$6","v":21.65},{"$f":"G3*TOTAL!F$7","v":0.8},{"$f":"L3*TOTAL!F$9","v":55},{"$f":"E3*TOTAL!F$12","v":-3.66},{"$f":"ROUND(I3*TOTAL!B$14/100+'5'!AE3*TOTAL!B$15/100+'5'!J3*TOTAL!D$16,2)","v":284.91000000000003},{"$f":"F3*TOTAL!J$22","v":19.079999999999998},{"$f":"C3*TOTAL!D$22","v":1.1599999999999999},{"$f":"G3*TOTAL!F$15","v":12.58},{"$f":"ROUND(C3*TOTAL!C$26,2)","v":19.149999999999999},{"$f":"TOTAL!$F$26","v":0},{"$f":"ROUND(I3*TOTAL!H$26/100,2)","v":7},{"$f":"ROUND(TOTAL!K$13/'5'!C$13*'5'!C3,2)","v":0},null,{"$f":"SUM(M3:X3)-Y3","v":417.67},{"$f":"A3","v":46},null,null,1.44,{"$f":"AD3*100/TOTAL!H$3","v":1.9243618869437391},{"$f":"ROUND(I3*TOTAL!B$14/100,2)","v":16.920000000000002},{"$f":"AE3*TOTAL!B$15/100","v":21.931182680743017},{"$f":"J3*TOTAL!D$16","v":246.05685799999998},{"$f":"SUM(AF3:AH3)","v":284.908040680743}]
[{"$f":"A3+1","v":47},"Ricean",2,3,null,null,{"$f":"C4","v":2},null,1.45,null,9,0,{"$f":"K4*TOTAL!D$6","v":38.97},{"$f":"G4*TOTAL!F$7","v":0.8},{"$f":"L4*TOTAL!F$9","v":0},{"$f":"E4*TOTAL!F$12","v":0},{"$f":"ROUND(I4*TOTAL!B$14/100+'5'!AE4*TOTAL!B$15/100+'5'!J4*TOTAL!D$16,2)","v":39.119999999999997},{"$f":"F4*TOTAL!J$22","v":0},{"$f":"C4*TOTAL!D$22","v":1.1599999999999999},{"$f":"G4*TOTAL!F$15","v":12.58},{"$f":"ROUND(C4*TOTAL!C$26,2)","v":19.149999999999999},{"$f":"TOTAL!$F$26","v":0},{"$f":"ROUND(I4*TOTAL!H$26/100,2)","v":7.04},{"$f":"ROUND(TOTAL!K$13/'5'!C$13*'5'!C4,2)","v":0},null,118.81999999999998,47,null,null,1.45,{"$f":"AD4*100/TOTAL!H$3","v":1.9377255111586262},{"$f":"ROUND(I4*TOTAL!B$14/100,2)","v":17.04},{"$f":"AE4*TOTAL!B$15/100","v":22.083482560470401},{"$f":"J4*TOTAL!D$16","v":0},39.1234825604704]
[48,"Sabo",1,3,{"$f":"C5","v":1},3,1,1,1.44,59.88,5,4,{"$f":"K5*TOTAL!D$6","v":21.65},{"$f":"G5*TOTAL!F$7","v":0.4},{"$f":"L5*TOTAL!F$9","v":44},{"$f":"E5*TOTAL!F$12","v":-1.83},{"$f":"ROUND(I5*TOTAL!B$14/100+'5'!AE5*TOTAL!B$15/100+'5'!J5*TOTAL!D$16,2)","v":285.11},{"$f":"F5*TOTAL!J$22","v":28.619999999999997},{"$f":"C5*TOTAL!D$22","v":0.57999999999999996},{"$f":"G5*TOTAL!F$15","v":6.29},{"$f":"ROUND(C5*TOTAL!C$26,2)","v":9.58},{"$f":"TOTAL!$F$26","v":0},{"$f":"ROUND(I5*TOTAL!H$26/100,2)","v":7},{"$f":"ROUND(TOTAL!K$13/'5'!C$13*'5'!C5,2)","v":0},59.03,342.37,48,null,null,1.44,{"$f":"AD5*100/TOTAL!H$3","v":1.9243618869437391},{"$f":"ROUND(I5*TOTAL!B$14/100,2)","v":16.920000000000002},{"$f":"AE5*TOTAL!B$15/100","v":21.931182680743017},{"$f":"J5*TOTAL!D$16","v":246.26248799999999},285.11367068074298]
[49,"Câmpan",2,4,2,2,2,1,1.65,68.099999999999994,5,2,{"$f":"K6*TOTAL!D$6","v":21.65},{"$f":"G6*TOTAL!F$7","v":0.8},{"$f":"L6*TOTAL!F$9","v":22},{"$f":"E6*TOTAL!F$12","v":-3.66},{"$f":"ROUND(I6*TOTAL!B$14/100+'5'!AE6*TOTAL!B$15/100+'5'!J6*TOTAL!D$16,2)","v":324.58},{"$f":"F6*TOTAL!J$22","v":19.079999999999998},{"$f":"C6*TOTAL!D$22","v":1.1599999999999999},{"$f":"G6*TOTAL!F$15","v":12.58},{"$f":"ROUND(C6*TOTAL!C$26,2)","v":19.149999999999999},{"$f":"TOTAL!$F$26","v":0},{"$f":"ROUND(I6*TOTAL!H$26/100,2)","v":8.02},{"$f":"ROUND(TOTAL!K$13/'5'!C$13*'5'!C6,2)","v":0},null,425.35999999999996,49,null,null,1.65,{"$f":"AD6*100/TOTAL!H$3","v":2.2049979954563677},{"$f":"ROUND(I6*TOTAL!B$14/100,2)","v":19.39},{"$f":"AE6*TOTAL!B$15/100","v":25.12948015501804},{"$f":"J6*TOTAL!D$16","v":280.06805999999995},324.58754015501802]
[50,"Tudoran",3,3,3,{"$f":"C7","v":3},3,1,1.44,56.67,9,10,{"$f":"K7*TOTAL!D$6","v":38.97},{"$f":"G7*TOTAL!F$7","v":1.2000000000000002},{"$f":"L7*TOTAL!F$9","v":110},{"$f":"E7*TOTAL!F$12","v":-5.49},{"$f":"ROUND(I7*TOTAL!B$14/100+'5'!AE7*TOTAL!B$15/100+'5'!J7*TOTAL!D$16,2)","v":271.91000000000003},{"$f":"F7*TOTAL!J$22","v":28.619999999999997},{"$f":"C7*TOTAL!D$22","v":1.7399999999999998},{"$f":"G7*TOTAL!F$15","v":18.87},{"$f":"ROUND(C7*TOTAL!C$26,2)","v":28.73},{"$f":"TOTAL!$F$26","v":0},{"$f":"ROUND(I7*TOTAL!H$26/100,2)","v":7},{"$f":"ROUND(TOTAL!K$13/'5'!C$13*'5'!C7,2)","v":0},null,501.55000000000007,50,null,null,1.44,{"$f":"AD7*100/TOTAL!H$3","v":1.9243618869437391},{"$f":"ROUND(I7*TOTAL!B$14/100,2)","v":16.920000000000002},{"$f":"AE7*TOTAL!B$15/100","v":21.931182680743017},{"$f":"J7*TOTAL!D$16","v":233.06104199999999},271.91222468074301]
[51,"Ciubotariu",2,4,2,2,2,1,1.67,69.349999999999994,6,5,{"$f":"K8*TOTAL!D$6","v":25.98},{"$f":"G8*TOTAL!F$7","v":0.8},{"$f":"L8*TOTAL!F$9","v":55},{"$f":"E8*TOTAL!F$12","v":-3.66},{"$f":"ROUND(I8*TOTAL!B$14/100+'5'!AE8*TOTAL!B$15/100+'5'!J8*TOTAL!D$16,2)","v":330.26},{"$f":"F8*TOTAL!J$22","v":19.079999999999998},{"$f":"C8*TOTAL!D$22","v":1.1599999999999999},{"$f":"G8*TOTAL!F$15","v":12.58},{"$f":"ROUND(C8*TOTAL!C$26,2)","v":19.149999999999999},{"$f":"TOTAL!$F$26","v":0},{"$f":"ROUND(I8*TOTAL!H$26/100,2)","v":8.11},{"$f":"ROUND(TOTAL!K$13/'5'!C$13*'5'!C8,2)","v":0},null,468.46,51,null,null,1.67,{"$f":"AD8*100/TOTAL!H$3","v":2.2317252438861419},{"$f":"ROUND(I8*TOTAL!B$14/100,2)","v":19.62},{"$f":"AE8*TOTAL!B$15/100","v":25.434079914472807},{"$f":"J8*TOTAL!D$16","v":285.20880999999997},330.26288991447279]
[52,"Cristea",2,3,2,2,2,1,1.44,59.9,0,3,{"$f":"K9*TOTAL!D$6","v":0},{"$f":"G9*TOTAL!F$7","v":0.8},{"$f":"L9*TOTAL!F$9","v":33},{"$f":"E9*TOTAL!F$12","v":-3.66},{"$f":"ROUND(I9*TOTAL!B$14/100+'5'!AE9*TOTAL!B$15/100+'5'!J9*TOTAL!D$16,2)","v":285.19},{"$f":"F9*TOTAL!J$22","v":19.079999999999998},{"$f":"C9*TOTAL!D$22","v":1.1599999999999999},{"$f":"G9*TOTAL!F$15","v":12.58},{"$f":"ROUND(C9*TOTAL!C$26,2)","v":19.149999999999999},{"$f":"TOTAL!$F$26","v":0},{"$f":"ROUND(I9*TOTAL!H$26/100,2)","v":7},{"$f":"ROUND(TOTAL!K$13/'5'!C$13*'5'!C9,2)","v":0},null,374.29999999999995,52,null,null,1.44,{"$f":"AD9*100/TOTAL!H$3","v":1.9243618869437391},{"$f":"ROUND(I9*TOTAL!B$14/100,2)","v":16.920000000000002},{"$f":"AE9*TOTAL!B$15/100","v":21.931182680743017},{"$f":"J9*TOTAL!D$16","v":246.34473999999997},285.19592268074302]
[53,"Stănescu",1,4,1,1,1,1,1.67,69.349999999999994,2,2,{"$f":"K10*TOTAL!D$6","v":8.66},{"$f":"G10*TOTAL!F$7","v":0.4},{"$f":"L10*TOTAL!F$9","v":22},{"$f":"E10*TOTAL!F$12","v":-1.83},{"$f":"ROUND(I10*TOTAL!B$14/100+'5'!AE10*TOTAL!B$15/100+'5'!J10*TOTAL!D$16,2)","v":330.26},{"$f":"F10*TOTAL!J$22","v":9.5399999999999991},{"$f":"C10*TOTAL!D$22","v":0.57999999999999996},{"$f":"G10*TOTAL!F$15","v":6.29},{"$f":"ROUND(C10*TOTAL!C$26,2)","v":9.58},{"$f":"TOTAL!$F$26","v":0},{"$f":"ROUND(I10*TOTAL!H$26/100,2)","v":8.11},{"$f":"ROUND(TOTAL!K$13/'5'!C$13*'5'!C10,2)","v":0},null,393.59000000000003,53,null,null,1.67,{"$f":"AD10*100/TOTAL!H$3","v":2.2317252438861419},{"$f":"ROUND(I10*TOTAL!B$14/100,2)","v":19.62},{"$f":"AE10*TOTAL!B$15/100","v":25.434079914472807},{"$f":"J10*TOTAL!D$16","v":285.20880999999997},330.26288991447279]
[54,"Dejeu",1,3,1,1,1,1,1.44,59.9,4,4,{"$f":"K11*TOTAL!D$6","v":17.32},{"$f":"G11*TOTAL!F$7","v":0.4},{"$f":"L11*TOTAL!F$9","v":44},{"$f":"E11*TOTAL!F$12","v":-1.83},{"$f":"ROUND(I11*TOTAL!B$14/100+'5'!AE11*TOTAL!B$15/100+'5'!J11*TOTAL!D$16,2)","v":285.19},{"$f":"F11*TOTAL!J$22","v":9.5399999999999991},{"$f":"C11*TOTAL!D$22","v":0.57999999999999996},{"$f":"G11*TOTAL!F$15","v":6.29},{"$f":"ROUND(C11*TOTAL!C$26,2)","v":9.58},{"$f":"TOTAL!$F$26","v":0},{"$f":"ROUND(I11*TOTAL!H$26/100,2)","v":7},{"$f":"ROUND(TOTAL!K$13/'5'!C$13*'5'!C11,2)","v":0},null,378.07,54,null,null,1.44,{"$f":"AD11*100/TOTAL!H$3","v":1.9243618869437391},{"$f":"ROUND(I11*TOTAL!B$14/100,2)","v":16.920000000000002},{"$f":"AE11*TOTAL!B$15/100","v":21.931182680743017},{"$f":"J11*TOTAL!D$16","v":246.34473999999997},285.19592268074302]
[55,"Feşnic",6,4,6,6,6,1,1.67,69.349999999999994,8,9,{"$f":"K12*TOTAL!D$6","v":34.64},{"$f":"G12*TOTAL!F$7","v":2.4000000000000004},{"$f":"L12*TOTAL!F$9","v":99},{"$f":"E12*TOTAL!F$12","v":-10.98},{"$f":"ROUND(I12*TOTAL!B$14/100+'5'!AE12*TOTAL!B$15/100+'5'!J12*TOTAL!D$16,2)","v":330.26},{"$f":"F12*TOTAL!J$22","v":57.239999999999995},{"$f":"C12*TOTAL!D$22","v":3.4799999999999995},{"$f":"G12*TOTAL!F$15","v":37.74},{"$f":"ROUND(C12*TOTAL!C$26,2)","v":57.46},{"$f":"TOTAL!$F$26","v":0},{"$f":"ROUND(I12*TOTAL!H$26/100,2)","v":8.11},{"$f":"ROUND(TOTAL!K$13/'5'!C$13*'5'!C12,2)","v":0},null,619.35,55,null,null,1.67,{"$f":"AD12*100/TOTAL!H$3","v":2.2317252438861419},{"$f":"ROUND(I12*TOTAL!B$14/100,2)","v":19.62},{"$f":"AE12*TOTAL!B$15/100","v":25.434079914472807},{"$f":"J12*TOTAL!D$16","v":285.20880999999997},330.26288991447279]
[null,null,{"$f":"SUM(C3:C12)","v":22},34,20,22,22,9,15.309999999999999,572.33000000000004,53,44,229.48999999999995,8.8000000000000007,484,-36.599999999999994,2766.79,209.88,12.759999999999998,138.38000000000002,210.68000000000004,0,74.39,0,59.03,4039.54,null,null,{"$f":"SUM(M13:X13)-Y13","v":4039.5400000000004},{"$f":"SUM(AD3:AD12)","v":15.309999999999999},{"$f":"SUM(AE3:AE12)","v":20.459708672992114},{"$f":"SUM(AF3:AF12)","v":179.89000000000004},{"$f":"SUM(AG3:AG12)","v":233.17111586262197},{"$f":"SUM(AH3:AH12)","v":2353.7643579999999},{"$f":"SUM(AI2:AI12)","v":2766.8254738626219}]
[null,null,null,null,null,null,null,null,null,null,null,null,"Presedinte",null,"Sef Comisie Cenzori",null,null,null,"Contabil"]
[]
[]
[null,"Pentru completarea cartii de imobil locatarii sunt rugati sa aduca o copie xerox dupa buletin, CI , certficat de nastere pt copii."]
[null,"De la toti care stau efectiv in apartament indiferent de calitate, proprietar, chirias cu flotant sau fara flotant."]

{"sheet":"6","index":5,"n_rows":23,"n_cols":35,"rows_kept":23,"cut":false,"hidden":false,"merged":[]}
[null,null,null,null,null,null,null,null,null,null,"Cons apă",null,"Apă rece",null,"Apă caldă"]
["Nr ap","Locatar","Nr pers","Nr cam","Fără CT ","Fără contor gaz","Salubritate","Ap fara CT","Cota","Supraf","rece","caldă","Val","Dif","Val","Dif","Încălz","Gaz metan","Energ elect","Salubr","Diverse pers","Diverse apart","Diverse cota","Diverse scara","Compen","TOTAL","Ap",null,null,"Cota incalz"]
[56,"Fonoage",1,2,0,1,0,1,1.1299999999999999,46.53,0,0,{"$f":"K3*TOTAL!D$6","v":0},{"$f":"G3*TOTAL!F$7","v":0},{"$f":"L3*TOTAL!F$9","v":0},{"$f":"E3*TOTAL!F$12","v":0},{"$f":"ROUND(I3*TOTAL!B$14/100+'6'!AE3*TOTAL!B$15/100+'6'!J3*TOTAL!D$16,2)","v":221.85},{"$f":"F3*TOTAL!J$23","v":52.45},{"$f":"C3*TOTAL!D$23","v":0.24},{"$f":"G3*TOTAL!F$15","v":0},{"$f":"ROUND(C3*TOTAL!C$26,2)","v":9.58},{"$f":"TOTAL!$F$26","v":0},{"$f":"ROUND(I3*TOTAL!H$26/100,2)","v":5.49},{"$f":"ROUND(TOTAL!K$15/'6'!C$18*'6'!C3,2)","v":0},null,{"$f":"SUM(M3:X3)-Y3","v":289.61},{"$f":"A3","v":56},null,null,1.1299999999999999,{"$f":"AD3*100/TOTAL!H$3","v":1.5100895362822395},{"$f":"ROUND(I3*TOTAL!B$14/100,2)","v":13.28},{"$f":"AE3*TOTAL!B$15/100","v":17.209886409194173},{"$f":"J3*TOTAL!D$16","v":191.35927799999999},{"$f":"SUM(AF3:AH3)","v":221.84916440919415}]
[{"$f":"A3+1","v":57},"Baras A",1,2,{"$f":"C4","v":1},{"$f":"C4","v":1},{"$f":"C4","v":1},1,1.1299999999999999,46.73,1,1,{"$f":"K4*TOTAL!D$6","v":4.33},{"$f":"G4*TOTAL!F$7","v":0.4},{"$f":"L4*TOTAL!F$9","v":11},{"$f":"E4*TOTAL!F$12","v":-1.83},{"$f":"ROUND(I4*TOTAL!B$14/100+'6'!AE4*TOTAL!B$15/100+'6'!J4*TOTAL!D$16,2)","v":222.67},{"$f":"F4*TOTAL!J$23","v":52.45},{"$f":"C4*TOTAL!D$23","v":0.24},{"$f":"G4*TOTAL!F$15","v":6.29},{"$f":"ROUND(C4*TOTAL!C$26,2)","v":9.58},{"$f":"TOTAL!$F$26","v":0},{"$f":"ROUND(I4*TOTAL!H$26/100,2)","v":5.49},{"$f":"ROUND(TOTAL!K$15/'6'!C$18*'6'!C4,2)","v":0},null,310.62,57,null,null,1.1299999999999999,{"$f":"AD4*100/TOTAL!H$3","v":1.5100895362822395},{"$f":"ROUND(I4*TOTAL!B$14/100,2)","v":13.28},{"$f":"AE4*TOTAL!B$15/100","v":17.209886409194173},{"$f":"J4*TOTAL!D$16","v":192.18179799999996},222.67168440919414]
[58,"Fărcaş N",1,2,null,null,1,null,1.18,null,5,0,{"$f":"K5*TOTAL!D$6","v":21.65},{"$f":"G5*TOTAL!F$7","v":0.4},{"$f":"L5*TOTAL!F$9","v":0},{"$f":"E5*TOTAL!F$12","v":0},{"$f":"ROUND(I5*TOTAL!B$14/100+'6'!AE5*TOTAL!B$15/100+'6'!J5*TOTAL!D$16,2)","v":13.86},{"$f":"F5*TOTAL!J$23","v":0},{"$f":"C5*TOTAL!D$23","v":0.24},{"$f":"G5*TOTAL!F$15","v":6.29},{"$f":"ROUND(C5*TOTAL!C$26,2)","v":9.58},{"$f":"TOTAL!$F$26","v":0},{"$f":"ROUND(I5*TOTAL!H$26/100,2)","v":5.73},{"$f":"ROUND(TOTAL!K$15/'6'!C$18*'6'!C5,2)","v":0},null,57.75,58,null,null,null,{"$f":"AD5*100/TOTAL!H$3","v":0},{"$f":"ROUND(I5*TOTAL!B$14/100,2)","v":13.86},{"$f":"AE5*TOTAL!B$15/100","v":0},{"$f":"J5*TOTAL!D$16","v":0},13.86]
[59,"Bagaméri",1,2,{"$f":"C6","v":1},{"$f":"C6","v":1},1,1,1.1299999999999999,46.93,1,1,{"$f":"K6*TOTAL!D$6","v":4.33},{"$f":"G6*TOTAL!F$7","v":0.4},{"$f":"L6*TOTAL!F$9","v":11},{"$f":"E6*TOTAL!F$12","v":-1.83},{"$f":"ROUND(I6*TOTAL!B$14/100+'6'!AE6*TOTAL!B$15/100+'6'!J6*TOTAL!D$16,2)","v":223.49},{"$f":"F6*TOTAL!J$23","v":52.45},{"$f":"C6*TOTAL!D$23","v":0.24},{"$f":"G6*TOTAL!F$15","v":6.29},{"$f":"ROUND(C6*TOTAL!C$26,2)","v":9.58},{"$f":"TOTAL!$F$26","v":0},{"$f":"ROUND(I6*TOTAL!H$26/100,2)","v":5.49},{"$f":"ROUND(TOTAL!K$15/'6'!C$18*'6'!C6,2)","v":0},null,311.44000000000005,59,null,null,1.1299999999999999,{"$f":"AD6*100/TOTAL!H$3","v":1.5100895362822395},{"$f":"ROUND(I6*TOTAL!B$14/100,2)","v":13.28},{"$f":"AE6*TOTAL!B$15/100","v":17.209886409194173},{"$f":"J6*TOTAL!D$16","v":193.00431799999998},223.49420440919414]
[60,"Cristovici",1,3,null,null,1,null,1.46,null,6,0,{"$f":"K7*TOTAL!D$6","v":25.98},{"$f":"G7*TOTAL!F$7","v":0.4},{"$f":"L7*TOTAL!F$9","v":0},{"$f":"E7*TOTAL!F$12","v":0},{"$f":"ROUND(I7*TOTAL!B$14/100+'6'!AE7*TOTAL!B$15/100+'6'!J7*TOTAL!D$16,2)","v":17.149999999999999},{"$f":"F7*TOTAL!J$23","v":0},{"$f":"C7*TOTAL!D$23","v":0.24},{"$f":"G7*TOTAL!F$15","v":6.29},{"$f":"ROUND(C7*TOTAL!C$26,2)","v":9.58},{"$f":"TOTAL!$F$26","v":0},{"$f":"ROUND(I7*TOTAL!H$26/100,2)","v":7.09},{"$f":"ROUND(TOTAL!K$15/'6'!C$18*'6'!C7,2)","v":0},null,66.73,60,null,null,null,{"$f":"AD7*100/TOTAL!H$3","v":0},{"$f":"ROUND(I7*TOTAL!B$14/100,2)","v":17.149999999999999},{"$f":"AE7*TOTAL!B$15/100","v":0},{"$f":"J7*TOTAL!D$16","v":0},17.149999999999999]
[61,"Ureche",3,3,null,null,3,null,1.44,null,10,0,{"$f":"K8*TOTAL!D$6","v":43.3},{"$f":"G8*TOTAL!F$7","v":1.2000000000000002},{"$f":"L8*TOTAL!F$9","v":0},{"$f":"E8*TOTAL!F$12","v":0},{"$f":"ROUND(I8*TOTAL!B$14/100+'6'!AE8*TOTAL!B$15/100+'6'!J8*TOTAL!D$16,2)","v":38.85},{"$f":"F8*TOTAL!J$23","v":0},{"$f":"C8*TOTAL!D$23","v":0.72},{"$f":"G8*TOTAL!F$15","v":18.87},{"$f":"ROUND(C8*TOTAL!C$26,2)","v":28.73},{"$f":"TOTAL!$F$26","v":0},{"$f":"ROUND(I8*TOTAL!H$26/100,2)","v":7},{"$f":"ROUND(TOTAL!K$15/'6'!C$18*'6'!C8,2)","v":0},null,138.66999999999999,61,null,null,1.44,{"$f":"AD8*100/TOTAL!H$3","v":1.9243618869437391},{"$f":"ROUND(I8*TOTAL!B$14/100,2)","v":16.920000000000002},{"$f":"AE8*TOTAL!B$15/100","v":21.931182680743017},{"$f":"J8*TOTAL!D$16","v":0},38.851182680743023]
[62,"Fabian ",2,2,null,null,2,null,1.1299999999999999,null,9,0,{"$f":"K9*TOTAL!D$6","v":38.97},{"$f":"G9*TOTAL!F$7","v":0.8},{"$f":"L9*TOTAL!F$9","v":0},{"$f":"E9*TOTAL!F$12","v":0},{"$f":"ROUND(I9*TOTAL!B$14/100+'6'!AE9*TOTAL!B$15/100+'6'!J9*TOTAL!D$16,2)","v":30.49},{"$f":"F9*TOTAL!J$23","v":0},{"$f":"C9*TOTAL!D$23","v":0.48},{"$f":"G9*TOTAL!F$15","v":12.58},{"$f":"ROUND(C9*TOTAL!C$26,2)","v":19.149999999999999},{"$f":"TOTAL!$F$26","v":0},{"$f":"ROUND(I9*TOTAL!H$26/100,2)","v":5.49},{"$f":"ROUND(TOTAL!K$15/'6'!C$18*'6'!C9,2)","v":0},null,107.96,62,null,null,1.1299999999999999,{"$f":"AD9*100/TOTAL!H$3","v":1.5100895362822395},{"$f":"ROUND(I9*TOTAL!B$14/100,2)","v":13.28},{"$f":"AE9*TOTAL!B$15/100","v":17.209886409194173},{"$f":"J9*TOTAL!D$16","v":0},30.48988640919417]
[63,"Fărăgău",2,3,null,null,2,null,1.46,null,11,0,{"$f":"K10*TOTAL!D$6","v":47.63},{"$f":"G10*TOTAL!F$7","v":0.8},{"$f":"L10*TOTAL!F$9","v":0},{"$f":"E10*TOTAL!F$12","v":0},{"$f":"ROUND(I10*TOTAL!B$14/100+'6'!AE10*TOTAL!B$15/100+'6'!J10*TOTAL!D$16,2)","v":17.149999999999999},{"$f":"F10*TOTAL!J$23","v":0},{"$f":"C10*TOTAL!D$23","v":0.48},{"$f":"G10*TOTAL!F$15","v":12.58},{"$f":"ROUND(C10*TOTAL!C$26,2)","v":19.149999999999999},{"$f":"TOTAL!$F$26","v":0},{"$f":"ROUND(I10*TOTAL!H$26/100,2)","v":7.09},{"$f":"ROUND(TOTAL!K$15/'6'!C$18*'6'!C10,2)","v":0},null,104.88,63,null,null,null,{"$f":"AD10*100/TOTAL!H$3","v":0},{"$f":"ROUND(I10*TOTAL!B$14/100,2)","v":17.149999999999999},{"$f":"AE10*TOTAL!B$15/100","v":0},{"$f":"J10*TOTAL!D$16","v":0},17.149999999999999]
[64,"Rus",1,3,{"$f":"C11","v":1},{"$f":"C11","v":1},1,1,1.44,59.75,5,6,{"$f":"K11*TOTAL!D$6","v":21.65},{"$f":"G11*TOTAL!F$7","v":0.4},{"$f":"L11*TOTAL!F$9","v":66},{"$f":"E11*TOTAL!F$12","v":-1.83},{"$f":"ROUND(I11*TOTAL!B$14/100+'6'!AE11*TOTAL!B$15/100+'6'!J11*TOTAL!D$16,2)","v":284.58},{"$f":"F11*TOTAL!J$23","v":52.45},{"$f":"C11*TOTAL!D$23","v":0.24},{"$f":"G11*TOTAL!F$15","v":6.29},{"$f":"ROUND(C11*TOTAL!C$26,2)","v":9.58},{"$f":"TOTAL!$F$26","v":0},{"$f":"ROUND(I11*TOTAL!H$26/100,2)","v":7},{"$f":"ROUND(TOTAL!K$15/'6'!C$18*'6'!C11,2)","v":0},null,446.35999999999996,64,null,null,1.44,{"$f":"AD11*100/TOTAL!H$3","v":1.9243618869437391},{"$f":"ROUND(I11*TOTAL!B$14/100,2)","v":16.920000000000002},{"$f":"AE11*TOTAL!B$15/100","v":21.931182680743017},{"$f":"J11*TOTAL!D$16","v":245.72784999999999},284.57903268074301]
[65,"Pop ",4,2,null,0,{"$f":"C12","v":4},null,1.1299999999999999,null,14,0,{"$f":"K12*TOTAL!D$6","v":60.620000000000005},{"$f":"G12*TOTAL!F$7","v":1.6},{"$f":"L12*TOTAL!F$9","v":0},{"$f":"E12*TOTAL!F$12","v":0},{"$f":"ROUND(I12*TOTAL!B$14/100+'6'!AE12*TOTAL!B$15/100+'6'!J12*TOTAL!D$16,2)","v":30.49},{"$f":"F12*TOTAL!J$23","v":0},{"$f":"C12*TOTAL!D$23","v":0.96},{"$f":"G12*TOTAL!F$15","v":25.16},{"$f":"ROUND(C12*TOTAL!C$26,2)","v":38.31},{"$f":"TOTAL!$F$26","v":0},{"$f":"ROUND(I12*TOTAL!H$26/100,2)","v":5.49},{"$f":"ROUND(TOTAL!K$15/'6'!C$18*'6'!C12,2)","v":0},null,162.63,65,null,null,1.1299999999999999,{"$f":"AD12*100/TOTAL!H$3","v":1.5100895362822395},{"$f":"ROUND(I12*TOTAL!B$14/100,2)","v":13.28},{"$f":"AE12*TOTAL!B$15/100","v":17.209886409194173},{"$f":"J12*TOTAL!D$16","v":0},30.48988640919417]
[66,"Bejan",2,3,null,0,2,null,1.46,null,10,0,{"$f":"K13*TOTAL!D$6","v":43.3},{"$f":"G13*TOTAL!F$7","v":0.8},{"$f":"L13*TOTAL!F$9","v":0},{"$f":"E13*TOTAL!F$12","v":0},{"$f":"ROUND(I13*TOTAL!B$14/100+'6'!AE13*TOTAL!B$15/100+'6'!J13*TOTAL!D$16,2)","v":17.149999999999999},{"$f":"F13*TOTAL!J$23","v":0},{"$f":"C13*TOTAL!D$23","v":0.48},{"$f":"G13*TOTAL!F$15","v":12.58},{"$f":"ROUND(C13*TOTAL!C$26,2)","v":19.149999999999999},{"$f":"TOTAL!$F$26","v":0},{"$f":"ROUND(I13*TOTAL!H$26/100,2)","v":7.09},{"$f":"ROUND(TOTAL!K$15/'6'!C$18*'6'!C13,2)","v":0},null,100.54999999999998,66,null,null,null,{"$f":"AD13*100/TOTAL!H$3","v":0},{"$f":"ROUND(I13*TOTAL!B$14/100,2)","v":17.149999999999999},{"$f":"AE13*TOTAL!B$15/100","v":0},{"$f":"J13*TOTAL!D$16","v":0},17.149999999999999]
[67,"Moga",1,3,null,0,0,null,1.44,null,0,0,{"$f":"K14*TOTAL!D$6","v":0},{"$f":"G14*TOTAL!F$7","v":0},{"$f":"L14*TOTAL!F$9","v":0},{"$f":"E14*TOTAL!F$12","v":0},{"$f":"ROUND(I14*TOTAL!B$14/100+'6'!AE14*TOTAL!B$15/100+'6'!J14*TOTAL!D$16,2)","v":38.85},{"$f":"F14*TOTAL!J$23","v":0},{"$f":"C14*TOTAL!D$23","v":0.24},{"$f":"G14*TOTAL!F$15","v":0},{"$f":"ROUND(C14*TOTAL!C$26,2)","v":9.58},{"$f":"TOTAL!$F$26","v":0},{"$f":"ROUND(I14*TOTAL!H$26/100,2)","v":7},{"$f":"ROUND(TOTAL!K$15/'6'!C$18*'6'!C14,2)","v":0},null,55.67,67,null,null,1.44,{"$f":"AD14*100/TOTAL!H$3","v":1.9243618869437391},{"$f":"ROUND(I14*TOTAL!B$14/100,2)","v":16.920000000000002},{"$f":"AE14*TOTAL!B$15/100","v":21.931182680743017},{"$f":"J14*TOTAL!D$16","v":0},38.851182680743023]
[68,"Legian",3,2,{"$f":"C15","v":3},0,3,1,1.1299999999999999,46.93,8,13,{"$f":"K15*TOTAL!D$6","v":34.64},{"$f":"G15*TOTAL!F$7","v":1.2000000000000002},{"$f":"L15*TOTAL!F$9","v":143},{"$f":"E15*TOTAL!F$12","v":-5.49},{"$f":"ROUND(I15*TOTAL!B$14/100+'6'!AE15*TOTAL!B$15/100+'6'!J15*TOTAL!D$16,2)","v":223.49},{"$f":"F15*TOTAL!J$23","v":0},{"$f":"C15*TOTAL!D$23","v":0.72},{"$f":"G15*TOTAL!F$15","v":18.87},{"$f":"ROUND(C15*TOTAL!C$26,2)","v":28.73},{"$f":"TOTAL!$F$26","v":0},{"$f":"ROUND(I15*TOTAL!H$26/100,2)","v":5.49},{"$f":"ROUND(TOTAL!K$15/'6'!C$18*'6'!C15,2)","v":0},null,450.65000000000009,68,null,null,1.1299999999999999,{"$f":"AD15*100/TOTAL!H$3","v":1.5100895362822395},{"$f":"ROUND(I15*TOTAL!B$14/100,2)","v":13.28},{"$f":"AE15*TOTAL!B$15/100","v":17.209886409194173},{"$f":"J15*TOTAL!D$16","v":193.00431799999998},223.49420440919414]
[69,"Mocanu",4,3,null,0,4,null,1.46,null,14,0,{"$f":"K16*TOTAL!D$6","v":60.620000000000005},{"$f":"G16*TOTAL!F$7","v":1.6},{"$f":"L16*TOTAL!F$9","v":0},{"$f":"E16*TOTAL!F$12","v":0},{"$f":"ROUND(I16*TOTAL!B$14/100+'6'!AE16*TOTAL!B$15/100+'6'!J16*TOTAL!D$16,2)","v":17.149999999999999},{"$f":"F16*TOTAL!J$23","v":0},{"$f":"C16*TOTAL!D$23","v":0.96},{"$f":"G16*TOTAL!F$15","v":25.16},{"$f":"ROUND(C16*TOTAL!C$26,2)","v":38.31},{"$f":"TOTAL!$F$26","v":0},{"$f":"ROUND(I16*TOTAL!H$26/100,2)","v":7.09},{"$f":"ROUND(TOTAL!K$15/'6'!C$18*'6'!C16,2)","v":0},null,150.89000000000001,69,null,null,null,{"$f":"AD16*100/TOTAL!H$3","v":0},{"$f":"ROUND(I16*TOTAL!B$14/100,2)","v":17.149999999999999},{"$f":"AE16*TOTAL!B$15/100","v":0},{"$f":"J16*TOTAL!D$16","v":0},17.149999999999999]
[70,"Pop C.",4,3,null,0,4,null,1.44,null,12,0,{"$f":"K17*TOTAL!D$6","v":51.96},{"$f":"G17*TOTAL!F$7","v":1.6},{"$f":"L17*TOTAL!F$9","v":0},{"$f":"E17*TOTAL!F$12","v":0},{"$f":"ROUND(I17*TOTAL!B$14/100+'6'!AE17*TOTAL!B$15/100+'6'!J17*TOTAL!D$16,2)","v":38.85},{"$f":"F17*TOTAL!J$23","v":0},{"$f":"C17*TOTAL!D$23","v":0.96},{"$f":"G17*TOTAL!F$15","v":25.16},{"$f":"ROUND(C17*TOTAL!C$26,2)","v":38.31},{"$f":"TOTAL!$F$26","v":0},{"$f":"ROUND(I17*TOTAL!H$26/100,2)","v":7},{"$f":"ROUND(TOTAL!K$15/'6'!C$18*'6'!C17,2)","v":0},null,163.83999999999997,70,null,null,1.44,{"$f":"AD17*100/TOTAL!H$3","v":1.9243618869437391},{"$f":"ROUND(I17*TOTAL!B$14/100,2)","v":16.920000000000002},{"$f":"AE17*TOTAL!B$15/100","v":21.931182680743017},{"$f":"J17*TOTAL!D$16","v":0},38.851182680743023]
[null,null,{"$f":"SUM(C3:C17)","v":31},38,6,4,29,5,19.560000000000002,246.87,106,21,458.98,11.6,231,-10.98,1436.07,209.8,7.44,182.41,296.90000000000003,0,95.03,0,0,2918.2500000000005,null,null,{"$f":"SUM(M18:X18)-Y18","v":2918.2500000000005},{"$f":"SUM(AD3:AD17)","v":12.540000000000001},16.757984765468393,229.82000000000005,190.9840491781371,1015.277562,1436.0816111781369]
[null,null,null,null,null,null,null,null,null,null,null,null,"Presedinte",null,"Sef Comisie Cenzori",null,null,null,"Contabil"]
[null,null,null,null,null,null,null,null,null,null,null,null,null,null,null,null,null,null,null,null,null,null,null,null,0.5]
[]
[null,"Pentru completarea cartii de imobil locatarii sunt rugati sa aduca o copie xerox dupa buletin, CI , certficat de nastere pt copii."]
[null,"De la toti care stau efectiv in apartament indiferent de calitate, proprietar, chirias cu flotant sau fara flotant."]

{"sheet":"TOTAL","index":6,"n_rows":100,"n_cols":25,"rows_kept":100,"cut":false,"hidden":false,"merged":[]}
[]
["Nr persoane",{"$f":"'1'!C18+'2'!C14+'3'!C13+'4'!C13+'5'!C13+'6'!C18","v":142},"pers fara CT",{"$f":"'1'!E18+'2'!E14+'3'!E13+'5'!E13+'6'!E18+'4'!E13","v":54},"Ap fara CT",{"$f":"'1'!H18+'2'!H14+'3'!H13+'4'!H13+'5'!H13+'6'!H18","v":30},"Supr total ",{"$f":"'1'!J18+'2'!J14+'3'!J13+'5'!J13+'6'!J18+'4'!J13","v":1693.8200000000002},null,null,null,null,null,null,null,null,null,null,null,null,null,null,null,null,6.56]
["Prezente",{"$f":"'1'!G18+'2'!G14+'3'!G13+'4'!G13+'5'!G13+'6'!G18","v":136},"Nr apart",71,"Nr camere",{"$f":"'1'!D18+'2'!D14+'3'!D13+'4'!D13+'5'!D13+'6'!D18","v":215},"Sum cote",{"$f":"'1'!AD18+'2'!AD14+'3'!AD13+'4'!AD13+'5'!AD13+'6'!AD18","v":74.83},null,{"$f":"'1'!AE18+'2'!AE14+'3'!AE13+'4'!AE13+'5'!AE13+'6'!AE18","v":100},null,null,null,null,null,null,null,null,null,null,null,null,null,null,6.26]
["Apa rece",null,null,null,null,null,null,null,"Chelt pe scari",null,null,null,null,null,null,null,null,null,null,null,null,null,null,null,6.36]
["Consum contor bloc",{"$f":"A38","v":425},"Valoare fact",{"$f":"E38","v":1838.21},"Incasat",{"$f":"'1'!M18+'2'!M14+'3'!M13+'4'!M13+'5'!M13+'6'!M18","v":1783.96},"Dif luna anter",0,1,null,0,null,null,null,null,null,null,null,null,null,null,null,null,null,8.02]
["Consum locatari",{"$f":"'1'!K18+'2'!K14+'3'!K13+'4'!K13+'5'!K13+'6'!K18","v":412},"Pret",{"$f":"ROUND(D5/B5,2)","v":4.33},null,null,null,{"$f":"F5+H7","v":1838.3600000000001},null,null,{"$f":"'1'!X18","v":0},null,null,null,null,null,null,null,null,null,null,null,null,null,8.0500000000000007]
["Diferenta contoare",{"$f":"B5-B6","v":13},"Valoare",{"$f":"D5-F5+H5","v":54.25},"Pe pers.",{"$f":"ROUND(D7/B3,2)","v":0.4},"Incasat",{"$f":"'1'!N18+'2'!N14+'3'!N13+'4'!N13+'5'!N13+'6'!N18","v":54.4},2,null,0,null,null,null,null,null,null,null,null,null,null,null,null,null,6.22]
["Apa calda",null,null,null,null,null,null,null,null,null,{"$f":"'2'!X14","v":0},null,null,null,null,null,null,null,null,null,null,null,null,null,8.02]
["Consum contor bloc",{"$f":"A39","v":125},"Valoare apa",{"$f":"E39","v":540.65},"Pret unitar",{"$f":"ROUND(D11/B9,2)","v":11},"Dif luna anter",0,3,null,0,null,null,null,null,null,null,null,null,null,null,null,null,null,8.0500000000000007]
["Consum locatari",{"$f":"'1'!L18+'2'!L14+'3'!L13+'4'!L13+'5'!L13+'6'!L18","v":134},"Preparare",{"$f":"H40","v":834.41},null,null,null,null,null,null,{"$f":"'3'!X13","v":0},null,null,null,null,null,null,null,null,null,null,null,null,null,6.22]
[null,null,"TOTAL",{"$f":"D9+D10","v":1375.06},"Incasat",{"$f":"'1'!O18+'2'!O14+'3'!O13+'4'!O13+'5'!O13+'6'!O18","v":1474},null,{"$f":"F11+H12","v":1375.18},4,null,0,null,null,null,null,null,null,null,null,null,null,null,null,null,8.02]
["Diferenta contoare",{"$f":"B9-B10","v":-9},"Valoare",{"$f":"D11-F11+H9","v":-98.940000000000055},"Pe pers.",{"$f":"ROUND(D12/D2,2)","v":-1.83},"Incasat",{"$f":"'1'!P18+'2'!P14+'3'!P13+'4'!P13+'5'!P13+'6'!P18","v":-98.820000000000007},null,null,{"$f":"'4'!X13","v":0},null,null,null,null,null,null,null,null,null,null,null,null,null,8.0500000000000007]
["Incalzire",{"$f":"J40","v":9280.64},"Incasat",{"$f":"'1'!Q18+'2'!Q14+'3'!Q13+'4'!Q13+'5'!Q13+'6'!Q18","v":9280.67},"Salubritate",null,null,null,5,null,0,null,null,null,null,null,null,null,null,null,null,null,null,null,6.22]
["Parti comune",{"$f":"ROUND(B13*C14/100,2)","v":1174.93},12.66,null,"Facturat",837.45,"Dif luna anter",18.07,null,null,{"$f":"'5'!X13","v":0},null,null,null,null,null,null,null,null,null,null,null,null,null,8.02]
["Coloane",{"$f":"ROUND(B13*C15/100,2)","v":1139.6600000000001},12.28,"Pret mp","Pe pers",{"$f":"ROUND((F14+H14)/B3,2)","v":6.29},null,null,6,null,0,null,null,null,null,null,null,null,null,null,null,null,null,null,7.91]
["Apartamente",{"$f":"ROUND(B13*C16/100,2)","v":6966.05},75.06,{"$f":"ROUND(B16/H2,4)","v":4.1125999999999996},"Incasat",{"$f":"'1'!T18+'2'!T14+'3'!T13+'4'!T13+'5'!T13+'6'!T18","v":855.44},null,null,null,null,{"$f":"'6'!X18","v":0},null,null,null,null,null,null,null,null,null,null,null,null,null,6.26]
["Energie electrica","Valoare","Dif ","Pe pers","Incasat","GAZ","Valoare","Dif ",null,"Pe pers","Incasat"]
["scara 1",14.64,0,{"$f":"ROUND((B18/3*2+C18+B$18/3/(B$2)*'1'!C18)/'1'!C18,2)","v":0.46},{"$f":"'1'!S18","v":10.580000000000002},"scara 1",172.4,null,null,{"$f":"ROUND((G18+H18)/'1'!F18,2)","v":19.16},{"$f":"'1'!R18","v":172.44}]
["scara 2",13,0,{"$f":"ROUND((B19+C19+B$18/3/(B$2)*'2'!C14)/'2'!C14,2)","v":0.55000000000000004},{"$f":"'2'!S14","v":13.749999999999998},"scara 2",null,null,null,0,{"$f":"'2'!R14","v":0}]
["scara 3",4.88,0,{"$f":"ROUND((B20+C20+B$18/3/(B$2)*'3'!C13)/'3'!C13,2)","v":0.31},{"$f":"'3'!S13","v":5.58},"scara 3",null,null,null,{"$f":"ROUND((G20+H20)/'3'!F13,2)","v":0},{"$f":"'3'!R13","v":0}]
["scara 4",3.78,0,{"$f":"ROUND((B21+C21+B$18/3/(B$2)*'4'!C13)/'4'!C13,2)","v":0.2},{"$f":"'4'!S13","v":4.6000000000000005},"scara 4",42.48,null,null,{"$f":"ROUND((G21+H21)/'4'!F13,2)","v":14.16},{"$f":"'4'!R13","v":42.480000000000004}]
["scara 5",11.93,0,{"$f":"ROUND((B22+C22+B$18/3/(B$2)*'5'!C13)/'5'!C13,2)","v":0.57999999999999996},{"$f":"'5'!S13","v":12.759999999999998},"scara 5",209.92,null,null,{"$f":"ROUND((G22+H22)/'5'!F13,2)","v":9.5399999999999991},{"$f":"'5'!R13","v":209.88}]
["scara 6",6.51,0,{"$f":"ROUND((B23+C23+B$18/3/(B$2)*'6'!C18)/'6'!C18,2)","v":0.24},{"$f":"'6'!S18","v":7.44},"scara 6",209.8,null,null,{"$f":"ROUND((G23+H23)/'6'!F18,2)","v":52.45},{"$f":"'6'!R18","v":209.8}]
[null,{"$f":"SUM(B18:B23)","v":54.74},{"$f":"SUM(C18:C23)","v":0},null,{"$f":"SUM(E18:E23)","v":54.709999999999994},null,{"$f":"SUM(G18:G23)","v":634.59999999999991},{"$f":"SUM(H18:H23)","v":0},null,null,{"$f":"SUM(K18:K23)","v":634.6},null,null,null,{"$f":"D5+D11+B13+F14+B24+G24+H24+B26+H26","v":15866.54}]
["Cheltuieli pe persoana",null,"Pe pers","Cheltuieli pe apart",null,"pe apart","Cheltuieli pe cota"]
["TOTAL",{"$f":"SUM(B27:B33)","v":1360},{"$f":"B26/B2","v":9.577464788732394},"TOTAL",{"$f":"SUM(E27:E33)","v":0},{"$f":"ROUND(E26/D3,2)","v":0},"TOTAL",{"$f":"SUM(H27:H34)","v":485.84000000000003},null,"Incasat"]
["Salarii",1260,"Incasat",null,null,"Incasat","rep inst termica",167,null,{"$f":"'1'!W18+'2'!W14+'3'!W13+'4'!W13+'5'!W13+'6'!W18","v":485.92999999999995}]
["premiere fem serviciu",100,{"$f":"'1'!U18+'2'!U14+'3'!U13+'4'!U13+'5'!U13+'6'!U18","v":1359.8600000000001},null,null,{"$f":"'1'!V18+'2'!V14+'3'!V13+'4'!V13+'5'!V13+'6'!V18","v":0},"robineti",56.5]
[null,null,null,null,null,null,"matura",11]
[null,null,null,null,null,null,"lopeti zapada",65.97]
[null,null,null,null,null,null,"priector, bec",103]
[null,null,null,null,null,null,"recom",2.4]
[null,null,null,null,null,null,"lopata, spargator",79.97]
[]
[]
[null,null,null,null,null,null,null,"TERMOFICARE"]
["apa",null,null,null,null,null,null,"apa calda",null,"caldura"]
[425,2.19,{"$f":"A38*B38","v":930.75},{"$f":"C38+A38*B40","v":1457.75},{"$f":"ROUND(D38*1.24+A38*B41,2)","v":1838.21},null,null,672.91,null,7484.39]
[125,2.19,{"$f":"A39*B39","v":273.75},{"$f":"C39+A39*B40","v":428.75},{"$f":"ROUND(D39*1.24+A39*B41,2)","v":540.65},null,null,161.5,null,1796.25]
[{"$f":"SUM(A38:A39)","v":550},1.24,{"$f":"A40*B40","v":682},null,{"$f":"SUM(E38:E39)","v":2378.86},null,null,{"$f":"SUM(H38:H39)","v":834.41},null,{"$f":"SUM(J38:J39)","v":9280.64},{"$f":"J40+H40","v":10115.049999999999}]
[{"$f":"A40","v":550},7.1999999999999995E-2,{"$f":"A41*B41","v":39.599999999999994},null,null,null,null,null,null,"subventie",59.03]
[null,null,null,null,null,null,null,null,null,null,"Total"]
[null,null,null,null,null,null,null,null,null,null,{"$f":"K40-K41","v":10056.019999999999}]
[]
["Observatii"]
[]
["IMPORTANT! Pentru corectitudinea calculelor este recomandat ca sa nu folositi setari personalizate nici pentru Excel nici pentru Windows. Sau mai pe romaneste"]
["sa folositi punctul zecimal implicit fara a umbla in Excel la Optiuni sau in Windows la Setari Regionale."]
["In celule VERZI se inlocuiesc valoriile"]
["Valorile din factura de apa si termoficare se introduc in cele doua casute de jos. Formatul acesor zone este conform cu facturile folosite in Cluj.Se pot personaliza."]
["Dupa introducerea acestor date automat o sa fie preluate in partea de calcul. Vezi celule cu fond galben de sus."]
["Selectand o celula para informatii despre continutul celulei."]
[]
["Consumurile de apa se importa din fisierul corespunzator. Vezi buton dreapta tabel."]
["Numele fiserului se poate seta in pagina d."]
["Fisierul trebuie sa fie deschisa inainte de import"]
["Diferentele de consum de apa se repartizeaza proportional cu numarul de persoane, conform hotarare Comitet. SE pot implementa si alte solutii."]
[]
["Incalzirea, dupa o expertiza s-a evaluat consumul pe spatii comune, consumul pe tevi (evid procentual) si factura de incalzire se imparta in trei dupa acesti consumatori."]
["Consumul ptr apart se imparte conform suprafetei locuintelor."]
["Consumul ptr parti comune se imparte conform cota indiviza."]
["Consumul ptr coloane vericale se imparte conform cota indiviza recalculata. In asociatia noastra avem unele apartamente unde nu exista deloc tevi verticale (s-au taiat)"]
["Comitetul a hotarat ca aceste apart sa nu contribuie la aceasta cheltuiala. Ptr repartitie practic cotele de indivize ale aprt cu coloane se imultesc cu un coeficient in asa fel "]
["incat suma lor sa dee 100%, aceasta este cota indiviza recalculata, poate nu-I cea mai buna denumire."]
[]
["Energie electrica, in principiu se imparte pe scara si persoane. La noi avand in vedere ca o parte din consumatori comuni sunt alimentati exclusiv de la sc1 s-a hotarat"]
["ca o parte (1/3) din costurile din scara 1 sa fie achitate de toti locatarii."]
[]
["Gaz, factura pe scari se imparte pe locatari, evident numai pentru apart care nu au contor individual"]
[]
["Cheltuieli diverse"]
["Aici repartizarea lor depinde de legislatiedar si de hotararea Comitetului."]
["Sunt definite patru posibilitati de repartitie:"]
["pe persoana: de ex. salar femeie de serviciu, se pot repartiza mai multe cheltuiel se inscriu in coloana B"]
["cheltuieli pe apartament: de ex la noi asa se reartizeaza chelt cu dezinsectie sau cv coroane la inmormantari, coloana E"]
["cheltuieli pe cota indiviza: majoritatea cheltuielilor, coloana H"]
["cheltuieli pe scara, chelt ce privesc exclusiv o scara aceste cheltuieli pot sa fie repartizate pe persoane sau pe apartament, selectia buton pe fiecare pagina"]
[]
["Vizualizarea coloanelor din tabele pe scari"]
["Pe aceasta pagina sunt doua butoane, cu carte se pot vizualiza/ascunde coloanele de care depind repartitia chelt, dar care nu se afiseaza (deex. Suprafata, cota indivza….)"]
[]
["Setarea modului de afisare a coloanelor se face din pagina comenzi, individual pentru fiecare scara si coloana."]
["Tot de aici se seteaza si antetul tabelului, precum si orarul de incasare."]
[]
["Generare Chitante"]
["Se tasteaza butonul corespunzator."]
["Programul preia din listele de cheltuieli, sumele pentru fiecare apartament, din evidenta chitantelor preia numarul ultimei chitante."]
["O sa fie imprimate chitantele pentru apartamentele bifate din ListBox."]
["Formularul actual permite imprimarea a maximum 8 chitante simultan."]
["Se modifica data, se poate modica manul, in concordanta cu setarile sistemului, sau Preferabil! cu calendar."]
["Calendarul putem afisa, daca selectam casuta datei si facem DoubleClick sau apasam tasta F2."]
["Modul de lucru recomandat, dupa afisarea panoului introduceti data chitantei, completati la observati luna pentru care se incaseaza, bifati Avans automatic, apasati "]
["Scriu chitante si dupa aceasta Imprimare. Programul va imprima doua exemplare de formular de chitante, modelul vezi in pagina Chitante."]
["Repetati ultimii doi pasi pana la epuizarea apartamentelor. In lista apartamente aveti vizualizarea a ce se imprima."]
["Inainte de prima utilizare pagina Chitante se personalizeaza cu datele asociatiei."]
[]
[]
["Setarile pentru fiecare apartament, ca suprafat, nr pers, nr pers prezente  se fac in coloanele C-J din tabelele pentru fiecare scara."]
[]
["O scurta descriere a functionarii registrului de casa aveti in pagina ian."]

{"sheet":"utilizare","index":7,"n_rows":8,"n_cols":1,"rows_kept":8,"cut":false,"hidden":false,"merged":[]}
[]
[]
["Pentru utilizare trebuie sa autorizati functionarea macrourilor."]
[]
[]
["Office Ribbon -> Excel options->Trust Center->Settings->Macros"]
[]
["Inchideti si redeschideti fisierul."]

{"sheet":"Recapitulare","index":8,"n_rows":15,"n_cols":12,"rows_kept":15,"cut":false,"hidden":false,"merged":[]}
["TOTAL CHELTUIELI",null,"ÎNCASĂRI"]
[null,"Cheltuieli","incas",null,null,"efectiv",null,null,91,{"$f":"DEC2HEX(I2)","v":"5B"},{"$f":"J2&J3&J4","v":"5B7479"},"5B7479"]
["Apă rece + canalizare",{"$f":"TOTAL!D5","v":1838.21},{"$f":"TOTAL!F5+TOTAL!H7","v":1838.3600000000001},{"$f":"C3-B3","v":0.15000000000009095},"sc1",{"$f":"'1'!Z18","v":2665.01},null,null,116,{"$f":"DEC2HEX(I3)","v":"74"}]
["Apă caldă",{"$f":"TOTAL!D11","v":1375.06},{"$f":"TOTAL!F11+TOTAL!H12","v":1375.18},{"$f":"C4-B4","v":0.12000000000011823},"sc2",{"$f":"'2'!Z14","v":1285.8899999999999},null,null,121,"79"]
["Încălzire",{"$f":"TOTAL!B13","v":9280.64},{"$f":"TOTAL!D13","v":9280.67},3.0000000000654836E-2,"sc3",{"$f":"'3'!Z13","v":2822.92}]
["Gaz",{"$f":"TOTAL!G24","v":634.59999999999991},{"$f":"TOTAL!K24","v":634.6},0,"sc4",{"$f":"'4'!Z13","v":2076.04}]
["Energie electrică",{"$f":"TOTAL!B24","v":54.74},{"$f":"TOTAL!E24","v":54.709999999999994},-3.0000000000008242E-2,"sc5",{"$f":"'5'!Z13","v":4039.54}]
["Salubritate",{"$f":"TOTAL!F14","v":837.45},{"$f":"TOTAL!F16","v":855.44},17.990000000000009,"sc6",{"$f":"'6'!Z18","v":2918.2500000000005}]
["Diverse pe persoana",{"$f":"TOTAL!B26","v":1360},{"$f":"TOTAL!C28","v":1359.8600000000001},-0.13999999999987267,null,{"$f":"SUM(F3:F8)","v":15807.650000000001}]
["Diverse pe apart",{"$f":"TOTAL!E26","v":0},{"$f":"TOTAL!F28","v":0},0]
["Diverse cota",{"$f":"TOTAL!H26","v":485.84000000000003},{"$f":"TOTAL!J27","v":485.92999999999995},8.9999999999918145E-2]
["Div scara"]
[null,{"$f":"SUM(B3:B12)","v":15866.54},{"$f":"SUM(C3:C12)","v":15884.75},null,{"$f":"F9-C13","v":-77.099999999998545}]
[]
["Compensare",{"$f":"TOTAL!K41","v":59.03},{"$f":"'5'!Y13+'6'!Y18","v":59.03}]

{"sheet":"comenzi","index":9,"n_rows":17,"n_cols":13,"rows_kept":17,"cut":false,"hidden":false,"merged":[]}
[null,null,"Scara"]
["Cheltuiala","Coloana",1,2,3,4,5,6]
["Apă rece m3","K","DA","DA","DA","DA","DA","DA"]
["Apă caldă m3","L","DA","DA","DA","DA","DA","DA"]
["Apă rece","M","DA","DA","DA","DA","DA","DA"]
["Diferenţe apă rece","N","DA","DA","DA","DA","DA","DA",null,null,"Luna",12,"Decembrie"]
["Apă caldă","O","DA","DA","DA","DA","DA","DA",null,null,"Anul",null,2010]
["Diferenţe apă caldă","P","DA","DA","DA","DA","DA","DA",null,null,null,null,"20, 21 şi 25 ianuarie intre orele 17-19"]
["Încălzire ","Q","DA","DA","DA","DA","DA","DA"]
["Gaz metan","R","DA","DA","DA","DA","DA","DA"]
["Energie electrică","S","DA","DA","DA","DA","DA","DA"]
["Salubritate","T","DA","DA","DA","DA","DA","DA"]
["Diverse / pers","U","DA","DA","DA","DA","DA","DA"]
["Diverse/ap","V","DA","DA","DA","DA","DA","DA"]
["Diverse / cota","W","DA","DA","DA","DA","DA","DA"]
["Diverse / scara","X","DA","DA","DA","DA","DA","DA"]
["Compensare","Y","DA","DA","DA","DA","DA","DA"]

{"sheet":"total apart","index":10,"n_rows":40,"n_cols":11,"rows_kept":40,"cut":false,"hidden":false,"merged":[]}
["Ap","Nr doc","Valoare",null,"Ap","Nr doc","Valoare",null,1,null,57.51]
[1,2628,72.63,null,36,2664,266.02999999999997,null,6,null,49.74]
[2,2629,53.74,null,37,2665,93.08,null,9,null,97.62]
[3,2630,222.5,null,38,2666,301.68,null,20,null,97.74]
[4,2631,64.36,null,39,2667,99.68,null,27,null,69.56]
[5,2632,411.64,null,40,2668,90.71,null,50,null,291.58]
[6,2633,152.68,null,41,2669,331.48,null,54,null,25.6]
[7,2634,182.79,null,42,2670,116.69,null,56,null,15.9]
[8,2635,51.77,null,43,2671,126.59,null,null,null,{"$f":"SUM(K1:K8)","v":705.25}]
[9,2636,124.13,null,44,2672,63.09,null,null,null,{"$f":"G38+K9","v":11910}]
[10,2637,42.71,null,45,2673,61.07]
[11,2638,51.77,null,46,2674,296.52]
[12,2639,277.98,null,47,2675,78.16]
[13,2640,45.4,null,48,2676,284.86]
[14,2641,28.28,null,49,2677,263.05]
[15,2642,64.459999999999994,null,50,2678,450.18]
[16,2643,111.93,null,51,2679,244.7]
[17,2644,272.38,null,52,2680,287.02]
[18,2645,89.31,null,53,2681,229.17]
[19,2646,74.099999999999994,null,54,2682,182.24]
[20,2647,59,null,55,2683,482.67]
[21,2648,78.63,null,56,2684,149.49]
[22,2649,67.66,null,57,2685,161.69999999999999]
[23,2650,65.64,null,58,2686,58.81]
["23a",2651,70.45,null,59,2687,183.08]
[24,2652,85.57,null,60,2688,68.81]
[25,2653,82.96,null,61,2689,125.52]
[26,2654,23.29,null,62,2690,88.37]
[27,2655,145.01,null,63,2691,73.41]
[28,2656,243.37,null,64,2692,273.97000000000003]
[29,2657,270.73,null,65,2693,153.87]
[30,2658,263.58999999999997,null,66,2694,103.72]
[31,2659,232.2,null,67,2695,86]
[32,2660,88.32,null,68,2625,237.58]
[33,2661,308.16000000000003,null,69,2626,100.62]
[34,2662,78.02,null,70,2627,108.9]
[35,2663,325.07,null,null,null,{"$f":"SUM(G2:G36)","v":6322.52}]
[null,null,{"$f":"SUM(C2:C37)","v":4882.2299999999996},null,"TOTAL",null,{"$f":"C38+G37","v":11204.75}]
[]
[null,"incasarea s-a facut in 23 iunie"]

{"sheet":"reg_chitante","index":11,"n_rows":1140,"n_cols":5,"rows_kept":1140,"cut":false,"hidden":false,"merged":[]}
["Nr Chitante","Din","Platitor","Valoare","Reprez"]
[1988,"22 01 2010","Pop C.  ap. 70",114.87,"chelt com luna dec 2009"]
[1989,"24 02 2010","Csapo  ap. 1",19.52,"chelt com luna ian"]
[1990,"24 02 2010","Bugnar  ap. 2",56.55,"chelt com luna ian"]
[1991,"24 02 2010","Tunyogi  ap. 3",329.76,"chelt com luna ian"]
[1992,"24 02 2010","Garbou  ap. 4",22.08,"chelt com luna ian"]
[1993,"24 02 2010","Szép  ap. 5",524.05999999999995,"chelt com luna ian"]
[1994,"24 02 2010","Bara  ap. 6",330.82,"chelt com luna ian"]
[1995,"24 02 2010","Colceriu  ap. 7",246.47,"chelt com luna ian"]
[1996,"24 02 2010","Gabor  ap. 8",32.409999999999997,"chelt com luna ian"]
[1997,"24 02 2010","Neamţ  ap. 9",66.17,"chelt com luna ian"]
[1998,"24 02 2010","Micşunescu  ap. 10",44.04,"chelt com luna ian"]
[1999,"24 02 2010","Jugrestan  ap. 11",44.11,"chelt com luna ian"]
[2000,"24 02 2010","Tárkányi  ap. 12",380.33,"chelt com luna ian"]
[2001,"24 02 2010","Nebert  ap. 13",40.14,"chelt com luna ian"]
[2002,"24 02 2010","Crişan  ap. 14",61.38,"chelt com luna ian"]
[2003,"24 02 2010","Lazăr  ap. 15",62.33,"chelt com luna ian"]
[2004,"24 02 2010","Vescan  ap. 16",42.83,"chelt com luna ian"]
[2005,"24 02 2010","Mihăescu  ap. 17",428.92,"chelt com luna ian"]
[2006,"24 02 2010","Pop T  ap. 18",88.04,"chelt com luna ian"]
[2007,"24 02 2010","Mureşan I  ap. 19",78.73,"chelt com luna ian"]
[2008,"24 02 2010","Ibbison  ap. 20",49.04,"chelt com luna ian"]
[2009,"24 02 2010","Kállai  ap. 21",86.76,"chelt com luna ian"]
[2010,"24 02 2010","Indolean  ap. 22",64.64,"chelt com luna ian"]
[2011,"24 02 2010","Mureşan E  ap. 23",59.37,"chelt com luna ian"]
[2012,"24 02 2010","Stanimir  ap. 23A",90.57,"chelt com luna ian"]
[2013,"24 02 2010","Cheţan  ap. 24",78.31,"chelt com luna ian"]
[2014,"24 02 2010","Călin  ap. 25",82.86,"chelt com luna ian"]
[2015,"24 02 2010","Turcu  ap. 26",340.53,"chelt com luna ian"]
[2016,"24 02 2010","Creţeanu  ap. 27",82.18,"chelt com luna ian"]
[2017,"24 02 2010","Zegreanu  ap. 28",388.73,"chelt com luna ian"]
[2018,"24 02 2010","Şerban  ap. 29",449.69,"chelt com luna ian"]
[2019,"24 02 2010","Mihăescu  ap. 30",445.68,"chelt com luna ian"]
[2020,"24 02 2010","Pop R  ap. 31",430.15,"chelt com luna ian"]
[2021,"24 02 2010","Lungu  ap. 32",89.9,"chelt com luna ian"]
[2022,"24 02 2010","Mihuţ  ap. 33",482.99,"chelt com luna ian"]
[2023,"24 02 2010","Postescu  ap. 34",70.400000000000006,"chelt com luna ian"]
[2024,"24 02 2010","Goia  ap. 35",494.09,"chelt com luna ian"]
[2025,"24 02 2010","Dodu  ap. 36",446.67,"chelt com luna ian"]
[2026,"24 02 2010","Drăghici  ap. 37",90.73,"chelt com luna ian"]
[2027,"24 02 2010","Néda  ap. 38",476.67,"chelt com luna ian"]
[2028,"24 02 2010","Vornicescu  ap. 39",150.16999999999999,"chelt com luna ian"]
[2029,"24 02 2010","Sparleanu  ap. 40",108.49,"chelt com luna ian"]
[2030,"24 02 2010","Raboca  ap. 41",542.48,"chelt com luna ian"]
[2031,"24 02 2010","Negru  ap. 42",120.19,"chelt com luna ian"]
[2032,"24 02 2010","Roşescu  ap. 43",142.05000000000001,"chelt com luna ian"]
[2033,"24 02 2010","Ursu  ap. 44",108.44,"chelt com luna ian"]
[2034,"24 02 2010","Săcui  ap. 45",107.27,"chelt com luna ian"]
[2035,"24 02 2010","Mărinceanu  ap. 46",426.45,"chelt com luna ian"]
[2036,"24 02 2010","Ricean  ap. 47",68.37,"chelt com luna ian"]
[2037,"24 02 2010","Sabo  ap. 48",203.76,"chelt com luna ian"]
[2038,"24 02 2010","Câmpan  ap. 49",446.59,"chelt com luna ian"]
[2039,"24 02 2010","Tudoran  ap. 50",547.9,"chelt com luna ian"]
[2040,"24 02 2010","Ciubotariu  ap. 51",397.01,"chelt com luna ian"]
[2041,"24 02 2010","Cristea  ap. 52",404.57,"chelt com luna ian"]
[2042,"24 02 2010","Stănescu  ap. 53",418.37,"chelt com luna ian"]
[2043,"24 02 2010","Dejeu  ap. 54",476.27,"chelt com luna ian"]
[2044,"24 02 2010","Feşnic  ap. 55",605.87,"chelt com luna ian"]
[2045,"24 02 2010","Fonoage  ap. 56",269.17,"chelt com luna ian"]
[2046,"24 02 2010","Baras A  ap. 57",296.81,"chelt com luna ian"]
[2047,"24 02 2010","Fărcaş N  ap. 58",41.26,"chelt com luna ian"]
[2048,"24 02 2010","Bagaméri  ap. 59",294.01,"chelt com luna ian"]
[2049,"24 02 2010","Cristovici  ap. 60",47.85,"chelt com luna ian"]
[2050,"24 02 2010","Trifoiu  ap. 61",88.33,"chelt com luna ian"]
[2051,"24 02 2010","Fabian   ap. 62",77.489999999999995,"chelt com luna ian"]
[2052,"24 02 2010","Fărăgău  ap. 63",76.81,"chelt com luna ian"]
[2053,"24 02 2010","Rus  ap. 64",354.34,"chelt com luna ian"]
[2054,"24 02 2010","Pop   ap. 65",135.41,"chelt com luna ian"]
[2055,"24 02 2010","Bejan  ap. 66",72.91,"chelt com luna ian"]
[2056,"24 02 2010","Moga  ap. 67",21.81,"chelt com luna ian"]
[2057,"24 02 2010","Legian  ap. 68",163.24,"chelt com luna ian"]
[2058,"24 02 2010","Mocanu  ap. 69",126.93,"chelt com luna ian"]
[2059,"24 02 2010","Pop C.  ap. 70",126.75,"chelt com luna ian"]
[2060,"24 03 2010","Csapo  ap. 1",15.64,"chelt com luna febr"]
[2061,"24 03 2010","Bugnar  ap. 2",62.7,"chelt com luna febr"]
[2062,"24 03 2010","Tunyogi  ap. 3",279.14999999999998,"chelt com luna febr"]
[2063,"24 03 2010","Garbou  ap. 4",17.38,"chelt com luna febr"]
[2064,"24 03 2010","Szép  ap. 5",435.45,"chelt com luna febr"]
[2065,"24 03 2010","Bara  ap. 6",299.37,"chelt com luna febr"]
[2066,"24 03 2010","Colceriu  ap. 7",176.8,"chelt com luna febr"]
[2067,"24 03 2010","Gabor  ap. 8",33.01,"chelt com luna febr"]
[2068,"24 03 2010","Neamţ  ap. 9",15.23,"chelt com luna febr"]
[2069,"24 03 2010","Micşunescu  ap. 10",40.93,"chelt com luna febr"]
[2070,"24 03 2010","Jugrestan  ap. 11",29.03,"chelt com luna febr"]
[2071,"24 03 2010","Tárkányi  ap. 12",343.32,"chelt com luna febr"]
[2072,"24 03 2010","Nebert  ap. 13",36.950000000000003,"chelt com luna febr"]
[2073,"24 03 2010","Crişan  ap. 14",56.19,"chelt com luna febr"]
[2074,"24 03 2010","Lazăr  ap. 15",54.2,"chelt com luna febr"]
[2075,"24 03 2010","Vescan  ap. 16",38.64,"chelt com luna febr"]
[2076,"24 03 2010","Mihăescu  ap. 17",339.1,"chelt com luna febr"]
[2077,"24 03 2010","Pop T  ap. 18",77.84,"chelt com luna febr"]
[2078,"24 03 2010","Mureşan I  ap. 19",79.5,"chelt com luna febr"]
[2079,"24 03 2010","Ibbison  ap. 20",53.96,"chelt com luna febr"]
[2080,"24 03 2010","Kállai  ap. 21",75.69,"chelt com luna febr"]
[2081,"24 03 2010","Indolean  ap. 22",69.88,"chelt com luna febr"]
[2082,"24 03 2010","Mureşan E  ap. 23",50.89,"chelt com luna febr"]
[2083,"24 03 2010","Stanimir  ap. 23A",66.92,"chelt com luna febr"]
[2084,"24 03 2010","Cheţan  ap. 24",84.96,"chelt com luna febr"]
[2085,"24 03 2010","Călin  ap. 25",67.73,"chelt com luna febr"]
[2086,"24 03 2010","Turcu  ap. 26",255.56,"chelt com luna febr"]
[2087,"24 03 2010","Creţeanu  ap. 27",92.72,"chelt com luna febr"]
[2088,"24 03 2010","Zegreanu  ap. 28",312.3,"chelt com luna febr"]
[2089,"24 03 2010","Şerban  ap. 29",350.26,"chelt com luna febr"]
[2090,"24 03 2010","Mihăescu  ap. 30",322.49,"chelt com luna febr"]
[2091,"24 03 2010","Pop R  ap. 31",319.36,"chelt com luna febr"]
[2092,"24 03 2010","Lungu  ap. 32",72.78,"chelt com luna febr"]
[2093,"24 03 2010","Mihuţ  ap. 33",365.71,"chelt com luna febr"]
[2094,"24 03 2010","Postescu  ap. 34",68.8,"chelt com luna febr"]
[2095,"24 03 2010","Goia  ap. 35",361.73,"chelt com luna febr"]
[2096,"24 03 2010","Dodu  ap. 36",319.33,"chelt com luna febr"]
[2097,"24 03 2010","Drăghici  ap. 37",62.41,"chelt com luna febr"]
[2098,"24 03 2010","Néda  ap. 38",334.31,"chelt com luna febr"]
[2099,"24 03 2010","Vornicescu  ap. 39",62.98,"chelt com luna febr"]
[2100,"24 03 2010","Sparleanu  ap. 40",49.18,"chelt com luna febr"]
[2101,"24 03 2010","Raboca  ap. 41",385.08,"chelt com luna febr"]
[2102,"24 03 2010","Negru  ap. 42",77.040000000000006,"chelt com luna febr"]
[2103,"24 03 2010","Roşescu  ap. 43",92.11,"chelt com luna febr"]
[2104,"24 03 2010","Ursu  ap. 44",57.1,"chelt com luna febr"]
[2105,"24 03 2010","Săcui  ap. 45",62.98,"chelt com luna febr"]
[2106,"24 03 2010","Mărinceanu  ap. 46",356.5,"chelt com luna febr"]
[2107,"24 03 2010","Ricean  ap. 47",55.22,"chelt com luna febr"]
[2108,"24 03 2010","Sabo  ap. 48",217.03,"chelt com luna febr"]
[2109,"24 03 2010","Câmpan  ap. 49",360.29,"chelt com luna febr"]
[2110,"24 03 2010","Tudoran  ap. 50",539.29999999999995,"chelt com luna febr"]
[2111,"24 03 2010","Ciubotariu  ap. 51",297.36,"chelt com luna febr"]
[2112,"24 03 2010","Cristea  ap. 52",345.27,"chelt com luna febr"]
[2113,"24 03 2010","Stănescu  ap. 53",342.06,"chelt com luna febr"]
[2114,"24 03 2010","Dejeu  ap. 54",347.06,"chelt com luna febr"]
[2115,"24 03 2010","Feşnic  ap. 55",512.79999999999995,"chelt com luna febr"]
[2116,"24 03 2010","Fonoage  ap. 56",205.8,"chelt com luna febr"]
[2117,"24 03 2010","Baras A  ap. 57",209.92,"chelt com luna febr"]
[2118,"24 03 2010","Fărcaş N  ap. 58",38.94,"chelt com luna febr"]
[2119,"24 03 2010","Bagaméri  ap. 59",237.67,"chelt com luna febr"]
[2120,"24 03 2010","Cristovici  ap. 60",44.74,"chelt com luna febr"]
[2121,"24 03 2010","Trifoiu  ap. 61",87.61,"chelt com luna febr"]
[2122,"24 03 2010","Fabian   ap. 62",77.58,"chelt com luna febr"]
[2123,"24 03 2010","Fărăgău  ap. 63",83.75,"chelt com luna febr"]
[2124,"24 03 2010","Rus  ap. 64",243.73,"chelt com luna febr"]
[2125,"24 03 2010","Pop   ap. 65",135.69,"chelt com luna febr"]
[2126,"24 03 2010","Bejan  ap. 66",71.81,"chelt com luna febr"]
[2127,"24 03 2010","Moga  ap. 67",52.58,"chelt com luna febr"]
[2128,"24 03 2010","Legian  ap. 68",191.18,"chelt com luna febr"]
[2129,"24 03 2010","Mocanu  ap. 69",121.96,"chelt com luna febr"]
[2130,"24 03 2010","Pop C.  ap. 70",117.86,"chelt com luna febr"]
[2131,"22 04 2010","Lăpuştea  ap. 1",51.37,"chelt com luna martie 2010"]
[2132,"22 04 2010","Bugnar  ap. 2",42.78,"chelt com luna martie 2010"]
[2133,"22 04 2010","Tunyogi  ap. 3",234.36,"chelt com luna martie 2010"]
[2134,"22 04 2010","Garbou  ap. 4",32.700000000000003,"chelt com luna martie 2010"]
[2135,"22 04 2010","Szép  ap. 5",436.99,"chelt com luna martie 2010"]
[2136,"22 04 2010","Bara  ap. 6",250.9,"chelt com luna martie 2010"]
[2137,"22 04 2010","Colceriu  ap. 7",215.04,"chelt com luna martie 2010"]
[2138,"22 04 2010","Gabor  ap. 8",24.78,"chelt com luna martie 2010"]
[2139,"22 04 2010","Neamţ  ap. 9",103.08,"chelt com luna martie 2010"]
[2140,"22 04 2010","Micşunescu  ap. 10",40.659999999999997,"chelt com luna martie 2010"]
[2141,"22 04 2010","Jugrestan  ap. 11",28.76,"chelt com luna martie 2010"]
[2142,"22 04 2010","Tárkányi  ap. 12",296.3,"chelt com luna martie 2010"]
[2143,"22 04 2010","Nebert  ap. 13",36.68,"chelt com luna martie 2010"]
[2144,"22 04 2010","Crişan  ap. 14",56.8,"chelt com luna martie 2010"]
[2145,"22 04 2010","Lazăr  ap. 15",47.08,"chelt com luna martie 2010"]
[2146,"22 04 2010","Vescan  ap. 16",78.3,"chelt com luna martie 2010"]
[2147,"22 04 2010","Mihăescu  ap. 17",295.68,"chelt com luna martie 2010"]
[2148,"22 04 2010","Pop T  ap. 18",86.93,"chelt com luna martie 2010"]
[2149,"22 04 2010","Mureşan I  ap. 19",76.45,"chelt com luna martie 2010"]
[2150,"22 04 2010","Ibbison  ap. 20",59.07,"chelt com luna martie 2010"]
[2151,"22 04 2010","Kállai  ap. 21",68.63,"chelt com luna martie 2010"]
[2152,"22 04 2010","Indolean  ap. 22",63.05,"chelt com luna martie 2010"]
[2153,"22 04 2010","Mureşan E  ap. 23",53.06,"chelt com luna martie 2010"]
[2154,"22 04 2010","Stanimir  ap. 23A",92.11,"chelt com luna martie 2010"]
[2155,"22 04 2010","Cheţan  ap. 24",67.489999999999995,"chelt com luna martie 2010"]
[2156,"22 04 2010","Călin  ap. 25",64.650000000000006,"chelt com luna martie 2010"]
[2157,"22 04 2010","Turcu  ap. 26",221.3,"chelt com luna martie 2010"]
[2158,"22 04 2010","Creţeanu  ap. 27",80.459999999999994,"chelt com luna martie 2010"]
[2159,"22 04 2010","Zegreanu  ap. 28",251.06,"chelt com luna martie 2010"]
[2160,"22 04 2010","Şerban  ap. 29",318.85000000000002,"chelt com luna martie 2010"]
[2161,"22 04 2010","Mihăescu  ap. 30",308.93,"chelt com luna martie 2010"]
[2162,"22 04 2010","Pop R  ap. 31",280.20999999999998,"chelt com luna martie 2010"]
[2163,"22 04 2010","Lungu  ap. 32",56.54,"chelt com luna martie 2010"]
[2164,"22 04 2010","Mihuţ  ap. 33",338.61,"chelt com luna martie 2010"]
[2165,"22 04 2010","Postescu  ap. 34",68.48,"chelt com luna martie 2010"]
[2166,"22 04 2010","Goia  ap. 35",326.74,"chelt com luna martie 2010"]
[2167,"22 04 2010","Dodu  ap. 36",283.33,"chelt com luna martie 2010"]
[2168,"22 04 2010","Drăghici  ap. 37",46.43,"chelt com luna martie 2010"]
[2169,"22 04 2010","Néda  ap. 38",330.88,"chelt com luna martie 2010"]
[2170,"22 04 2010","Vornicescu  ap. 39",96.05,"chelt com luna martie 2010"]
[2171,"22 04 2010","Sparleanu  ap. 40",17.48,"chelt com luna martie 2010"]
[2172,"22 04 2010","Raboca  ap. 41",344.91,"chelt com luna martie 2010"]
[2173,"22 04 2010","Negru  ap. 42",74.510000000000005,"chelt com luna martie 2010"]
[2174,"22 04 2010","Roşescu  ap. 43",84.36,"chelt com luna martie 2010"]
[2175,"22 04 2010","Ursu  ap. 44",54.58,"chelt com luna martie 2010"]
[2176,"22 04 2010","Săcui  ap. 45",64.209999999999994,"chelt com luna martie 2010"]
[2177,"22 04 2010","Mărinceanu  ap. 46",344.24,"chelt com luna martie 2010"]
[2178,"22 04 2010","Ricean  ap. 47",54.99,"chelt com luna martie 2010"]
[2179,"22 04 2010","Sabo  ap. 48",234.9,"chelt com luna martie 2010"]
[2180,"22 04 2010","Câmpan  ap. 49",337.99,"chelt com luna martie 2010"]
[2181,"22 04 2010","Tudoran  ap. 50",507.31,"chelt com luna martie 2010"]
[2182,"22 04 2010","Ciubotariu  ap. 51",220.61,"chelt com luna martie 2010"]
[2183,"22 04 2010","Cristea  ap. 52",285.02999999999997,"chelt com luna martie 2010"]
[2184,"22 04 2010","Stănescu  ap. 53",292.45999999999998,"chelt com luna martie 2010"]
[2185,"22 04 2010","Dejeu  ap. 54",306.42,"chelt com luna martie 2010"]
[2186,"22 04 2010","Feşnic  ap. 55",490.51,"chelt com luna martie 2010"]
[2187,"22 04 2010","Fonoage  ap. 56",177.46,"chelt com luna martie 2010"]
[2188,"22 04 2010","Baras A  ap. 57",212.26,"chelt com luna martie 2010"]
[2189,"22 04 2010","Fărcaş N  ap. 58",34.93,"chelt com luna martie 2010"]
[2190,"22 04 2010","Bagaméri  ap. 59",208.99,"chelt com luna martie 2010"]
[2191,"22 04 2010","Cristovici  ap. 60",40.53,"chelt com luna martie 2010"]
[2192,"22 04 2010","Trifoiu  ap. 61",84.44,"chelt com luna martie 2010"]
[2193,"22 04 2010","Fabian   ap. 62",58.62,"chelt com luna martie 2010"]
[2194,"22 04 2010","Fărăgău  ap. 63",80.45,"chelt com luna martie 2010"]
[2195,"22 04 2010","Rus  ap. 64",266.43,"chelt com luna martie 2010"]
[2196,"22 04 2010","Pop   ap. 65",134.49,"chelt com luna martie 2010"]
[2197,"22 04 2010","Bejan  ap. 66",64.53,"chelt com luna martie 2010"]
[2198,"22 04 2010","Moga  ap. 67",56.46,"chelt com luna martie 2010"]
[2199,"22 04 2010","Legian  ap. 68",162.22999999999999,"chelt com luna martie 2010"]
[2200,"22 04 2010","Mocanu  ap. 69",112.54,"chelt com luna martie 2010"]
[2201,"22 04 2010","Pop C.  ap. 70",108.45,"chelt com luna martie 2010"]
[2202,"26 05 2010","Lăpuştea  ap. 1",69.47,"chelt com luna apr 2010"]
[2203,"26 05 2010","Bugnar  ap. 2",42.34,"chelt com luna apr 2010"]
[2204,"26 05 2010","Tunyogi  ap. 3",203.68,"chelt com luna apr 2010"]
[2205,"26 05 2010","Garbou  ap. 4",60.48,"chelt com luna apr 2010"]
[2206,"26 05 2010","Szép  ap. 5",350.35,"chelt com luna apr 2010"]
[2207,"26 05 2010","Bara  ap. 6",224.04,"chelt com luna apr 2010"]
[2208,"26 05 2010","Colceriu  ap. 7",188.35,"chelt com luna apr 2010"]
[2209,"26 05 2010","Gabor  ap. 8",32.630000000000003,"chelt com luna apr 2010"]
[2210,"26 05 2010","Neamţ  ap. 9",127.63,"chelt com luna apr 2010"]
[2211,"26 05 2010","Micşunescu  ap. 10",48.44,"chelt com luna apr 2010"]
[2212,"26 05 2010","Jugrestan  ap. 11",56.61,"chelt com luna apr 2010"]
[2213,"26 05 2010","Tárkányi  ap. 12",237.35,"chelt com luna apr 2010"]
[2214,"26 05 2010","Nebert  ap. 13",40.479999999999997,"chelt com luna apr 2010"]
[2215,"26 05 2010","Crişan  ap. 14",55.26,"chelt com luna apr 2010"]
[2216,"26 05 2010","Lazăr  ap. 15",57.08,"chelt com luna apr 2010"]
[2217,"26 05 2010","Vescan  ap. 16",217.35,"chelt com luna apr 2010"]
[2218,"26 05 2010","Mihăescu  ap. 17",304.8,"chelt com luna apr 2010"]
[2219,"26 05 2010","Pop Florin  ap. 18",144.06,"chelt com luna apr 2010"]
[2220,"26 05 2010","Mureşan I  ap. 19",133.65,"chelt com luna apr 2010"]
[2221,"26 05 2010","Ibbison  ap. 20",120.18,"chelt com luna apr 2010"]
[2222,"26 05 2010","Kállai  ap. 21",137.78,"chelt com luna apr 2010"]
[2223,"26 05 2010","Indolean  ap. 22",124.16,"chelt com luna apr 2010"]
[2224,"26 05 2010","Mureşan E  ap. 23",114.36,"chelt com luna apr 2010"]
[2225,"26 05 2010","Stanimir  ap. 23A",148.83000000000001,"chelt com luna apr 2010"]
[2226,"26 05 2010","Cheţan  ap. 24",158.86000000000001,"chelt com luna apr 2010"]
[2227,"26 05 2010","Călin  ap. 25",129.82,"chelt com luna apr 2010"]
[2228,"26 05 2010","Turcu  ap. 26",142.63,"chelt com luna apr 2010"]
[2229,"26 05 2010","Creţeanu  ap. 27",82.37,"chelt com luna apr 2010"]
[2230,"26 05 2010","Zegreanu  ap. 28",187.12,"chelt com luna apr 2010"]
[2231,"26 05 2010","Şerban  ap. 29",187.18,"chelt com luna apr 2010"]
[2232,"26 05 2010","Mihăescu  ap. 30",197.41,"chelt com luna apr 2010"]
[2233,"26 05 2010","Pop R  ap. 31",167.31,"chelt com luna apr 2010"]
[2234,"26 05 2010","Lungu  ap. 32",82.26,"chelt com luna apr 2010"]
[2235,"26 05 2010","Mihuţ  ap. 33",217.92,"chelt com luna apr 2010"]
[2236,"26 05 2010","Postescu  ap. 34",62.36,"chelt com luna apr 2010"]
[2237,"26 05 2010","Goia  ap. 35",225.33,"chelt com luna apr 2010"]
[2238,"26 05 2010","Dodu  ap. 36",203.86,"chelt com luna apr 2010"]
[2239,"26 05 2010","Drăghici  ap. 37",88,"chelt com luna apr 2010"]
[2240,"26 05 2010","Néda  ap. 38",237.38,"chelt com luna apr 2010"]
[2241,"26 05 2010","Vornicescu  ap. 39",105.75,"chelt com luna apr 2010"]
[2242,"26 05 2010","Sparleanu  ap. 40",17.78,"chelt com luna apr 2010"]
[2243,"26 05 2010","Raboca  ap. 41",282.67,"chelt com luna apr 2010"]
[2244,"26 05 2010","Negru  ap. 42",80.069999999999993,"chelt com luna apr 2010"]
[2245,"26 05 2010","Roşescu  ap. 43",103.3,"chelt com luna apr 2010"]
[2246,"26 05 2010","Ursu  ap. 44",60.16,"chelt com luna apr 2010"]
[2247,"26 05 2010","Săcui  ap. 45",57.89,"chelt com luna apr 2010"]
[2248,"26 05 2010","Mărinceanu  ap. 46",252.97,"chelt com luna apr 2010"]
[2249,"26 05 2010","Ricean  ap. 47",60.22,"chelt com luna apr 2010"]
[2250,"26 05 2010","Sabo  ap. 48",215.26,"chelt com luna apr 2010"]
[2251,"26 05 2010","Câmpan  ap. 49",241.21,"chelt com luna apr 2010"]
[2252,"26 05 2010","Tudoran  ap. 50",264.43,"chelt com luna apr 2010"]
[2253,"26 05 2010","Ciubotariu  ap. 51",159.61000000000001,"chelt com luna apr 2010"]
[2254,"26 05 2010","Cristea  ap. 52",226.3,"chelt com luna apr 2010"]
[2255,"26 05 2010","Stănescu  ap. 53",195.05,"chelt com luna apr 2010"]
[2256,"26 05 2010","Dejeu  ap. 54",285.45,"chelt com luna apr 2010"]
[2257,"26 05 2010","Feşnic  ap. 55",403.64,"chelt com luna apr 2010"]
[2258,"26 05 2010","Fonoage  ap. 56",121.84,"chelt com luna apr 2010"]
[2259,"26 05 2010","Baras A  ap. 57",147.12,"chelt com luna apr 2010"]
[2260,"26 05 2010","Fărcaş N  ap. 58",42.45,"chelt com luna apr 2010"]
[2261,"26 05 2010","Bagaméri  ap. 59",159.38999999999999,"chelt com luna apr 2010"]
[2262,"26 05 2010","Cristovici  ap. 60",28.42,"chelt com luna apr 2010"]
[2263,"26 05 2010","Trifoiu  ap. 61",111.6,"chelt com luna apr 2010"]
[2264,"26 05 2010","Fabian   ap. 62",60.58,"chelt com luna apr 2010"]
[2265,"26 05 2010","Fărăgău  ap. 63",78.739999999999995,"chelt com luna apr 2010"]
[2266,"26 05 2010","Rus  ap. 64",238.52,"chelt com luna apr 2010"]
[2267,"26 05 2010","Pop   ap. 65",141.43,"chelt com luna apr 2010"]
[2268,"26 05 2010","Bejan  ap. 66",78.739999999999995,"chelt com luna apr 2010"]
[2269,"26 05 2010","Moga  ap. 67",58.71,"chelt com luna apr 2010"]
[2270,"26 05 2010","Legian  ap. 68",227.86,"chelt com luna apr 2010"]
[2271,"26 05 2010","Mocanu  ap. 69",123.67,"chelt com luna apr 2010"]
[2272,"26 05 2010","Pop C.  ap. 70",115.58,"chelt com luna apr 2010"]
[2273,"23 06 2010","Lăpuştea  ap. 1",57.51,"chelt com luna mai"]
[2274,"23 06 2010","Bugnar  ap. 2",29.27,"chelt com luna mai"]
[2275,"23 06 2010","Tunyogi  ap. 3",76.180000000000007,"chelt com luna mai"]
[2276,"23 06 2010","Garbou  ap. 4",29.56,"chelt com luna mai"]
[2277,"23 06 2010","Szép  ap. 5",202.14,"chelt com luna mai"]
[2278,"23 06 2010","Bara  ap. 6",49.74,"chelt com luna mai"]
[2279,"23 06 2010","Colceriu  ap. 7",75.989999999999995,"chelt com luna mai"]
[2280,"23 06 2010","Gabor  ap. 8",17.64,"chelt com luna mai"]
[2281,"23 06 2010","Neamţ  ap. 9",97.62,"chelt com luna mai"]
[2282,"23 06 2010","Micşunescu  ap. 10",37.520000000000003,"chelt com luna mai"]
[2283,"23 06 2010","Jugrestan  ap. 11",29.58,"chelt com luna mai"]
[2284,"23 06 2010","Tárkányi  ap. 12",169.53,"chelt com luna mai"]
[2285,"23 06 2010","Nebert  ap. 13",29.56,"chelt com luna mai"]
[2286,"23 06 2010","Crişan  ap. 14",29.58,"chelt com luna mai"]
[2287,"23 06 2010","Lazăr  ap. 15",41.55,"chelt com luna mai"]
[2288,"23 06 2010","Vescan  ap. 16",158,"chelt com luna mai"]
[2289,"23 06 2010","Mihăescu  ap. 17",130.4,"chelt com luna mai"]
[2290,"23 06 2010","Pop Florin  ap. 18",129.58000000000001,"chelt com luna mai"]
[2291,"23 06 2010","Mureşan I  ap. 19",121.81,"chelt com luna mai"]
[2292,"23 06 2010","Ibbison  ap. 20",97.74,"chelt com luna mai"]
[2293,"23 06 2010","Kállai  ap. 21",109.89,"chelt com luna mai"]
[2294,"23 06 2010","Indolean  ap. 22",105.7,"chelt com luna mai"]
[2295,"23 06 2010","Mureşan E  ap. 23",113.87,"chelt com luna mai"]
[2296,"23 06 2010","Stanimir  ap. 23A",132.21,"chelt com luna mai"]
[2297,"23 06 2010","Cheţan  ap. 24",129.87,"chelt com luna mai"]
[2298,"23 06 2010","Călin  ap. 25",113.87,"chelt com luna mai"]
[2299,"23 06 2010","Turcu  ap. 26",7.96,"chelt com luna mai"]
[2300,"23 06 2010","Creţeanu  ap. 27",69.56,"chelt com luna mai"]
[2301,"23 06 2010","Zegreanu  ap. 28",57.97,"chelt com luna mai"]
[2302,"23 06 2010","Şerban  ap. 29",67.77,"chelt com luna mai"]
[2303,"23 06 2010","Mihăescu  ap. 30",117.38,"chelt com luna mai"]
[2304,"23 06 2010","Pop R  ap. 31",39.44,"chelt com luna mai"]
[2305,"23 06 2010","Lungu  ap. 32",77.5,"chelt com luna mai"]
[2306,"23 06 2010","Mihuţ  ap. 33",96.07,"chelt com luna mai"]
[2307,"23 06 2010","Postescu  ap. 34",57.6,"chelt com luna mai"]
[2308,"23 06 2010","Goia  ap. 35",92.09,"chelt com luna mai"]
[2309,"23 06 2010","Dodu  ap. 36",81.16,"chelt com luna mai"]
[2310,"23 06 2010","Drăghici  ap. 37",101.13,"chelt com luna mai"]
[2311,"23 06 2010","Néda  ap. 38",121.4,"chelt com luna mai"]
[2312,"23 06 2010","Vornicescu  ap. 39",81.73,"chelt com luna mai"]
[2313,"23 06 2010","Sparleanu  ap. 40",15.92,"chelt com luna mai"]
[2314,"23 06 2010","Raboca  ap. 41",120.94,"chelt com luna mai"]
[2315,"23 06 2010","Negru  ap. 42",77.540000000000006,"chelt com luna mai"]
[2316,"23 06 2010","Roşescu  ap. 43",78.33,"chelt com luna mai"]
[2317,"23 06 2010","Ursu  ap. 44",33.76,"chelt com luna mai"]
[2318,"23 06 2010","Săcui  ap. 45",49.89,"chelt com luna mai"]
[2319,"23 06 2010","Mărinceanu  ap. 46",115.58,"chelt com luna mai"]
[2320,"23 06 2010","Ricean  ap. 47",47.25,"chelt com luna mai"]
[2321,"23 06 2010","Sabo  ap. 48",97.16,"chelt com luna mai"]
[2322,"23 06 2010","Câmpan  ap. 49",83.49,"chelt com luna mai"]
[2323,"23 06 2010","Tudoran  ap. 50",291.58,"chelt com luna mai"]
[2324,"23 06 2010","Ciubotariu  ap. 51",9.1300000000000008,"chelt com luna mai"]
[2325,"23 06 2010","Cristea  ap. 52",90.08,"chelt com luna mai"]
[2326,"23 06 2010","Stănescu  ap. 53",55.29,"chelt com luna mai"]
[2327,"23 06 2010","Dejeu  ap. 54",25.6,"chelt com luna mai"]
[2328,"23 06 2010","Feşnic  ap. 55",278.52,"chelt com luna mai"]
[2329,"23 06 2010","Fonoage  ap. 56",15.9,"chelt com luna mai"]
[2330,"23 06 2010","Baras A  ap. 57",51.19,"chelt com luna mai"]
[2331,"23 06 2010","Fărcaş N  ap. 58",33.51,"chelt com luna mai"]
[2332,"23 06 2010","Bagaméri  ap. 59",55.17,"chelt com luna mai"]
[2333,"23 06 2010","Cristovici  ap. 60",37.76,"chelt com luna mai"]
[2334,"23 06 2010","Trifoiu  ap. 61",91.18,"chelt com luna mai"]
[2335,"23 06 2010","Fabian   ap. 62",53.93,"chelt com luna mai"]
[2336,"23 06 2010","Fărăgău  ap. 63",46.28,"chelt com luna mai"]
[2337,"23 06 2010","Rus  ap. 64",76.98,"chelt com luna mai"]
[2338,"23 06 2010","Pop   ap. 65",126.71,"chelt com luna mai"]
[2339,"23 06 2010","Bejan  ap. 66",62.2,"chelt com luna mai"]
[2340,"23 06 2010","Moga  ap. 67",8.24,"chelt com luna mai"]
[2341,"23 06 2010","Legian  ap. 68",183.43,"chelt com luna mai"]
[2342,"23 06 2010","Mocanu  ap. 69",111.1,"chelt com luna mai"]
[2343,"23 06 2010","Pop C.  ap. 70",103.12,"chelt com luna mai"]
[2344,"22 07 2010","Lăpuştea  ap. 1",52.74,"chelt com luna iunie"]
[2345,"22 07 2010","Bugnar  ap. 2",45.8,"chelt com luna iunie"]
[2346,"22 07 2010","Tunyogi  ap. 3",92.89,"chelt com luna iunie"]
[2347,"22 07 2010","Garbou  ap. 4",39.86,"chelt com luna iunie"]
[2348,"22 07 2010","Szép  ap. 5",191.67,"chelt com luna iunie"]
[2349,"22 07 2010","Bara  ap. 6",35.82,"chelt com luna iunie"]
[2350,"22 07 2010","Colceriu  ap. 7",65.39,"chelt com luna iunie"]
[2351,"22 07 2010","Gabor  ap. 8",32.03,"chelt com luna iunie"]
[2352,"22 07 2010","Neamţ  ap. 9",102.79,"chelt com luna iunie"]
[2353,"22 07 2010","Micşunescu  ap. 10",47.82,"chelt com luna iunie"]
[2354,"22 07 2010","Jugrestan  ap. 11",36.01,"chelt com luna iunie"]
[2355,"22 07 2010","Tárkányi  ap. 12",113.1,"chelt com luna iunie"]
[2356,"22 07 2010","Nebert  ap. 13",35.880000000000003,"chelt com luna iunie"]
[2357,"22 07 2010","Crişan  ap. 14",32.03,"chelt com luna iunie"]
[2358,"22 07 2010","Lazăr  ap. 15",33.86,"chelt com luna iunie"]
[2359,"22 07 2010","Vescan  ap. 16",165.23,"chelt com luna iunie"]
[2360,"22 07 2010","Mihăescu  ap. 17",148.47,"chelt com luna iunie"]
[2361,"22 07 2010","Pop Florin  ap. 18",144.21,"chelt com luna iunie"]
[2362,"22 07 2010","Mureşan I  ap. 19",129.66,"chelt com luna iunie"]
[2363,"22 07 2010","Ibbison  ap. 20",96.45,"chelt com luna iunie"]
[2364,"22 07 2010","Kállai  ap. 21",121.83,"chelt com luna iunie"]
[2365,"22 07 2010","Indolean  ap. 22",112.37,"chelt com luna iunie"]
[2366,"22 07 2010","Mureşan E  ap. 23",125.81,"chelt com luna iunie"]
[2367,"22 07 2010","Stanimir  ap. 23A",122.9,"chelt com luna iunie"]
[2368,"22 07 2010","Cheţan  ap. 24",134.88,"chelt com luna iunie"]
[2369,"22 07 2010","Călin  ap. 25",117.85,"chelt com luna iunie"]
[2370,"22 07 2010","Turcu  ap. 26",16.649999999999999,"chelt com luna iunie"]
[2371,"22 07 2010","Creţeanu  ap. 27",109.98,"chelt com luna iunie"]
[2372,"22 07 2010","Zegreanu  ap. 28",70.98,"chelt com luna iunie"]
[2373,"22 07 2010","Şerban  ap. 29",65.290000000000006,"chelt com luna iunie"]
[2374,"22 07 2010","Mihăescu  ap. 30",98.19,"chelt com luna iunie"]
[2375,"22 07 2010","Pop R  ap. 31",58.23,"chelt com luna iunie"]
[2376,"22 07 2010","Lungu  ap. 32",46.17,"chelt com luna iunie"]
[2377,"22 07 2010","Mihuţ  ap. 33",89.55,"chelt com luna iunie"]
[2378,"22 07 2010","Postescu  ap. 34",62.09,"chelt com luna iunie"]
[2379,"22 07 2010","Goia  ap. 35",89.55,"chelt com luna iunie"]
[2380,"22 07 2010","Dodu  ap. 36",82.01,"chelt com luna iunie"]
[2381,"22 07 2010","Drăghici  ap. 37",99.99,"chelt com luna iunie"]
[2382,"22 07 2010","Néda  ap. 38",78.03,"chelt com luna iunie"]
[2383,"22 07 2010","Vornicescu  ap. 39",71.67,"chelt com luna iunie"]
[2384,"22 07 2010","Sparleanu  ap. 40",70.17,"chelt com luna iunie"]
[2385,"22 07 2010","Raboca  ap. 41",125.83,"chelt com luna iunie"]
[2386,"22 07 2010","Negru  ap. 42",74.150000000000006,"chelt com luna iunie"]
[2387,"22 07 2010","Roşescu  ap. 43",82.16,"chelt com luna iunie"]
[2388,"22 07 2010","Ursu  ap. 44",62.21,"chelt com luna iunie"]
[2389,"22 07 2010","Săcui  ap. 45",59.73,"chelt com luna iunie"]
[2390,"22 07 2010","Mărinceanu  ap. 46",118.61,"chelt com luna iunie"]
[2391,"22 07 2010","Ricean  ap. 47",58.54,"chelt com luna iunie"]
[2392,"22 07 2010","Sabo  ap. 48",100.4,"chelt com luna iunie"]
[2393,"22 07 2010","Câmpan  ap. 49",93.54,"chelt com luna iunie"]
[2394,"22 07 2010","Tudoran  ap. 50",452.54,"chelt com luna iunie"]
[2395,"22 07 2010","Ciubotariu  ap. 51",16.87,"chelt com luna iunie"]
[2396,"22 07 2010","Cristea  ap. 52",84.21,"chelt com luna iunie"]
[2397,"22 07 2010","Stănescu  ap. 53",62.41,"chelt com luna iunie"]
[2398,"22 07 2010","Dejeu  ap. 54",28.69,"chelt com luna iunie"]
[2399,"22 07 2010","Feşnic  ap. 55",279.92,"chelt com luna iunie"]
[2400,"22 07 2010","Fonoage  ap. 56",20.97,"chelt com luna iunie"]
[2401,"22 07 2010","Baras A  ap. 57",26.91,"chelt com luna iunie"]
[2402,"22 07 2010","Fărcaş N  ap. 58",45.86,"chelt com luna iunie"]
[2403,"22 07 2010","Bagaméri  ap. 59",41.03,"chelt com luna iunie"]
[2404,"22 07 2010","Cristovici  ap. 60",43.7,"chelt com luna iunie"]
[2405,"22 07 2010","Ureche  ap. 61",106.36,"chelt com luna iunie"]
[2406,"22 07 2010","Fabian   ap. 62",63.81,"chelt com luna iunie"]
[2407,"22 07 2010","Fărăgău  ap. 63",50.04,"chelt com luna iunie"]
[2408,"22 07 2010","Rus  ap. 64",77.45,"chelt com luna iunie"]
[2409,"22 07 2010","Pop   ap. 65",124.24,"chelt com luna iunie"]
[2410,"22 07 2010","Bejan  ap. 66",77.900000000000006,"chelt com luna iunie"]
[2411,"22 07 2010","Moga  ap. 67",16.399999999999999,"chelt com luna iunie"]
[2412,"22 07 2010","Legian  ap. 68",150.61000000000001,"chelt com luna iunie"]
[2413,"22 07 2010","Mocanu  ap. 69",122.41,"chelt com luna iunie"]
[2414,"22 07 2010","Pop C.  ap. 70",88.08,"chelt com luna iunie"]
[2415,"30 08 2010","Lăpuştea  ap. 1",35.409999999999997,"chelt com luna iulie"]
[2416,"30 08 2010","Bugnar  ap. 2",41.18,"chelt com luna iulie"]
[2417,"30 08 2010","Tunyogi  ap. 3",67.87,"chelt com luna iulie"]
[2418,"30 08 2010","Garbou  ap. 4",29.16,"chelt com luna iulie"]
[2419,"30 08 2010","Szép  ap. 5",197.47,"chelt com luna iulie"]
[2420,"30 08 2010","Bara  ap. 6",28.47,"chelt com luna iulie"]
[2421,"30 08 2010","Colceriu  ap. 7",42.98,"chelt com luna iulie"]
[2422,"30 08 2010","Gabor  ap. 8",20.9,"chelt com luna iulie"]
[2423,"30 08 2010","Neamţ  ap. 9",80.89,"chelt com luna iulie"]
[2424,"30 08 2010","Micşunescu  ap. 10",37.44,"chelt com luna iulie"]
[2425,"30 08 2010","Jugrestan  ap. 11",29.18,"chelt com luna iulie"]
[2426,"30 08 2010","Tárkányi  ap. 12",114.81,"chelt com luna iulie"]
[2427,"30 08 2010","Nebert  ap. 13",33.299999999999997,"chelt com luna iulie"]
[2428,"30 08 2010","Crişan  ap. 14",16.760000000000002,"chelt com luna iulie"]
[2429,"30 08 2010","Lazăr  ap. 15",51.91,"chelt com luna iulie"]
[2430,"30 08 2010","Vescan  ap. 16",194.34,"chelt com luna iulie"]
[2431,"30 08 2010","Mihăescu  ap. 17",152.05000000000001,"chelt com luna iulie"]
[2432,"30 08 2010","Pop Florin  ap. 18",131.38999999999999,"chelt com luna iulie"]
[2433,"30 08 2010","Mureşan I  ap. 19",123.38,"chelt com luna iulie"]
[2434,"30 08 2010","Ibbison  ap. 20",75.069999999999993,"chelt com luna iulie"]
[2435,"30 08 2010","Kállai  ap. 21",115.12,"chelt com luna iulie"]
[2436,"30 08 2010","Indolean  ap. 22",110.69,"chelt com luna iulie"]
[2437,"30 08 2010","Mureşan E  ap. 23",94.42,"chelt com luna iulie"]
[2438,"30 08 2010","Stanimir  ap. 23A",146.09,"chelt com luna iulie"]
[2439,"30 08 2010","Cheţan  ap. 24",129.76,"chelt com luna iulie"]
[2440,"30 08 2010","Călin  ap. 25",164.8,"chelt com luna iulie"]
[2441,"30 08 2010","Turcu  ap. 26",10.34,"chelt com luna iulie"]
[2442,"30 08 2010","Creţeanu  ap. 27",46.55,"chelt com luna iulie"]
[2443,"30 08 2010","Zegreanu  ap. 28",45.26,"chelt com luna iulie"]
[2444,"30 08 2010","Şerban  ap. 29",64.86,"chelt com luna iulie"]
[2445,"30 08 2010","Mihăescu  ap. 30",84.51,"chelt com luna iulie"]
[2446,"30 08 2010","Pop R  ap. 31",35.56,"chelt com luna iulie"]
[2447,"30 08 2010","Lungu  ap. 32",63.09,"chelt com luna iulie"]
[2448,"30 08 2010","Mihuţ  ap. 33",84.8,"chelt com luna iulie"]
[2449,"30 08 2010","Postescu  ap. 34",67.23,"chelt com luna iulie"]
[2450,"30 08 2010","Goia  ap. 35",41.41,"chelt com luna iulie"]
[2451,"30 08 2010","Dodu  ap. 36",90.29,"chelt com luna iulie"]
[2452,"30 08 2010","Drăghici  ap. 37",114.01,"chelt com luna iulie"]
[2453,"30 08 2010","Néda  ap. 38",134.31,"chelt com luna iulie"]
[2454,"30 08 2010","Vornicescu  ap. 39",77.44,"chelt com luna iulie"]
[2455,"30 08 2010","Sparleanu  ap. 40",25.02,"chelt com luna iulie"]
[2456,"30 08 2010","Raboca  ap. 41",159.85,"chelt com luna iulie"]
[2457,"30 08 2010","Negru  ap. 42",73.010000000000005,"chelt com luna iulie"]
[2458,"30 08 2010","Roşescu  ap. 43",56.74,"chelt com luna iulie"]
[2459,"30 08 2010","Ursu  ap. 44",52.31,"chelt com luna iulie"]
[2460,"30 08 2010","Săcui  ap. 45",25.31,"chelt com luna iulie"]
[2461,"30 08 2010","Mărinceanu  ap. 46",91.83,"chelt com luna iulie"]
[2462,"30 08 2010","Ricean  ap. 47",68.98,"chelt com luna iulie"]
[2463,"30 08 2010","Sabo  ap. 48",70.680000000000007,"chelt com luna iulie"]
[2464,"30 08 2010","Câmpan  ap. 49",80.44,"chelt com luna iulie"]
[2465,"30 08 2010","Tudoran  ap. 50",145.1,"chelt com luna iulie"]
[2466,"30 08 2010","Ciubotariu  ap. 51",16.13,"chelt com luna iulie"]
[2467,"30 08 2010","Cristea  ap. 52",71.89,"chelt com luna iulie"]
[2468,"30 08 2010","Stănescu  ap. 53",51.28,"chelt com luna iulie"]
[2469,"30 08 2010","Dejeu  ap. 54",120.05,"chelt com luna iulie"]
[2470,"30 08 2010","Feşnic  ap. 55",280.35000000000002,"chelt com luna iulie"]
[2471,"30 08 2010","Fonoage  ap. 56",11.39,"chelt com luna iulie"]
[2472,"30 08 2010","Baras A  ap. 57",32.22,"chelt com luna iulie"]
[2473,"30 08 2010","Fărcaş N  ap. 58",40.97,"chelt com luna iulie"]
[2474,"30 08 2010","Bagaméri  ap. 59",42.19,"chelt com luna iulie"]
[2475,"30 08 2010","Cristovici  ap. 60",41.33,"chelt com luna iulie"]
[2476,"30 08 2010","Ureche  ap. 61",89.27,"chelt com luna iulie"]
[2477,"30 08 2010","Fabian   ap. 62",63.79,"chelt com luna iulie"]
[2478,"30 08 2010","Fărăgău  ap. 63",43.51,"chelt com luna iulie"]
[2479,"30 08 2010","Rus  ap. 64",80.78,"chelt com luna iulie"]
[2480,"30 08 2010","Pop   ap. 65",134.41,"chelt com luna iulie"]
[2481,"30 08 2010","Bejan  ap. 66",51.79,"chelt com luna iulie"]
[2482,"30 08 2010","Moga  ap. 67",16.47,"chelt com luna iulie"]
[2483,"30 08 2010","Legian  ap. 68",31.68,"chelt com luna iulie"]
[2484,"30 08 2010","Mocanu  ap. 69",126.55,"chelt com luna iulie"]
[2485,"30 08 2010","Pop C.  ap. 70",82.94,"chelt com luna iulie"]
[2486,"23 09 2010","Lăpuştea  ap. 1",27.8,"chelt com luna august 2010 "]
[2487,"23 09 2010","Bugnar  ap. 2",43.94,"chelt com luna august 2010 "]
[2488,"23 09 2010","Tunyogi  ap. 3",87.39,"chelt com luna august 2010 "]
[2489,"23 09 2010","Garbou  ap. 4",29.99,"chelt com luna august 2010 "]
[2490,"23 09 2010","Szép  ap. 5",232.98,"chelt com luna august 2010 "]
[2491,"23 09 2010","Bara  ap. 6",63.48,"chelt com luna august 2010 "]
[2492,"23 09 2010","Colceriu  ap. 7",109.39,"chelt com luna august 2010 "]
[2493,"23 09 2010","Gabor  ap. 8",38.44,"chelt com luna august 2010 "]
[2494,"23 09 2010","Neamţ  ap. 9",80.53,"chelt com luna august 2010 "]
[2495,"23 09 2010","Micşunescu  ap. 10",70.41,"chelt com luna august 2010 "]
[2496,"23 09 2010","Jugrestan  ap. 11",72.58,"chelt com luna august 2010 "]
[2497,"23 09 2010","Tárkányi  ap. 12",130.6,"chelt com luna august 2010 "]
[2498,"23 09 2010","Nebert  ap. 13",42.41,"chelt com luna august 2010 "]
[2499,"23 09 2010","Crişan  ap. 14",68.44,"chelt com luna august 2010 "]
[2500,"23 09 2010","Lazăr  ap. 15",68.11,"chelt com luna august 2010 "]
[2501,"23 09 2010","Vescan  ap. 16",121.97,"chelt com luna august 2010 "]
[2502,"23 09 2010","Mihăescu  ap. 17",54.08,"chelt com luna august 2010 "]
[2503,"23 09 2010","Pop Florin  ap. 18",87.82,"chelt com luna august 2010 "]
[2504,"23 09 2010","Mureşan I  ap. 19",27.16,"chelt com luna august 2010 "]
[2505,"23 09 2010","Ibbison  ap. 20",29.26,"chelt com luna august 2010 "]
[2506,"23 09 2010","Kállai  ap. 21",31.47,"chelt com luna august 2010 "]
[2507,"23 09 2010","Indolean  ap. 22",21.26,"chelt com luna august 2010 "]
[2508,"23 09 2010","Mureşan E  ap. 23",77.33,"chelt com luna august 2010 "]
[2509,"23 09 2010","Stanimir  ap. 23A",84,"chelt com luna august 2010 "]
[2510,"23 09 2010","Cheţan  ap. 24",88.42,"chelt com luna august 2010 "]
[2511,"23 09 2010","Călin  ap. 25",85.61,"chelt com luna august 2010 "]
[2512,"23 09 2010","Turcu  ap. 26",19.95,"chelt com luna august 2010 "]
[2513,"23 09 2010","Creţeanu  ap. 27",106.15,"chelt com luna august 2010 "]
[2514,"23 09 2010","Zegreanu  ap. 28",66.61,"chelt com luna august 2010 "]
[2515,"23 09 2010","Şerban  ap. 29",83.89,"chelt com luna august 2010 "]
[2516,"23 09 2010","Mihăescu  ap. 30",87.61,"chelt com luna august 2010 "]
[2517,"23 09 2010","Pop R  ap. 31",44.65,"chelt com luna august 2010 "]
[2518,"23 09 2010","Lungu  ap. 32",68.72,"chelt com luna august 2010 "]
[2519,"23 09 2010","Mihuţ  ap. 33",79.75,"chelt com luna august 2010 "]
[2520,"23 09 2010","Postescu  ap. 34",64.58,"chelt com luna august 2010 "]
[2521,"23 09 2010","Goia  ap. 35",76.819999999999993,"chelt com luna august 2010 "]
[2522,"23 09 2010","Dodu  ap. 36",105.68,"chelt com luna august 2010 "]
[2523,"23 09 2010","Drăghici  ap. 37",95.09,"chelt com luna august 2010 "]
[2524,"23 09 2010","Néda  ap. 38",183.12,"chelt com luna august 2010 "]
[2525,"23 09 2010","Vornicescu  ap. 39",196.98,"chelt com luna august 2010 "]
[2526,"23 09 2010","Sparleanu  ap. 40",77,"chelt com luna august 2010 "]
[2527,"23 09 2010","Raboca  ap. 41",127.24,"chelt com luna august 2010 "]
[2528,"23 09 2010","Negru  ap. 42",85.28,"chelt com luna august 2010 "]
[2529,"23 09 2010","Roşescu  ap. 43",70.650000000000006,"chelt com luna august 2010 "]
[2530,"23 09 2010","Ursu  ap. 44",60.44,"chelt com luna august 2010 "]
[2531,"23 09 2010","Săcui  ap. 45",46.48,"chelt com luna august 2010 "]
[2532,"23 09 2010","Mărinceanu  ap. 46",144.9,"chelt com luna august 2010 "]
[2533,"23 09 2010","Ricean  ap. 47",79.7,"chelt com luna august 2010 "]
[2534,"23 09 2010","Sabo  ap. 48",81.59,"chelt com luna august 2010 "]
[2535,"23 09 2010","Câmpan  ap. 49",103.36,"chelt com luna august 2010 "]
[2536,"23 09 2010","Tudoran  ap. 50",128.57,"chelt com luna august 2010 "]
[2537,"23 09 2010","Ciubotariu  ap. 51",26.06,"chelt com luna august 2010 "]
[2538,"23 09 2010","Cristea  ap. 52",107.25,"chelt com luna august 2010 "]
[2539,"23 09 2010","Stănescu  ap. 53",91.34,"chelt com luna august 2010 "]
[2540,"23 09 2010","Dejeu  ap. 54",200,"chelt com luna august 2010 "]
[2541,"23 09 2010","Feşnic  ap. 55",323.19,"chelt com luna august 2010 "]
[2542,"23 09 2010","Fonoage  ap. 56",21.78,"chelt com luna august 2010 "]
[2543,"23 09 2010","Baras A  ap. 57",74.89,"chelt com luna august 2010 "]
[2544,"23 09 2010","Fărcaş N  ap. 58",50.88,"chelt com luna august 2010 "]
[2545,"23 09 2010","Bagaméri  ap. 59",44.89,"chelt com luna august 2010 "]
[2546,"23 09 2010","Cristovici  ap. 60",49.1,"chelt com luna august 2010 "]
[2547,"23 09 2010","Ureche  ap. 61",118.02,"chelt com luna august 2010 "]
[2548,"23 09 2010","Fabian   ap. 62",66.59,"chelt com luna august 2010 "]
[2549,"23 09 2010","Fărăgău  ap. 63",56.95,"chelt com luna august 2010 "]
[2550,"23 09 2010","Rus  ap. 64",121.29,"chelt com luna august 2010 "]
[2551,"23 09 2010","Pop   ap. 65",161.97,"chelt com luna august 2010 "]
[2552,"23 09 2010","Bejan  ap. 66",81.790000000000006,"chelt com luna august 2010 "]
[2553,"23 09 2010","Moga  ap. 67",28.23,"chelt com luna august 2010 "]
[2554,"23 09 2010","Legian  ap. 68",26.59,"chelt com luna august 2010 "]
[2555,"23 09 2010","Mocanu  ap. 69",138.88999999999999,"chelt com luna august 2010 "]
[2556,"23 09 2010","Pop C.  ap. 70",101.89,"chelt com luna august 2010 "]
[2557,"26 10 2010","Lăpuştea  ap. 1",30.49,"chelt com luna sept"]
[2558,"26 10 2010","Bugnar  ap. 2",34.619999999999997,"chelt com luna sept"]
[2559,"26 10 2010","Tunyogi  ap. 3",76.319999999999993,"chelt com luna sept"]
[2560,"26 10 2010","Garbou  ap. 4",14,"chelt com luna sept"]
[2561,"26 10 2010","Szép  ap. 5",206.67,"chelt com luna sept"]
[2562,"26 10 2010","Bara  ap. 6",22.06,"chelt com luna sept"]
[2563,"26 10 2010","Colceriu  ap. 7",76.38,"chelt com luna sept"]
[2564,"26 10 2010","Gabor  ap. 8",22.28,"chelt com luna sept"]
[2565,"26 10 2010","Neamţ  ap. 9",81.400000000000006,"chelt com luna sept"]
[2566,"26 10 2010","Micşunescu  ap. 10",14,"chelt com luna sept"]
[2567,"26 10 2010","Jugrestan  ap. 11",30.56,"chelt com luna sept"]
[2568,"26 10 2010","Tárkányi  ap. 12",128.16999999999999,"chelt com luna sept"]
[2569,"26 10 2010","Nebert  ap. 13",34.700000000000003,"chelt com luna sept"]
[2570,"26 10 2010","Crişan  ap. 14",14,"chelt com luna sept"]
[2571,"26 10 2010","Lazăr  ap. 15",48.28,"chelt com luna sept"]
[2572,"26 10 2010","Vescan  ap. 16",147.35,"chelt com luna sept"]
[2573,"26 10 2010","Mihăescu  ap. 17",86.62,"chelt com luna sept"]
[2574,"26 10 2010","Pop Florin  ap. 18",65.58,"chelt com luna sept"]
[2575,"26 10 2010","Mureşan I  ap. 19",53.21,"chelt com luna sept"]
[2576,"26 10 2010","Ibbison  ap. 20",38.83,"chelt com luna sept"]
[2577,"26 10 2010","Kállai  ap. 21",61.49,"chelt com luna sept"]
[2578,"26 10 2010","Indolean  ap. 22",53.16,"chelt com luna sept"]
[2579,"26 10 2010","Mureşan E  ap. 23",40.79,"chelt com luna sept"]
[2580,"26 10 2010","Stanimir  ap. 23A",81.790000000000006,"chelt com luna sept"]
[2581,"26 10 2010","Cheţan  ap. 24",71.28,"chelt com luna sept"]
[2582,"26 10 2010","Călin  ap. 25",61.49,"chelt com luna sept"]
[2583,"26 10 2010","Turcu  ap. 26",9.01,"chelt com luna sept"]
[2584,"26 10 2010","Creţeanu  ap. 27",47.98,"chelt com luna sept"]
[2585,"26 10 2010","Zegreanu  ap. 28",65.069999999999993,"chelt com luna sept"]
[2586,"26 10 2010","Şerban  ap. 29",51.43,"chelt com luna sept"]
[2587,"26 10 2010","Mihăescu  ap. 30",95.6,"chelt com luna sept"]
[2588,"26 10 2010","Pop R  ap. 31",35.06,"chelt com luna sept"]
[2589,"26 10 2010","Lungu  ap. 32",56.26,"chelt com luna sept"]
[2590,"26 10 2010","Mihuţ  ap. 33",99.79,"chelt com luna sept"]
[2591,"26 10 2010","Postescu  ap. 34",68.680000000000007,"chelt com luna sept"]
[2592,"26 10 2010","Goia  ap. 35",133.99,"chelt com luna sept"]
[2593,"26 10 2010","Dodu  ap. 36",75.7,"chelt com luna sept"]
[2594,"26 10 2010","Drăghici  ap. 37",72.88,"chelt com luna sept"]
[2595,"26 10 2010","Néda  ap. 38",134.08000000000001,"chelt com luna sept"]
[2596,"26 10 2010","Vornicescu  ap. 39",109.46,"chelt com luna sept"]
[2597,"26 10 2010","Sparleanu  ap. 40",60.54,"chelt com luna sept"]
[2598,"26 10 2010","Raboca  ap. 41",158.33000000000001,"chelt com luna sept"]
[2599,"26 10 2010","Negru  ap. 42",68.819999999999993,"chelt com luna sept"]
[2600,"26 10 2010","Roşescu  ap. 43",74.12,"chelt com luna sept"]
[2601,"26 10 2010","Ursu  ap. 44",48.12,"chelt com luna sept"]
[2602,"26 10 2010","Săcui  ap. 45",44.03,"chelt com luna sept"]
[2603,"26 10 2010","Mărinceanu  ap. 46",125.86,"chelt com luna sept"]
[2604,"26 10 2010","Ricean  ap. 47",31.11,"chelt com luna sept"]
[2605,"26 10 2010","Sabo  ap. 48",78.59,"chelt com luna sept"]
[2606,"26 10 2010","Câmpan  ap. 49",33.86,"chelt com luna sept"]
[2607,"26 10 2010","Tudoran  ap. 50",59.83,"chelt com luna sept"]
[2608,"26 10 2010","Ciubotariu  ap. 51",11.45,"chelt com luna sept"]
[2609,"26 10 2010","Cristea  ap. 52",83.38,"chelt com luna sept"]
[2610,"26 10 2010","Stănescu  ap. 53",54,"chelt com luna sept"]
[2611,"26 10 2010","Dejeu  ap. 54",43.93,"chelt com luna sept"]
[2612,"26 10 2010","Feşnic  ap. 55",294.36,"chelt com luna sept"]
[2613,"26 10 2010","Fonoage  ap. 56",10.15,"chelt com luna sept"]
[2614,"26 10 2010","Baras A  ap. 57",33.26,"chelt com luna sept"]
[2615,"26 10 2010","Fărcaş N  ap. 58",34.659999999999997,"chelt com luna sept"]
[2616,"26 10 2010","Bagaméri  ap. 59",29.12,"chelt com luna sept"]
[2617,"26 10 2010","Cristovici  ap. 60",18.170000000000002,"chelt com luna sept"]
[2618,"26 10 2010","Ureche  ap. 61",96.48,"chelt com luna sept"]
[2619,"26 10 2010","Fabian   ap. 62",64.900000000000006,"chelt com luna sept"]
[2620,"26 10 2010","Fărăgău  ap. 63",44.28,"chelt com luna sept"]
[2621,"26 10 2010","Rus  ap. 64",133,"chelt com luna sept"]
[2622,"26 10 2010","Pop   ap. 65",133.66,"chelt com luna sept"]
[2623,"26 10 2010","Bejan  ap. 66",69.12,"chelt com luna sept"]
[2624,"26 10 2010","Moga  ap. 67",14.03,"chelt com luna sept"]
[2625,"26 10 2010","Legian  ap. 68",237.58,"chelt com luna sept"]
[2626,"26 10 2010","Mocanu  ap. 69",100.62,"chelt com luna sept"]
[2627,"26 10 2010","Pop C.  ap. 70",108.9,"chelt com luna sept"]
[2628,"24 11 2010","Lăpuştea  ap. 1",72.63,"chelt com luna oct"]
[2629,"24 11 2010","Bugnar  ap. 2",53.74,"chelt com luna oct"]
[2630,"24 11 2010","Tunyogi  ap. 3",222.5,"chelt com luna oct"]
[2631,"24 11 2010","Garbou  ap. 4",64.36,"chelt com luna oct"]
[2632,"24 11 2010","Szép  ap. 5",411.64,"chelt com luna oct"]
[2633,"24 11 2010","Bara  ap. 6",152.68,"chelt com luna oct"]
[2634,"24 11 2010","Colceriu  ap. 7",182.79,"chelt com luna oct"]
[2635,"24 11 2010","Gabor  ap. 8",51.77,"chelt com luna oct"]
[2636,"24 11 2010","Neamţ  ap. 9",124.13,"chelt com luna oct"]
[2637,"24 11 2010","Micşunescu  ap. 10",42.71,"chelt com luna oct"]
[2638,"24 11 2010","Jugrestan  ap. 11",51.77,"chelt com luna oct"]
[2639,"24 11 2010","Tárkányi  ap. 12",277.98,"chelt com luna oct"]
[2640,"24 11 2010","Nebert  ap. 13",45.4,"chelt com luna oct"]
[2641,"24 11 2010","Crişan  ap. 14",28.28,"chelt com luna oct"]
[2642,"24 11 2010","Lazăr  ap. 15",64.459999999999994,"chelt com luna oct"]
[2643,"24 11 2010","Vescan  ap. 16",111.93,"chelt com luna oct"]
[2644,"24 11 2010","Mihăescu  ap. 17",272.38,"chelt com luna oct"]
[2645,"24 11 2010","Pop Florin  ap. 18",89.31,"chelt com luna oct"]
[2646,"24 11 2010","Mureşan I  ap. 19",74.099999999999994,"chelt com luna oct"]
[2647,"24 11 2010","Ibbison  ap. 20",59,"chelt com luna oct"]
[2648,"24 11 2010","Kállai  ap. 21",78.63,"chelt com luna oct"]
[2649,"24 11 2010","Indolean  ap. 22",67.66,"chelt com luna oct"]
[2650,"24 11 2010","Mureşan E  ap. 23",65.64,"chelt com luna oct"]
[2651,"24 11 2010","Stanimir  ap. 23A",70.45,"chelt com luna oct"]
[2652,"24 11 2010","Cheţan  ap. 24",85.57,"chelt com luna oct"]
[2653,"24 11 2010","Călin  ap. 25",82.96,"chelt com luna oct"]
[2654,"24 11 2010","Turcu  ap. 26",23.29,"chelt com luna oct"]
[2655,"24 11 2010","Creţeanu  ap. 27",145.01,"chelt com luna oct"]
[2656,"24 11 2010","Zegreanu  ap. 28",243.37,"chelt com luna oct"]
[2657,"24 11 2010","Şerban  ap. 29",270.73,"chelt com luna oct"]
[2658,"24 11 2010","Mihăescu  ap. 30",263.58999999999997,"chelt com luna oct"]
[2659,"24 11 2010","Pop R  ap. 31",232.2,"chelt com luna oct"]
[2660,"24 11 2010","Lungu  ap. 32",88.32,"chelt com luna oct"]
[2661,"24 11 2010","Mihuţ  ap. 33",308.16000000000003,"chelt com luna oct"]
[2662,"24 11 2010","Postescu  ap. 34",78.02,"chelt com luna oct"]
[2663,"24 11 2010","Goia  ap. 35",325.07,"chelt com luna oct"]
[2664,"24 11 2010","Dodu  ap. 36",266.02999999999997,"chelt com luna oct"]
[2665,"24 11 2010","Drăghici  ap. 37",93.08,"chelt com luna oct"]
[2666,"24 11 2010","Néda  ap. 38",301.68,"chelt com luna oct"]
[2667,"24 11 2010","Vornicescu  ap. 39",99.68,"chelt com luna oct"]
[2668,"24 11 2010","Sparleanu  ap. 40",90.71,"chelt com luna oct"]
[2669,"24 11 2010","Raboca  ap. 41",331.48,"chelt com luna oct"]
[2670,"24 11 2010","Negru  ap. 42",116.69,"chelt com luna oct"]
[2671,"24 11 2010","Roşescu  ap. 43",126.59,"chelt com luna oct"]
[2672,"24 11 2010","Ursu  ap. 44",63.09,"chelt com luna oct"]
[2673,"24 11 2010","Săcui  ap. 45",61.07,"chelt com luna oct"]
[2674,"24 11 2010","Mărinceanu  ap. 46",296.52,"chelt com luna oct"]
[2675,"24 11 2010","Ricean  ap. 47",78.16,"chelt com luna oct"]
[2676,"24 11 2010","Sabo  ap. 48",284.86,"chelt com luna oct"]
[2677,"24 11 2010","Câmpan  ap. 49",263.05,"chelt com luna oct"]
[2678,"24 11 2010","Tudoran  ap. 50",450.18,"chelt com luna oct"]
[2679,"24 11 2010","Ciubotariu  ap. 51",244.7,"chelt com luna oct"]
[2680,"24 11 2010","Cristea  ap. 52",287.02,"chelt com luna oct"]
[2681,"24 11 2010","Stănescu  ap. 53",229.17,"chelt com luna oct"]
[2682,"24 11 2010","Dejeu  ap. 54",182.24,"chelt com luna oct"]
[2683,"24 11 2010","Feşnic  ap. 55",482.67,"chelt com luna oct"]
[2684,"24 11 2010","Fonoage  ap. 56",149.49,"chelt com luna oct"]
[2685,"24 11 2010","Baras A  ap. 57",161.69999999999999,"chelt com luna oct"]
[2686,"24 11 2010","Fărcaş N  ap. 58",58.81,"chelt com luna oct"]
[2687,"24 11 2010","Bagaméri  ap. 59",183.08,"chelt com luna oct"]
[2688,"24 11 2010","Cristovici  ap. 60",68.81,"chelt com luna oct"]
[2689,"24 11 2010","Ureche  ap. 61",125.52,"chelt com luna oct"]
[2690,"24 11 2010","Fabian   ap. 62",88.37,"chelt com luna oct"]
[2691,"24 11 2010","Fărăgău  ap. 63",73.41,"chelt com luna oct"]
[2692,"24 11 2010","Rus  ap. 64",273.97000000000003,"chelt com luna oct"]
[2693,"24 11 2010","Pop   ap. 65",153.87,"chelt com luna oct"]
[2694,"24 11 2010","Bejan  ap. 66",103.72,"chelt com luna oct"]
[2695,"24 11 2010","Moga  ap. 67",86,"chelt com luna oct"]
[2696,"24 11 2010","Legian  ap. 68",335.46000000000004,"chelt com luna oct"]
[2697,"24 11 2010","Mocanu  ap. 69",149.24,"chelt com luna oct"]
[2698,"24 11 2010","Pop C.  ap. 70",134.07,"chelt com luna oct"]
[2699,"22 12 2010","Lăpuştea  ap. 1",71.430000000000007,"chelt com luna noe 2010"]
[2700,"22 12 2010","Bugnar  ap. 2",64.55,"chelt com luna noe 2010"]
[2701,"22 12 2010","Tunyogi  ap. 3",227.45,"chelt com luna noe 2010"]
[2702,"22 12 2010","Garbou  ap. 4",61.24,"chelt com luna noe 2010"]
[2703,"22 12 2010","Szép  ap. 5",337.24,"chelt com luna noe 2010"]
[2704,"22 12 2010","Bara  ap. 6",145.15,"chelt com luna noe 2010"]
[2705,"22 12 2010","Colceriu  ap. 7",167.15,"chelt com luna noe 2010"]
[2706,"22 12 2010","Gabor  ap. 8",44.27,"chelt com luna noe 2010"]
[2707,"22 12 2010","Neamţ  ap. 9",158.88999999999999,"chelt com luna noe 2010"]
[2708,"22 12 2010","Micşunescu  ap. 10",39.590000000000003,"chelt com luna noe 2010"]
[2709,"22 12 2010","Jugrestan  ap. 11",48.6,"chelt com luna noe 2010"]
[2710,"22 12 2010","Tárkányi  ap. 12",241.19,"chelt com luna noe 2010"]
[2711,"22 12 2010","Nebert  ap. 13",61.24,"chelt com luna noe 2010"]
[2712,"22 12 2010","Crişan  ap. 14",48.6,"chelt com luna noe 2010"]
[2713,"22 12 2010","Lazăr  ap. 15",74.91,"chelt com luna noe 2010"]
[2714,"22 12 2010","Vescan  ap. 16",132.44999999999999,"chelt com luna noe 2010"]
[2715,"22 12 2010","Mihăescu  ap. 17",266.27999999999997,"chelt com luna noe 2010"]
[2716,"22 12 2010","Pop Florin  ap. 18",89.35,"chelt com luna noe 2010"]
[2717,"22 12 2010","Mureşan I  ap. 19",69.38,"chelt com luna noe 2010"]
[2718,"22 12 2010","Ibbison  ap. 20",59.04,"chelt com luna noe 2010"]
[2719,"22 12 2010","Kállai  ap. 21",82.53,"chelt com luna noe 2010"]
[2720,"22 12 2010","Indolean  ap. 22",63.37,"chelt com luna noe 2010"]
[2721,"22 12 2010","Mureşan E  ap. 23",65.209999999999994,"chelt com luna noe 2010"]
[2722,"22 12 2010","Stanimir  ap. 23A",86.54,"chelt com luna noe 2010"]
[2723,"22 12 2010","Cheţan  ap. 24",78.5,"chelt com luna noe 2010"]
[2724,"22 12 2010","Călin  ap. 25",78.2,"chelt com luna noe 2010"]
[2725,"22 12 2010","Turcu  ap. 26",18.73,"chelt com luna noe 2010"]
[2726,"22 12 2010","Creţeanu  ap. 27",112.63,"chelt com luna noe 2010"]
[2727,"22 12 2010","Zegreanu  ap. 28",205.47,"chelt com luna noe 2010"]
[2728,"22 12 2010","Şerban  ap. 29",256.83,"chelt com luna noe 2010"]
[2729,"22 12 2010","Mihăescu  ap. 30",254.85,"chelt com luna noe 2010"]
[2730,"22 12 2010","Pop R  ap. 31",225.01,"chelt com luna noe 2010"]
[2731,"22 12 2010","Lungu  ap. 32",84.59,"chelt com luna noe 2010"]
[2732,"22 12 2010","Mihuţ  ap. 33",282.2,"chelt com luna noe 2010"]
[2733,"22 12 2010","Postescu  ap. 34",88.92,"chelt com luna noe 2010"]
[2734,"22 12 2010","Goia  ap. 35",332.94,"chelt com luna noe 2010"]
[2735,"22 12 2010","Dodu  ap. 36",259.23,"chelt com luna noe 2010"]
[2736,"22 12 2010","Drăghici  ap. 37",87.9,"chelt com luna noe 2010"]
[2737,"22 12 2010","Néda  ap. 38",280.27,"chelt com luna noe 2010"]
[2738,"22 12 2010","Vornicescu  ap. 39",105.89,"chelt com luna noe 2010"]
[2739,"22 12 2010","Sparleanu  ap. 40",75.5,"chelt com luna noe 2010"]
[2740,"22 12 2010","Raboca  ap. 41",319.64999999999998,"chelt com luna noe 2010"]
[2741,"22 12 2010","Negru  ap. 42",79.83,"chelt com luna noe 2010"]
[2742,"22 12 2010","Roşescu  ap. 43",126.63,"chelt com luna noe 2010"]
[2743,"22 12 2010","Ursu  ap. 44",62.51,"chelt com luna noe 2010"]
[2744,"22 12 2010","Săcui  ap. 45",71.25,"chelt com luna noe 2010"]
[2745,"22 12 2010","Mărinceanu  ap. 46",298.95,"chelt com luna noe 2010"]
[2746,"22 12 2010","Ricean  ap. 47",77.680000000000007,"chelt com luna noe 2010"]
[2747,"22 12 2010","Sabo  ap. 48",227.22,"chelt com luna noe 2010"]
[2748,"22 12 2010","Câmpan  ap. 49",276.58999999999997,"chelt com luna noe 2010"]
[2749,"22 12 2010","Tudoran  ap. 50",324.64999999999998,"chelt com luna noe 2010"]
[2750,"22 12 2010","Ciubotariu  ap. 51",430.38,"chelt com luna noe 2010"]
[2751,"22 12 2010","Cristea  ap. 52",231.07,"chelt com luna noe 2010"]
[2752,"22 12 2010","Stănescu  ap. 53",248.39,"chelt com luna noe 2010"]
[2753,"22 12 2010","Dejeu  ap. 54",191.39,"chelt com luna noe 2010"]
[2754,"22 12 2010","Feşnic  ap. 55",479.6,"chelt com luna noe 2010"]
[2755,"22 12 2010","Fonoage  ap. 56",141.47999999999999,"chelt com luna noe 2010"]
[2756,"22 12 2010","Baras A  ap. 57",176.11,"chelt com luna noe 2010"]
[2757,"22 12 2010","Fărcaş N  ap. 58",45.74,"chelt com luna noe 2010"]
[2758,"22 12 2010","Bagaméri  ap. 59",170.42,"chelt com luna noe 2010"]
[2759,"22 12 2010","Cristovici  ap. 60",47.98,"chelt com luna noe 2010"]
[2760,"22 12 2010","Ureche  ap. 61",139.97,"chelt com luna noe 2010"]
[2761,"22 12 2010","Fabian   ap. 62",87.9,"chelt com luna noe 2010"]
[2762,"22 12 2010","Fărăgău  ap. 63",67,"chelt com luna noe 2010"]
[2763,"22 12 2010","Rus  ap. 64",277.33,"chelt com luna noe 2010"]
[2764,"22 12 2010","Pop   ap. 65",147.61000000000001,"chelt com luna noe 2010"]
[2765,"22 12 2010","Bejan  ap. 66",79.989999999999995,"chelt com luna noe 2010"]
[2766,"22 12 2010","Moga  ap. 67",71.599999999999994,"chelt com luna noe 2010"]
[2767,"22 12 2010","Legian  ap. 68",338.75,"chelt com luna noe 2010"]
[2768,"22 12 2010","Mocanu  ap. 69",135.37,"chelt com luna noe 2010"]
[2769,"22 12 2010","Pop C.  ap. 70",148.63,"chelt com luna noe 2010"]
[2770,"25 01 2011","Lăpuştea  ap. 1",92.67,"chelt com luna dec 2010"]
[2771,"25 01 2011","Bugnar  ap. 2",143.63999999999999,"chelt com luna dec 2010"]
[2772,"25 01 2011","Tunyogi  ap. 3",330.12,"chelt com luna dec 2010"]
[2773,"25 01 2011","Garbou  ap. 4",68.88,"chelt com luna dec 2010"]
[2774,"25 01 2011","Szép  ap. 5",543.78,"chelt com luna dec 2010"]
[2775,"25 01 2011","Bara  ap. 6",255.53,"chelt com luna dec 2010"]
[2776,"25 01 2011","Colceriu  ap. 7",271.47000000000003,"chelt com luna dec 2010"]
[2777,"25 01 2011","Gabor  ap. 8",63.21,"chelt com luna dec 2010"]
[2778,"25 01 2011","Neamţ  ap. 9",142.44999999999999,"chelt com luna dec 2010"]
[2779,"25 01 2011","Micşunescu  ap. 10",37.82,"chelt com luna dec 2010"]
[2780,"25 01 2011","Jugrestan  ap. 11",76.2,"chelt com luna dec 2010"]
[2781,"25 01 2011","Tárkányi  ap. 12",387.73,"chelt com luna dec 2010"]
[2782,"25 01 2011","Nebert  ap. 13",79.900000000000006,"chelt com luna dec 2010"]
[2783,"25 01 2011","Crişan  ap. 14",80.53,"chelt com luna dec 2010"]
[2784,"25 01 2011","Lazăr  ap. 15",91.08,"chelt com luna dec 2010"]
[2785,"25 01 2011","Vescan  ap. 16",108.17,"chelt com luna dec 2010"]
[2786,"25 01 2011","Mihăescu  ap. 17",383.48,"chelt com luna dec 2010"]
[2787,"25 01 2011","Pop Florin  ap. 18",92.19,"chelt com luna dec 2010"]
[2788,"25 01 2011","Mureşan I  ap. 19",104.34,"chelt com luna dec 2010"]
[2789,"25 01 2011","Ibbison  ap. 20",83.53,"chelt com luna dec 2010"]
[2790,"25 01 2011","Kállai  ap. 21",87.34,"chelt com luna dec 2010"]
[2791,"25 01 2011","Indolean  ap. 22",79.2,"chelt com luna dec 2010"]
[2792,"25 01 2011","Mureşan E  ap. 23",66.41,"chelt com luna dec 2010"]
[2793,"25 01 2011","Stanimir  ap. 23A",97.87,"chelt com luna dec 2010"]
[2794,"25 01 2011","Cheţan  ap. 24",96.02,"chelt com luna dec 2010"]
[2795,"25 01 2011","Călin  ap. 25",87.34,"chelt com luna dec 2010"]
[2796,"25 01 2011","Turcu  ap. 26",56.37,"chelt com luna dec 2010"]
[2797,"25 01 2011","Creţeanu  ap. 27",156.83000000000001,"chelt com luna dec 2010"]
[2798,"25 01 2011","Zegreanu  ap. 28",348.6,"chelt com luna dec 2010"]
[2799,"25 01 2011","Şerban  ap. 29",398.52,"chelt com luna dec 2010"]
[2800,"25 01 2011","Mihăescu  ap. 30",389.59,"chelt com luna dec 2010"]
[2801,"25 01 2011","Pop R  ap. 31",413.35,"chelt com luna dec 2010"]
[2802,"25 01 2011","Lungu  ap. 32",104.98,"chelt com luna dec 2010"]
[2803,"25 01 2011","Mihuţ  ap. 33",446.85,"chelt com luna dec 2010"]
[2804,"25 01 2011","Postescu  ap. 34",113.64,"chelt com luna dec 2010"]
[2805,"25 01 2011","Goia  ap. 35",394.19,"chelt com luna dec 2010"]
[2806,"25 01 2011","Dodu  ap. 36",378.45,"chelt com luna dec 2010"]
[2807,"25 01 2011","Drăghici  ap. 37",133.86000000000001,"chelt com luna dec 2010"]
[2808,"25 01 2011","Néda  ap. 38",420.11,"chelt com luna dec 2010"]
[2809,"25 01 2011","Vornicescu  ap. 39",129.4,"chelt com luna dec 2010"]
[2810,"25 01 2011","Sparleanu  ap. 40",95.82,"chelt com luna dec 2010"]
[2811,"25 01 2011","Raboca  ap. 41",491.31,"chelt com luna dec 2010"]
[2812,"25 01 2011","Negru  ap. 42",100.15,"chelt com luna dec 2010"]
[2813,"25 01 2011","Roşescu  ap. 43",153.68,"chelt com luna dec 2010"]
[2814,"25 01 2011","Ursu  ap. 44",74.17,"chelt com luna dec 2010"]
[2815,"25 01 2011","Săcui  ap. 45",99.09,"chelt com luna dec 2010"]
[2816,"25 01 2011","Mărinceanu  ap. 46",417.67,"chelt com luna dec 2010"]
[2817,"25 01 2011","Ricean  ap. 47",118.82,"chelt com luna dec 2010"]
[2818,"25 01 2011","Sabo  ap. 48",342.37,"chelt com luna dec 2010"]
[2819,"25 01 2011","Câmpan  ap. 49",425.36,"chelt com luna dec 2010"]
[2820,"25 01 2011","Tudoran  ap. 50",501.55,"chelt com luna dec 2010"]
[2821,"25 01 2011","Ciubotariu  ap. 51",468.46,"chelt com luna dec 2010"]
[2822,"25 01 2011","Cristea  ap. 52",374.3,"chelt com luna dec 2010"]
[2823,"25 01 2011","Stănescu  ap. 53",393.59,"chelt com luna dec 2010"]
[2824,"25 01 2011","Dejeu  ap. 54",378.07,"chelt com luna dec 2010"]
[2825,"25 01 2011","Feşnic  ap. 55",619.35,"chelt com luna dec 2010"]
[2826,"25 01 2011","Fonoage  ap. 56",289.61,"chelt com luna dec 2010"]
[2827,"25 01 2011","Baras A  ap. 57",310.62,"chelt com luna dec 2010"]
[2828,"25 01 2011","Fărcaş N  ap. 58",57.75,"chelt com luna dec 2010"]
[2829,"25 01 2011","Bagaméri  ap. 59",311.44,"chelt com luna dec 2010"]
[2830,"25 01 2011","Cristovici  ap. 60",66.73,"chelt com luna dec 2010"]
[2831,"25 01 2011","Ureche  ap. 61",138.66999999999999,"chelt com luna dec 2010"]
[2832,"25 01 2011","Fabian   ap. 62",107.96,"chelt com luna dec 2010"]
[2833,"25 01 2011","Fărăgău  ap. 63",104.88,"chelt com luna dec 2010"]
[2834,"25 01 2011","Rus  ap. 64",446.36,"chelt com luna dec 2010"]
[2835,"25 01 2011","Pop   ap. 65",162.63,"chelt com luna dec 2010"]
[2836,"25 01 2011","Bejan  ap. 66",100.55,"chelt com luna dec 2010"]
[2837,"25 01 2011","Moga  ap. 67",55.67,"chelt com luna dec 2010"]
[2838,"25 01 2011","Legian  ap. 68",450.65,"chelt com luna dec 2010"]
[2839,"25 01 2011","Mocanu  ap. 69",150.88999999999999,"chelt com luna dec 2010"]
[2840,"25 01 2011","Pop C.  ap. 70",163.84,"chelt com luna dec 2010"]
[2841,"29 01 2011","Lăpuştea  ap. 1",92.67,"chelt com luna "]
[2842,"29 01 2011","Bugnar  ap. 2",143.63999999999999,"chelt com luna "]
[2843,"29 01 2011","Lăpuştea  ap. 1",92.67,"chelt com luna "]
[2844,"29 01 2011","Bugnar  ap. 2",143.63999999999999,"chelt com luna "]
[2845,"29 01 2011","Tunyogi  ap. 3",330.12,"chelt com luna "]
[2846,"29 01 2011","Garbou  ap. 4",68.88,"chelt com luna "]
[2847,"29 01 2011","Szép  ap. 5",543.78,"chelt com luna "]
[2848,"29 01 2011","Bara  ap. 6",255.53,"chelt com luna "]
[2849,"29 01 2011","Colceriu  ap. 7",271.47000000000003,"chelt com luna "]
[2850,"29 01 2011","Gabor  ap. 8",63.21,"chelt com luna "]
[2859,"29 01 2011","Mihăescu  ap. 17",383.48,"chelt com luna "]
[2860,"29 01 2011","Pop Florin  ap. 18",92.19,"chelt com luna "]
[2861,"29 01 2011","Mureşan I  ap. 19",104.34,"chelt com luna "]
[2862,"29 01 2011","Ibbison  ap. 20",83.53,"chelt com luna "]
[2863,"29 01 2011","Kállai  ap. 21",87.34,"chelt com luna "]
[2864,"29 01 2011","Indolean  ap. 22",79.2,"chelt com luna "]
[2865,"29 01 2011","Mureşan E  ap. 23",66.41,"chelt com luna "]
[2866,"29 01 2011","Stanimir  ap. 23A",97.87,"chelt com luna "]
[2867,"29 01 2011","Cheţan  ap. 24",96.02,"chelt com luna "]
[2868,"29 01 2011","Călin  ap. 25",87.34,"chelt com luna "]
[2869,"29 01 2011","Turcu  ap. 26",56.37,"chelt com luna "]
[2870,"29 01 2011","Creţeanu  ap. 27",156.83000000000001,"chelt com luna "]
[2871,"29 01 2011","Zegreanu  ap. 28",348.6,"chelt com luna "]
[2872,"29 01 2011","Şerban  ap. 29",398.52,"chelt com luna "]
[2873,"29 01 2011","Mihăescu  ap. 30",389.59,"chelt com luna "]
[2874,"29 01 2011","Pop R  ap. 31",413.35,"chelt com luna "]
[2875,"29 01 2011","Lăpuştea  ap. 1",92.67,"chelt com luna "]
[2876,"29 01 2011","Bugnar  ap. 2",143.63999999999999,"chelt com luna "]
[2877,"29 01 2011","Tunyogi  ap. 3",330.12,"chelt com luna "]
[2878,"29 01 2011","Garbou  ap. 4",68.88,"chelt com luna "]
[2879,"29 01 2011","Szép  ap. 5",543.78,"chelt com luna "]
[2880,"29 01 2011","Bara  ap. 6",255.53,"chelt com luna "]
[2881,"29 01 2011","Colceriu  ap. 7",271.47000000000003,"chelt com luna "]
[2882,"29 01 2011","Gabor  ap. 8",63.21,"chelt com luna "]
[2883,"29 01 2011","Neamţ  ap. 9",142.44999999999999,"chelt com luna "]
[2884,"29 01 2011","Micşunescu  ap. 10",37.82,"chelt com luna "]
[2885,"29 01 2011","Jugrestan  ap. 11",76.2,"chelt com luna "]
[2886,"29 01 2011","Tárkányi  ap. 12",387.73,"chelt com luna "]
[2887,"29 01 2011","Nebert  ap. 13",79.900000000000006,"chelt com luna "]
[2888,"29 01 2011","Crişan  ap. 14",80.53,"chelt com luna "]
[2889,"29 01 2011","Lazăr  ap. 15",91.08,"chelt com luna "]
[2890,"29 01 2011","Vescan  ap. 16",108.17,"chelt com luna "]
[2891,"29 01 2011","Lăpuştea  ap. 1",92.67,"chelt com luna "]
[2892,"29 01 2011","Bugnar  ap. 2",143.63999999999999,"chelt com luna "]
[2893,"29 01 2011","Tunyogi  ap. 3",330.12,"chelt com luna "]
[2894,"29 01 2011","Garbou  ap. 4",68.88,"chelt com luna "]
[2895,"29 01 2011","Szép  ap. 5",543.78,"chelt com luna "]
[2896,"29 01 2011","Bara  ap. 6",255.53,"chelt com luna "]
[2897,"29 01 2011","Colceriu  ap. 7",271.47000000000003,"chelt com luna "]
[2898,"29 01 2011","Gabor  ap. 8",63.21,"chelt com luna "]
[2899,"29 01 2011","Neamţ  ap. 9",142.44999999999999,"chelt com luna "]
[2900,"29 01 2011","Micşunescu  ap. 10",37.82,"chelt com luna "]
[2901,"29 01 2011","Jugrestan  ap. 11",76.2,"chelt com luna "]
[2902,"29 01 2011","Tárkányi  ap. 12",387.73,"chelt com luna "]
[2903,"29 01 2011","Nebert  ap. 13",79.900000000000006,"chelt com luna "]
[2904,"29 01 2011","Crişan  ap. 14",80.53,"chelt com luna "]
[2905,"29 01 2011","Lazăr  ap. 15",91.08,"chelt com luna "]
[2906,"29 01 2011","Vescan  ap. 16",108.17,"chelt com luna "]
[2907,"29 01 2011","Lăpuştea  ap. 1",92.67,"chelt com luna "]
[2908,"29 01 2011","Bugnar  ap. 2",143.63999999999999,"chelt com luna "]
[2909,"29 01 2011","Tunyogi  ap. 3",330.12,"chelt com luna "]
[2910,"29 01 2011","Garbou  ap. 4",68.88,"chelt com luna "]
[2911,"29 01 2011","Szép  ap. 5",543.78,"chelt com luna "]
[2912,"29 01 2011","Bara  ap. 6",255.53,"chelt com luna "]
[2913,"29 01 2011","Colceriu  ap. 7",271.47000000000003,"chelt com luna "]
[2914,"29 01 2011","Gabor  ap. 8",63.21,"chelt com luna "]
[2915,"29 01 2011","Lăpuştea  ap. 1",92.67,"chelt com luna "]
[2916,"29 01 2011","Bugnar  ap. 2",143.63999999999999,"chelt com luna "]
[2917,"29 01 2011","Tunyogi  ap. 3",330.12,"chelt com luna "]
[2918,"29 01 2011","Garbou  ap. 4",68.88,"chelt com luna "]
[2919,"29 01 2011","Szép  ap. 5",543.78,"chelt com luna "]
[2920,"29 01 2011","Bara  ap. 6",255.53,"chelt com luna "]
[2921,"29 01 2011","Colceriu  ap. 7",271.47000000000003,"chelt com luna "]
[2922,"29 01 2011","Gabor  ap. 8",63.21,"chelt com luna "]
[2923,"29 01 2011","Lăpuştea  ap. 1",92.67,"chelt com luna "]
[2924,"29 01 2011","Mihăescu  ap. 17",383.48,"chelt com luna "]
[2925,"29 01 2011","Pop Florin  ap. 18",92.19,"chelt com luna "]
[2926,"29 01 2011","Ibbison  ap. 20",83.53,"chelt com luna "]
[2927,"29 01 2011","Tunyogi  ap. 3",330.12,"chelt com luna "]
[2928,"29 01 2011","Szép  ap. 5",543.78,"chelt com luna "]
[2929,"29 01 2011","Colceriu  ap. 7",271.47000000000003,"chelt com luna "]
[2930,"29 01 2011","Gabor  ap. 8",63.21,"chelt com luna "]
[2931,"29 01 2011","Jugrestan  ap. 11",76.2,"chelt com luna "]
[2932,"29 01 2011","Tárkányi  ap. 12",387.73,"chelt com luna "]
[2933,"29 01 2011","Nebert  ap. 13",79.900000000000006,"chelt com luna "]
[2934,"29 01 2011","Pop Florin  ap. 18",92.19,"chelt com luna "]
[2935,"29 01 2011","Mureşan I  ap. 19",104.34,"chelt com luna "]
[2936,"29 01 2011","Nebert  ap. 13",79.900000000000006,"chelt com luna "]
[2937,"29 01 2011","Crişan  ap. 14",80.53,"chelt com luna "]
[2938,"29 01 2011","Lazăr  ap. 15",91.08,"chelt com luna "]
[2939,"29 01 2011","Tárkányi  ap. 12",387.73,"chelt com luna "]
[2940,"29 01 2011","Nebert  ap. 13",79.900000000000006,"chelt com luna "]
[2941,"29 01 2011","Crişan  ap. 14",80.53,"chelt com luna "]
[2942,"29 01 2011","Vescan  ap. 16",108.17,"chelt com luna "]
[2943,"29 01 2011","Mihăescu  ap. 17",383.48,"chelt com luna "]
[2944,"29 01 2011","Neamţ  ap. 9",142.44999999999999,"chelt com luna "]
[2945,"29 01 2011","Micşunescu  ap. 10",37.82,"chelt com luna "]
[2946,"29 01 2011","Micşunescu  ap. 10",37.82,"chelt com luna "]
[2947,"29 01 2011","Lazăr  ap. 15",91.08,"chelt com luna "]
[2948,"29 01 2011","Vescan  ap. 16",108.17,"chelt com luna "]
[2949,"23 02 2011","Garbou  ap. 4",68.88,"chelt com luna "]
[2950,"23 02 2011","Bara  ap. 6",255.53,"chelt com luna "]
[2951,"23 02 2011","Micşunescu  ap. 10",37.82,"chelt com luna "]
[2952,"23 02 2011","Jugrestan  ap. 11",76.2,"chelt com luna "]
[2953,"23 02 2011","Nebert  ap. 13",79.900000000000006,"chelt com luna "]
[2954,"23 02 2011","Vescan  ap. 16",108.17,"chelt com luna "]
[2955,"23 02 2011","Mureşan I  ap. 19",104.34,"chelt com luna "]
[2956,"23 02 2011","Kállai  ap. 21",87.34,"chelt com luna "]
[2957,"23 02 2011","Garbou  ap. 4",68.88,"chelt com luna "]
[2958,"23 02 2011","Bara  ap. 6",255.53,"chelt com luna "]
[2959,"23 02 2011","Gabor  ap. 8",63.21,"chelt com luna "]
[2960,"23 02 2011","Micşunescu  ap. 10",37.82,"chelt com luna "]
[2961,"23 02 2011","Nebert  ap. 13",79.900000000000006,"chelt com luna "]
[2962,"23 02 2011","Mihăescu  ap. 17",383.48,"chelt com luna "]
[2963,"23 02 2011","Mureşan I  ap. 19",104.34,"chelt com luna "]
[2964,"30 01 2011","Lăpuştea  ap. 1",92.67,"chelt com luna "]
[2965,"30 01 2011","Bugnar  ap. 2",143.63999999999999,"chelt com luna "]
[2966,"30 01 2011","Tunyogi  ap. 3",330.12,"chelt com luna "]
[2967,"30 01 2011","Garbou  ap. 4",68.88,"chelt com luna "]
[2968,"30 01 2011","Szép  ap. 5",543.78,"chelt com luna "]
[2969,"30 01 2011","Bara  ap. 6",255.53,"chelt com luna "]
[2970,"30 01 2011","Colceriu  ap. 7",271.47000000000003,"chelt com luna "]
[2971,"30 01 2011","Gabor  ap. 8",63.21,"chelt com luna "]
[2972,"30 01 2011","Neamţ  ap. 9",142.44999999999999,"chelt com luna "]
[2973,"30 01 2011","Micşunescu  ap. 10",37.82,"chelt com luna "]
[2974,"30 01 2011","Jugrestan  ap. 11",76.2,"chelt com luna "]
[2975,"30 01 2011","Tárkányi  ap. 12",387.73,"chelt com luna "]
[2976,"30 01 2011","Nebert  ap. 13",79.900000000000006,"chelt com luna "]
[2977,"30 01 2011","Crişan  ap. 14",80.53,"chelt com luna "]
[2978,"30 01 2011","Lazăr  ap. 15",91.08,"chelt com luna "]
[2979,"30 01 2011","Vescan  ap. 16",108.17,"chelt com luna "]
[2980,"30 01 2011","Lăpuştea  ap. 1",92.67,"chelt com luna "]
[2981,"30 01 2011","Bugnar  ap. 2",143.63999999999999,"chelt com luna "]
[2982,"30 01 2011","Tunyogi  ap. 3",330.12,"chelt com luna "]
[2983,"30 01 2011","Garbou  ap. 4",68.88,"chelt com luna "]
[2984,"30 01 2011","Szép  ap. 5",543.78,"chelt com luna "]
[2985,"30 01 2011","Bara  ap. 6",255.53,"chelt com luna "]
[2986,"30 01 2011","Colceriu  ap. 7",271.47000000000003,"chelt com luna "]
[2987,"30 01 2011","Gabor  ap. 8",63.21,"chelt com luna "]
[2988,"30 01 2011","Neamţ  ap. 9",142.44999999999999,"chelt com luna "]
[2989,"30 01 2011","Micşunescu  ap. 10",37.82,"chelt com luna "]
[2990,"30 01 2011","Jugrestan  ap. 11",76.2,"chelt com luna "]
[2991,"30 01 2011","Tárkányi  ap. 12",387.73,"chelt com luna "]
[2992,"30 01 2011","Nebert  ap. 13",79.900000000000006,"chelt com luna "]
[2993,"30 01 2011","Crişan  ap. 14",80.53,"chelt com luna "]
[2994,"30 01 2011","Lazăr  ap. 15",91.08,"chelt com luna "]
[2995,"30 01 2011","Vescan  ap. 16",108.17,"chelt com luna "]
[2996,"30 01 2011","Mihăescu  ap. 17",383.48,"chelt com luna "]
[2997,"30 01 2011","Pop Florin  ap. 18",92.19,"chelt com luna "]
[2998,"30 01 2011","Mureşan I  ap. 19",104.34,"chelt com luna "]
[2999,"30 01 2011","Ibbison  ap. 20",83.53,"chelt com luna "]
[3000,"30 01 2011","Kállai  ap. 21",87.34,"chelt com luna "]
[3001,"30 01 2011","Indolean  ap. 22",79.2,"chelt com luna "]
[3002,"30 01 2011","Mureşan E  ap. 23",66.41,"chelt com luna "]
[3003,"30 01 2011","Stanimir  ap. 23A",97.87,"chelt com luna "]
[3004,"30 01 2011","Lăpuştea  ap. 1",92.67,"chelt com luna "]
[3005,"30 01 2011","Bugnar  ap. 2",143.63999999999999,"chelt com luna "]
[3006,"30 01 2011","Tunyogi  ap. 3",330.12,"chelt com luna "]
[3007,"30 01 2011","Garbou  ap. 4",68.88,"chelt com luna "]
[3008,"30 01 2011","Szép  ap. 5",543.78,"chelt com luna "]
[3009,"30 01 2011","Bara  ap. 6",255.53,"chelt com luna "]
[3010,"30 01 2011","Colceriu  ap. 7",271.47000000000003,"chelt com luna "]
[3011,"30 01 2011","Gabor  ap. 8",63.21,"chelt com luna "]
[3012,"30 01 2011","Neamţ  ap. 9",142.44999999999999,"chelt com luna "]
[3013,"30 01 2011","Micşunescu  ap. 10",37.82,"chelt com luna "]
[3014,"30 01 2011","Jugrestan  ap. 11",76.2,"chelt com luna "]
[3015,"30 01 2011","Tárkányi  ap. 12",387.73,"chelt com luna "]
[3016,"30 01 2011","Nebert  ap. 13",79.900000000000006,"chelt com luna "]
[3017,"30 01 2011","Crişan  ap. 14",80.53,"chelt com luna "]
[3018,"30 01 2011","Lazăr  ap. 15",91.08,"chelt com luna "]
[3019,"30 01 2011","Vescan  ap. 16",108.17,"chelt com luna "]
[3020,"30 01 2011","Mihăescu  ap. 17",383.48,"chelt com luna "]
[3021,"30 01 2011","Pop Florin  ap. 18",92.19,"chelt com luna "]
[3022,"30 01 2011","Mureşan I  ap. 19",104.34,"chelt com luna "]
[3023,"30 01 2011","Ibbison  ap. 20",83.53,"chelt com luna "]
[3024,"30 01 2011","Kállai  ap. 21",87.34,"chelt com luna "]
[3025,"30 01 2011","Indolean  ap. 22",79.2,"chelt com luna "]
[3026,"30 01 2011","Mureşan E  ap. 23",66.41,"chelt com luna "]
[3027,"30 01 2011","Stanimir  ap. 23A",97.87,"chelt com luna "]
[3028,"30 01 2011","Cheţan  ap. 24",96.02,"chelt com luna "]
[3029,"30 01 2011","Călin  ap. 25",87.34,"chelt com luna "]
[3030,"30 01 2011","Turcu  ap. 26",56.37,"chelt com luna "]
[3031,"30 01 2011","Creţeanu  ap. 27",156.83000000000001,"chelt com luna "]
[3032,"30 01 2011","Zegreanu  ap. 28",348.6,"chelt com luna "]
[3033,"30 01 2011","Şerban  ap. 29",398.52,"chelt com luna "]
[3034,"30 01 2011","Mihăescu  ap. 30",389.59,"chelt com luna "]
[3035,"30 01 2011","Pop R  ap. 31",413.35,"chelt com luna "]
[3036,"30 01 2011","Lăpuştea  ap. 1",92.67,"chelt com luna "]
[3037,"30 01 2011","Bugnar  ap. 2",143.63999999999999,"chelt com luna "]
[3038,"30 01 2011","Tunyogi  ap. 3",330.12,"chelt com luna "]
[3039,"30 01 2011","Garbou  ap. 4",68.88,"chelt com luna "]
[3040,"30 01 2011","Szép  ap. 5",543.78,"chelt com luna "]
[3041,"30 01 2011","Bara  ap. 6",255.53,"chelt com luna "]
[3042,"30 01 2011","Colceriu  ap. 7",271.47000000000003,"chelt com luna "]
[3043,"30 01 2011","Gabor  ap. 8",63.21,"chelt com luna "]
[3044,"30 01 2011","Neamţ  ap. 9",142.44999999999999,"chelt com luna "]
[3045,"30 01 2011","Micşunescu  ap. 10",37.82,"chelt com luna "]
[3046,"30 01 2011","Jugrestan  ap. 11",76.2,"chelt com luna "]
[3047,"30 01 2011","Tárkányi  ap. 12",387.73,"chelt com luna "]
[3048,"30 01 2011","Nebert  ap. 13",79.900000000000006,"chelt com luna "]
[3049,"30 01 2011","Crişan  ap. 14",80.53,"chelt com luna "]
[3050,"30 01 2011","Lazăr  ap. 15",91.08,"chelt com luna "]
[3051,"30 01 2011","Vescan  ap. 16",108.17,"chelt com luna "]
[3052,"30 01 2011","Lăpuştea  ap. 1",92.67,"chelt com luna "]
[3053,"30 01 2011","Bugnar  ap. 2",143.63999999999999,"chelt com luna "]
[3054,"30 01 2011","Tunyogi  ap. 3",330.12,"chelt com luna "]
[3055,"30 01 2011","Garbou  ap. 4",68.88,"chelt com luna "]
[3056,"30 01 2011","Szép  ap. 5",543.78,"chelt com luna "]
[3057,"30 01 2011","Bara  ap. 6",255.53,"chelt com luna "]
[3058,"30 01 2011","Colceriu  ap. 7",271.47000000000003,"chelt com luna "]
[3059,"30 01 2011","Gabor  ap. 8",63.21,"chelt com luna "]
[3060,"30 01 2011","Neamţ  ap. 9",142.44999999999999,"chelt com luna "]
[3061,"30 01 2011","Micşunescu  ap. 10",37.82,"chelt com luna "]
[3062,"30 01 2011","Jugrestan  ap. 11",76.2,"chelt com luna "]
[3063,"30 01 2011","Tárkányi  ap. 12",387.73,"chelt com luna "]
[3064,"30 01 2011","Nebert  ap. 13",79.900000000000006,"chelt com luna "]
[3065,"30 01 2011","Crişan  ap. 14",80.53,"chelt com luna "]
[3066,"30 01 2011","Lazăr  ap. 15",91.08,"chelt com luna "]
[3067,"30 01 2011","Vescan  ap. 16",108.17,"chelt com luna "]
[3068,"30 01 2011","Mihăescu  ap. 17",383.48,"chelt com luna "]
[3069,"30 01 2011","Pop Florin  ap. 18",92.19,"chelt com luna "]
[3070,"30 01 2011","Mureşan I  ap. 19",104.34,"chelt com luna "]
[3071,"30 01 2011","Ibbison  ap. 20",83.53,"chelt com luna "]
[3072,"30 01 2011","Kállai  ap. 21",87.34,"chelt com luna "]
[3073,"30 01 2011","Indolean  ap. 22",79.2,"chelt com luna "]
[3074,"30 01 2011","Mureşan E  ap. 23",66.41,"chelt com luna "]
[3075,"30 01 2011","Stanimir  ap. 23A",97.87,"chelt com luna "]
[3076,"30 01 2011","Cheţan  ap. 24",96.02,"chelt com luna "]
[3077,"30 01 2011","Călin  ap. 25",87.34,"chelt com luna "]
[3078,"30 01 2011","Turcu  ap. 26",56.37,"chelt com luna "]
[3079,"30 01 2011","Creţeanu  ap. 27",156.83000000000001,"chelt com luna "]
[3080,"30 01 2011","Zegreanu  ap. 28",348.6,"chelt com luna "]
[3081,"30 01 2011","Şerban  ap. 29",398.52,"chelt com luna "]
[3082,"30 01 2011","Mihăescu  ap. 30",389.59,"chelt com luna "]
[3083,"30 01 2011","Pop R  ap. 31",413.35,"chelt com luna "]
[3084,"30 01 2011","Lungu  ap. 32",104.98,"chelt com luna "]
[3085,"30 01 2011","Mihuţ  ap. 33",446.85,"chelt com luna "]
[3086,"30 01 2011","Postescu  ap. 34",113.64,"chelt com luna "]
[3087,"30 01 2011","Goia  ap. 35",394.19,"chelt com luna "]
[3088,"30 01 2011","Dodu  ap. 36",378.45,"chelt com luna "]
[3089,"30 01 2011","Drăghici  ap. 37",133.86000000000001,"chelt com luna "]
[3090,"30 01 2011","Néda  ap. 38",420.11,"chelt com luna "]
[3091,"30 01 2011","Vornicescu  ap. 39",129.4,"chelt com luna "]
[3092,"30 01 2011","Sparleanu  ap. 40",95.82,"chelt com luna "]
[3093,"30 01 2011","Raboca  ap. 41",491.31,"chelt com luna "]
[3094,"30 01 2011","Negru  ap. 42",100.15,"chelt com luna "]
[3095,"30 01 2011","Roşescu  ap. 43",153.68,"chelt com luna "]
[3096,"30 01 2011","Ursu  ap. 44",74.17,"chelt com luna "]
[3097,"30 01 2011","Săcui  ap. 45",99.09,"chelt com luna "]
[3098,"30 01 2011","Mărinceanu  ap. 46",417.67,"chelt com luna "]
[3099,"30 01 2011","Ricean  ap. 47",118.82,"chelt com luna "]
[3100,"30 01 2011","Sabo  ap. 48",342.37,"chelt com luna "]
[3101,"30 01 2011","Câmpan  ap. 49",425.36,"chelt com luna "]
[3102,"30 01 2011","Tudoran  ap. 50",501.55,"chelt com luna "]
[3103,"30 01 2011","Ciubotariu  ap. 51",468.46,"chelt com luna "]
[3104,"30 01 2011","Cristea  ap. 52",374.3,"chelt com luna "]
[3105,"30 01 2011","Stănescu  ap. 53",393.59,"chelt com luna "]
[3106,"30 01 2011","Dejeu  ap. 54",378.07,"chelt com luna "]
[3107,"30 01 2011","Feşnic  ap. 55",619.35,"chelt com luna "]
[3108,"30 01 2011","Fonoage  ap. 56",289.61,"chelt com luna "]
[3109,"30 01 2011","Baras A  ap. 57",310.62,"chelt com luna "]
[3110,"30 01 2011","Fărcaş N  ap. 58",57.75,"chelt com luna "]
[3111,"30 01 2011","Bagaméri  ap. 59",311.44,"chelt com luna "]
[3112,"30 01 2011","Cristovici  ap. 60",66.73,"chelt com luna "]
[3113,"30 01 2011","Ureche  ap. 61",138.66999999999999,"chelt com luna "]
[3114,"30 01 2011","Fabian   ap. 62",107.96,"chelt com luna "]
[3115,"30 01 2011","Fărăgău  ap. 63",104.88,"chelt com luna "]
[3116,"30 01 2011","Rus  ap. 64",446.36,"chelt com luna "]
[3117,"30 01 2011","Pop   ap. 65",162.63,"chelt com luna "]
[3118,"30 01 2011","Bejan  ap. 66",100.55,"chelt com luna "]
[3119,"30 01 2011","Moga  ap. 67",55.67,"chelt com luna "]
[3120,"30 01 2011","Legian  ap. 68",450.65,"chelt com luna "]
[3121,"30 01 2011","Mocanu  ap. 69",150.88999999999999,"chelt com luna "]
[3122,"30 01 2011","Pop C.  ap. 70",163.84,"chelt com luna "]
[3123,"30 01 2011","Bugnar  ap. 2",143.63999999999999,"chelt com luna "]
[3124,"30 01 2011","Lăpuştea  ap. 1",92.67,"chelt com luna "]
[3125,"30 01 2011","Bugnar  ap. 2",143.63999999999999,"chelt com luna "]
[3126,"30 01 2011","Tunyogi  ap. 3",330.12,"chelt com luna "]
[3127,"30 01 2011","Garbou  ap. 4",68.88,"chelt com luna "]
[3128,"30 01 2011","Szép  ap. 5",543.78,"chelt com luna "]
[3129,"30 01 2011","Bara  ap. 6",255.53,"chelt com luna "]
[3130,"30 01 2011","Colceriu  ap. 7",271.47000000000003,"chelt com luna "]
[3131,"30 01 2011","Gabor  ap. 8",63.21,"chelt com luna "]
[3132,"30 01 2011","Gabor  ap. 8",63.21,"chelt com luna "]
[3133,"30 01 2011","Nebert  ap. 13",79.900000000000006,"chelt com luna "]
[3134,"30 01 2011","Vescan  ap. 16",108.17,"chelt com luna "]

{"sheet":"chitante","index":12,"n_rows":59,"n_cols":10,"rows_kept":59,"cut":false,"hidden":false,"merged":[]}
["Asociatia de Proprietari sc I-VI",null,null,"CHITANTA  Nr ",null,null,"Asociatia de Proprietari sc I-VI",null,null,"CHITANTA  Nr "]
["Cod Unic de Inregistrare 7112206",null,null,3132,null,null,"Cod Unic de Inregistrare 7112206"]
["Cluj-Napoca, aleea Baita nr 2",null,null,null,null,null,"Cluj-Napoca, aleea Baita nr 2"]
["Cont RO12 CECE CJ01 34RO N010 0349",null,null,"din 30 01 2011",null,null,"Cont RO12 CECE CJ01 34RO N010 0349"]
["CEC Cluj-Napoca ",null,null,null,null,null,"CEC Cluj-Napoca "]
[]
["Am primit de la Gabor"]
["Adresa sc.1 ap 8"]
["   Suma de    63,21 RON"]
["Adica saizecisitrei si 21/100"]
["Reprezentand chelt com luna "]
[]
[]
["Casier",null,null,null,null,null,"Casier"]
[]
["Asociatia de Proprietari sc I-VI",null,null,"CHITANTA  Nr ",null,null,"Asociatia de Proprietari sc I-VI",null,null,"CHITANTA  Nr "]
["Cod Unic de Inregistrare 7112206",null,null,3133,null,null,"Cod Unic de Inregistrare 7112206"]
["Cluj-Napoca, aleea Baita nr 2",null,null,null,null,null,"Cluj-Napoca, aleea Baita nr 2"]
["Cont RO12 CECE CJ01 34RO N010 0349",null,null,"din 30 01 2011",null,null,"Cont RO12 CECE CJ01 34RO N010 0349"]
["CEC Cluj-Napoca ",null,null,null,null,null,"CEC Cluj-Napoca "]
[]
["Am primit de la Nebert"]
["Adresa sc.1 ap 13"]
["   Suma de    79,9 RON"]
["Adica saptezecisinoua si 90/100"]
["Reprezentand chelt com luna "]
[]
[]
["Casier",null,null,null,null,null,"Casier"]
[]
["Asociatia de Proprietari sc I-VI",null,null,"CHITANTA  Nr ",null,null,"Asociatia de Proprietari sc I-VI",null,null,"CHITANTA  Nr "]
["Cod Unic de Inregistrare 7112206",null,null,3134,null,null,"Cod Unic de Inregistrare 7112206"]
["Cluj-Napoca, aleea Baita nr 2",null,null,null,null,null,"Cluj-Napoca, aleea Baita nr 2"]
["Cont RO12 CECE CJ01 34RO N010 0349",null,null,"din 30 01 2011",null,null,"Cont RO12 CECE CJ01 34RO N010 0349"]
["CEC Cluj-Napoca ",null,null,null,null,null,"CEC Cluj-Napoca "]
[]
["Am primit de la Vescan"]
["Adresa sc.2 ap 16"]
["   Suma de    108,17 RON"]
["Adica osutasiopt si 17/100"]
["Reprezentand chelt com luna "]
[]
[]
["Casier",null,null,null,null,null,"Casier"]
[]
["Asociatia de Proprietari sc I-VI",null,null,"CHITANTA  Nr ",null,null,"Asociatia de Proprietari sc I-VI",null,null,"CHITANTA  Nr "]
["Cod Unic de Inregistrare 7112206",null,null,null,null,null,"Cod Unic de Inregistrare 7112206"]
["Cluj-Napoca, aleea Baita nr 2",null,null,null,null,null,"Cluj-Napoca, aleea Baita nr 2"]
["Cont RO12 CECE CJ01 34RO N010 0349",null,null,null,null,null,"Cont RO12 CECE CJ01 34RO N010 0349"]
["CEC Cluj-Napoca ",null,null,null,null,null,"CEC Cluj-Napoca "]
[]
[]
[]
[]
[]
[" "]
[]
[]
["Casier",null,null,null,null,null,"Casier"]

{"sheet":"d","index":13,"n_rows":12,"n_cols":9,"rows_kept":12,"cut":false,"hidden":false,"merged":[]}
["osuta","zece","unu","unsprezece",null,"ianuarie",1,105,"bloc_2011.xlsm"]
["douasute","douazeci","doi","doisprezece",null,"februarie",1.2,110,"archiva liste cheltuieli.xlsx"]
["treisute","treizeci","trei","treisprezece",null,"martie",1.2,110,"viz_2011.xlsm"]
["patrusute","patruzeci","patru","patrusprezece",null,"aprilie",1.2,110]
["cincisute","cincizeci","cinci","cincisprezece",null,"mai",1.2,110]
["sasesute","saizeci","sase","saisprezece",null,"iunie",1,105]
["saptesute","saptezeci","sapte","saptesprezece",null,"iulie"]
["optsute","optzeci","opt","optsprezece",null,"august"]
["nouasute","nouzeci","noua","nouasprezece",null,"septembrie"]
[null,null,null,null,null,"octombrie"]
[null,null,null,null,null,"noiembrie"]
[null,null,null,null,null,"decembrie"]

{"sheet":"termoficare","index":14,"n_rows":18,"n_cols":6,"rows_kept":18,"cut":false,"hidden":false,"merged":[]}
["Cod abon",964]
[]
["suprafata totala",null,{"$f":"TOTAL!H2","v":1693.8200000000002},null,null,{"$f":"B7/C3","v":3.7075958484372597E-2}]
["Gcal citire",null,39.749200000000002,{"$f":"C4/C3","v":2.3467192499793364E-2},null,{"$f":"C4*F3","v":1.4737396889870233}]
["pret Gcal ",null,165]
["ap","supraf","Gcal","coeficient","Gcal","Valoare"]
[48,62.8,{"$f":"D$4*B7","v":1.4737396889870231},0.9,{"$f":"C7*D7","v":1.3263657200883208},{"$f":"E7*C$5","v":218.85034381457294}]
[50,51,{"$f":"D$4*B8","v":1.1968268174894616},0.9,{"$f":"C8*D8","v":1.0771441357405156},{"$f":"E8*C$5","v":177.72878239718509}]
[64,62.11,{"$f":"D$4*B9","v":1.4575473261621659},0.3,{"$f":"C9*D9","v":0.43726419784864973},{"$f":"E9*C$5","v":72.148592645027207}]
[68,48.77,{"$f":"D$4*B10","v":1.1444949782149225},0.9,{"$f":"C10*D10","v":1.0300454803934302},{"$f":"E10*C$5","v":169.957504264916}]
[null,null,{"$f":"SUM(C7:C10)","v":5.2726088108535727}]
[]
["ap","supraf"]
[48,62.8,{"$f":"B14/C$3","v":3.7075958484372597E-2},{"$f":"C$4*C14","v":1.4737396889870233},null," "]
[50,51,{"$f":"B15/C$3","v":3.0109456730939531E-2},{"$f":"C$4*C15","v":1.1968268174894616}]
[64,62.11,{"$f":"B16/C$3","v":3.6668595246248124E-2},{"$f":"C$4*C16","v":1.4575473261621661}]
[68,48.77,{"$f":"B17/C$3","v":2.8792905975841589E-2},{"$f":"C$4*C17","v":1.1444949782149225}]
[null,null,null,{"$f":"SUM(D14:D17)","v":5.2726088108535727}]

{"sheet":"stat","index":15,"n_rows":13,"n_cols":9,"rows_kept":13,"cut":false,"hidden":false,"merged":[]}
["Numele ","Functia","Venit brut","Impozit","Fond de sanatate","Rest de plata","Semnatura"]
["Zegreanu Doina","cenzor",70,{"$f":"ROUND(C2*0.16,0)","v":11},0,{"$f":"C2-D2-E2","v":59}]
["Suciu Emilia","femeie de serviciu",500,{"$f":"ROUND(C3*0.16,0)","v":80},0,{"$f":"C3-D3-E3","v":420}]
["Szep Elena","contabil",364,{"$f":"ROUND(C4*0.16,0)","v":58},0,{"$f":"C4-D4-E4","v":306}]
[null,null,{"$f":"SUM(C2:C4)","v":934},{"$f":"SUM(D2:D4)","v":149},{"$f":"SUM(E2:E4)","v":0},{"$f":"SUM(F2:F4)","v":785},null,null,{"$f":"D5*3","v":447}]
[]
[]
[]
[null,"Presedinte",null,"Pop Remus"]
[]
[null,"Sef Comisie de Cenzori",null,"Zegreanu Doina"]
[]
[null,"Contabil",null,"Szep Elena"]

{"sheet":"fRU","index":16,"n_rows":81,"n_cols":10,"rows_kept":81,"cut":false,"hidden":false,"merged":[]}
[null,null,null,null,"Suma"]
["Nr. Doc","din","Ap","Explicatii","Stabilita","Incasata","Restituita",null,"Restante",{"$f":"Rulm[[#Totals],[Stabilita]]-Rulm[[#Totals],[Incasata]]","v":1098.1200000000008}]
["A1",null,1,"Sold preluat in 2011",70,70]
["A1",null,2,"Sold preluat in 2011",50,50]
["A1",null,3,"Sold preluat in 2011",330,330]
["A1",null,4,"Sold preluat in 2011",50,50]
["A1",null,5,"Sold preluat in 2011",570,570]
["A1",null,6,"Sold preluat in 2011",390,390]
["A1",null,7,"Sold preluat in 2011",260,260]
["A1",null,8,"Sold preluat in 2011",40,40]
["A1",null,9,"Sold preluat in 2011",80,80]
["A1",null,10,"Sold preluat in 2011",50,20]
["A1",null,11,"Sold preluat in 2011",40,40]
["A1",null,12,"Sold preluat in 2011",450,158.80000000000001]
["A1",null,13,"Sold preluat in 2011",60,49.9]
["A1",null,14,"Sold preluat in 2011",50,50]
["A1",null,15,"Sold preluat in 2011",59,59]
["A1",null,16,"Sold preluat in 2011",60,60]
["A1",null,17,"Sold preluat in 2011",430,430]
["A1",null,18,"Sold preluat in 2011",60,60]
["A1",null,19,"Sold preluat in 2011",80,80]
["A1",null,20,"Sold preluat in 2011",40,40]
["A1",null,21,"Sold preluat in 2011",60,60]
["A1",null,22,"Sold preluat in 2011",60,60]
["A1",null,23,"Sold preluat in 2011",40,40]
["A1",null,"23A","Sold preluat in 2011",60,60]
["A1",null,24,"Sold preluat in 2011",70,70]
["A1",null,25,"Sold preluat in 2011",60,60]
["A1",null,26,"Sold preluat in 2011",570,570]
["A1",null,27,"Sold preluat in 2011",70,70]
["A1",null,28,"Sold preluat in 2011",450,425]
["A1",null,29,"Sold preluat in 2011",470,470]
["A1",null,30,"Sold preluat in 2011",440,440]
["A1",null,31,"Sold preluat in 2011",430,430]
["A1",null,32,"Sold preluat in 2011",80,20]
["A1",null,33,"Sold preluat in 2011",490,490]
["A1",null,34,"Sold preluat in 2011",60,60]
["A1",null,35,"Sold preluat in 2011",490,490]
["A1",null,36,"Sold preluat in 2011",420,420]
["A1",null,37,"Sold preluat in 2011",40,40]
["A1",null,38,"Sold preluat in 2011",470,470]
["A1",null,39,"Sold preluat in 2011",60,60]
["A1",null,40,"Sold preluat in 2011",60,60]
["A1",null,41,"Sold preluat in 2011",520,520]
["A1",null,42,"Sold preluat in 2011",80,80]
["A1",null,43,"Sold preluat in 2011",70,70]
["A1",null,44,"Sold preluat in 2011",50,50]
["A1",null,45,"Sold preluat in 2011",60,31]
["A1",null,46,"Sold preluat in 2011",480,480]
["A1",null,47,"Sold preluat in 2011",60,50]
["A1",null,48,"Sold preluat in 2011",220,220]
["A1",null,49,"Sold preluat in 2011",470,470]
["A1",null,50,"Sold preluat in 2011",510,95]
["A1",null,51,"Sold preluat in 2011",530,530]
["A1",null,52,"Sold preluat in 2011",440,390]
["A1",null,53,"Sold preluat in 2011",540,540]
["A1",null,54,"Sold preluat in 2011",520,520]
["A1",null,55,"Sold preluat in 2011",620,620]
["A1",null,56,"Sold preluat in 2011",470,328]
["A1",null,57,"Sold preluat in 2011",340,340]
["A1",null,58,"Sold preluat in 2011",30,30]
["A1",null,59,"Sold preluat in 2011",320,320]
["A1",null,60,"Sold preluat in 2011",40,40]
["A1",null,61,"Sold preluat in 2011",60,60]
["A1",null,62,"Sold preluat in 2011",60,60]
["A1",null,63,"Sold preluat in 2011",60,60]
["A1",null,64,"Sold preluat in 2011",500,422]
["A1",null,65,"Sold preluat in 2011",70,70]
["A1",null,66,"Sold preluat in 2011",60,60]
["A1",null,67,"Sold preluat in 2011",40,40]
["A1",null,68,"Sold preluat in 2011",340,340]
["A1",null,69,"Sold preluat in 2011",90,90]
["A1",null,70,"Sold preluat in 2011",80,80]
[599,"2010-11-22",15,"FRU",null,14.06]
[599,"2010-11-24",15,"FRU",null,14.06]
[599,"2010-11-24",15,"FRU",null,14.06]
[]
[]
[]
[]
["Total",null,null,null,{"$f":"SUBTOTAL(109,Rulm[Stabilita])","v":15899},{"$f":"SUBTOTAL(109,Rulm[Incasata])","v":14800.88},{"$f":"SUBTOTAL(103,Rulm[Restituita])","v":0}]

{"sheet":"fRE","index":17,"n_rows":77,"n_cols":10,"rows_kept":77,"cut":false,"hidden":false,"merged":[[0,4,0,6]]}
[null,null,null,null,"Suma"]
["Nr. Doc","din","Ap","Explicatii","Stabilita","Incasata","Cheltuita",null,"Restante",{"$f":"Repar[[#Totals],[Stabilita]]-Repar[[#Totals],[Incasata]]","v":1302.7000000000007}]
["A1",null,1,"Sold preluat in 2011",177,177]
["A1",null,2,"Sold preluat in 2011",169.49999999999997,80.22]
["A1",null,3,"Sold preluat in 2011",168.00000000000003,168.00000000000003]
["A1",null,4,"Sold preluat in 2011",216,216]
["A1",null,5,"Sold preluat in 2011",219,219]
["A1",null,6,"Sold preluat in 2011",169.49999999999997,169.49999999999997]
["A1",null,7,"Sold preluat in 2011",216,216]
["A1",null,8,"Sold preluat in 2011",219,129.80000000000001]
["A1",null,9,"Sold preluat in 2011",169.49999999999997,169.49999999999997]
["A1",null,10,"Sold preluat in 2011",216,216]
["A1",null,11,"Sold preluat in 2011",219,219]
["A1",null,12,"Sold preluat in 2011",166.50000000000003,166.50000000000003]
["A1",null,13,"Sold preluat in 2011",216,216]
["A1",null,14,"Sold preluat in 2011",219,219]
["A1",null,15,"Sold preluat in 2011",169.49999999999997,169.49999999999997]
["A1",null,16,"Sold preluat in 2011",213,213]
["A1",null,17,"Sold preluat in 2011",216,216]
["A1",null,18,"Sold preluat in 2011",216,216]
["A1",null,19,"Sold preluat in 2011",247.5,247.5]
["A1",null,20,"Sold preluat in 2011",216,216]
["A1",null,21,"Sold preluat in 2011",250.5,250.5]
["A1",null,22,"Sold preluat in 2011",216,216]
["A1",null,23,"Sold preluat in 2011",250.5,250.5]
["A1",null,"23A","Sold preluat in 2011",0,0]
["A1",null,24,"Sold preluat in 2011",216,216]
["A1",null,25,"Sold preluat in 2011",250.5,250.5]
["A1",null,26,"Sold preluat in 2011",219,219]
["A1",null,27,"Sold preluat in 2011",219,219]
["A1",null,28,"Sold preluat in 2011",216,142.44999999999999]
["A1",null,29,"Sold preluat in 2011",250.5,250.5]
["A1",null,30,"Sold preluat in 2011",216,216]
["A1",null,31,"Sold preluat in 2011",247.5,247.5]
["A1",null,32,"Sold preluat in 2011",216,87.449999999999989]
["A1",null,33,"Sold preluat in 2011",250.5,129.27000000000001]
["A1",null,34,"Sold preluat in 2011",216,216]
["A1",null,35,"Sold preluat in 2011",250.5,250.5]
["A1",null,36,"Sold preluat in 2011",216,216]
["A1",null,37,"Sold preluat in 2011",169.49999999999997,169.49999999999997]
["A1",null,38,"Sold preluat in 2011",216,216]
["A1",null,39,"Sold preluat in 2011",250.5,250.5]
["A1",null,40,"Sold preluat in 2011",216,216]
["A1",null,41,"Sold preluat in 2011",247.5,247.5]
["A1",null,42,"Sold preluat in 2011",216,216]
["A1",null,43,"Sold preluat in 2011",250.5,250.5]
["A1",null,44,"Sold preluat in 2011",216,216]
["A1",null,45,"Sold preluat in 2011",250.5,189.87]
["A1",null,46,"Sold preluat in 2011",216,216]
["A1",null,47,"Sold preluat in 2011",217.5,73.88]
["A1",null,48,"Sold preluat in 2011",216,216]
["A1",null,49,"Sold preluat in 2011",247.5,247.5]
["A1",null,50,"Sold preluat in 2011",216,216]
["A1",null,51,"Sold preluat in 2011",250.5,250.5]
["A1",null,52,"Sold preluat in 2011",216,188.95]
["A1",null,53,"Sold preluat in 2011",250.5,250.5]
["A1",null,54,"Sold preluat in 2011",216,216]
["A1",null,55,"Sold preluat in 2011",250.5,250.5]
["A1",null,56,"Sold preluat in 2011",169.49999999999997,169.49999999999997]
["A1",null,57,"Sold preluat in 2011",169.49999999999997,169.49999999999997]
["A1",null,58,"Sold preluat in 2011",177,-37.139999999999986]
["A1",null,59,"Sold preluat in 2011",169.49999999999997,169.49999999999997]
["A1",null,60,"Sold preluat in 2011",219,84.800000000000011]
["A1",null,61,"Sold preluat in 2011",216,216]
["A1",null,62,"Sold preluat in 2011",169.49999999999997,169.49999999999997]
["A1",null,63,"Sold preluat in 2011",219,219]
["A1",null,64,"Sold preluat in 2011",216,88.45]
["A1",null,65,"Sold preluat in 2011",169.49999999999997,169.49999999999997]
["A1",null,66,"Sold preluat in 2011",219,219]
["A1",null,67,"Sold preluat in 2011",216,216]
["A1",null,68,"Sold preluat in 2011",169.49999999999997,55.22]
["A1",null,69,"Sold preluat in 2011",219,84.800000000000011]
["A1",null,70,"Sold preluat in 2011",216,134.47]
[165,"2010-11-11",10,"Fre",null,16.03]
[165,"2010-11-11",10,"Fre",null,16.03]
[]
["Total",null,null,null,{"$f":"SUBTOTAL(109,Repar[Stabilita])","v":11637},{"$f":"SUBTOTAL(109,Repar[Incasata])","v":10334.299999999999},{"$f":"SUBTOTAL(103,Repar[Cheltuita])","v":0}]

{"sheet":"penal","index":18,"n_rows":40,"n_cols":6,"rows_kept":40,"cut":false,"hidden":false,"merged":[]}
["Nr doc","din","Ap","Incasat","Cheltuit","Explicatii"]
[682,"2008-02-09",50,25]
[692,"2008-04-25",26,27]
[693,"2008-05-06",27,1.87]
[719,"2008-08-29",50,93.6]
[725,"2008-10-02",50,29.26]
[727,"2008-10-09",9,5.58]
[4,"2009-01-07",50,39.369999999999997]
[6,"2009-01-20",2,7.47]
[7,"2009-02-17",50,8]
[10,"2009-03-17",26,23.9]
[38,"2009-05-20",50,80.91]
[64,"2009-06-22",27,29.2]
[101,"2009-09-11",9,8.1]
[104,"2009-09-16",26,143.01]
[105,"2009-09-16",26,2.02]
[120,"2009-11-23",50,96]
[125,"2009-12-15",1,14.3]
[251,"2010-01-22",50,69.739999999999995]
[144,"2010-03-02",50,98.089999999999989]
[261,"2010-04-21",50,79.11]
[266,"2010-05-19",50,156.66999999999999]
[283,"2010-08-04",50,67.22]
[153,"2010-09-27",50,168.91]
[163,"2010-11-24",50,86.17]
[157,"2010-11-16",9,3.2]
[155,"2010-11-21",9,1.05]
[]
[]
[]
[]
[]
[]
[]
[]
[]
[]
[]
[]
["Total",null,null,{"$f":"SUBTOTAL(109,Penal[Incasat])","v":1364.7500000000002}]

{"sheet":"RegJurnal","index":19,"n_rows":1055,"n_cols":11,"rows_kept":1055,"cut":false,"hidden":false,"merged":[]}
[null,null,"Document primar",null,null,null,"Numerar",null,"Banca"]
["Nr crt","Data inreg","Tip doc","Nr doc ","din","Explicatii","Incasari","Plati","Incasari","Plati","TOTAL"]
[null,null,null,null,null,"Report"]
[1,"2010-01-02","SP",1,{"$f":"B4","v":"2010-01-02"},"Stat de plata dec 2009",null,781,null,null,{"$f":"G4+H4+I4+J4","v":781}]
[{"$f":"A4+1","v":2},"2010-01-04","BF",180,"2010-01-04","Dulie",null,18,null,null,{"$f":"G5+H5+I5+J5","v":18}]
[{"$f":"A5+1","v":3},"2010-01-05","BF",116,"2010-01-05","Lacat",null,1.4,null,null,1.4]
[4,"2010-01-06","CH",3345428,"2010-01-06","Impozit venit",null,447,null,null,447]
[5,"2010-01-06","BF",6,"2010-01-06","Lacat",null,7,null,null,7]
[6,"2010-01-06","BF",60,"2010-01-06","Piulita, burghiu, lacat",null,29.4,null,null,29.4]
[7,"2010-01-07","BF",9,"2010-01-07","Lacat",null,7,null,null,7]
[8,"2010-01-08","BF",70,"2010-01-08","Burghiu, lacat",null,20.3,null,null,20.3]
[9,"2010-01-09","DP",1,"2010-01-09","Maturi nuiele  Bercea Ioan",null,20,null,null,20]
[10,"2010-01-09","CH",null,"2010-01-09","Salubritate",null,852,null,null,852]
[11,"2010-01-14","CH",1060771,"2010-01-14","Apa canal",null,2373.96,null,null,2373.96]
[12,"2010-01-15","CH",6501,"2010-01-15","Electrica sc 1",null,16.64,null,null,16.64]
[13,"2010-01-15","CH",6601,"2010-01-15","Electrica sc 2",null,12.09,null,null,12.09]
[14,"2010-01-15","CH",6701,"2010-01-15","Electrica sc 3",null,25.7,null,null,25.7]
[15,"2010-01-15","CH",9701,"2010-01-15","Electrica sc 4",null,8.09,null,null,8.09]
[16,"2010-01-15","CH",9801,"2010-01-15","Electrica sc 5",null,11.58,null,null,11.58]
[17,"2010-01-15","CH",9901,"2010-01-15","Electrica sc 6",null,7.06,null,null,7.06]
[18,"2010-01-20","DP",1,"2010-01-20","Reparatii electrice Ladanyi Bela",null,15,null,null,15]
[19,"2010-01-20","CH",136,"2010-01-20","Crisan ap 14 FREP",30,null,null,null,30]
[20,"2010-01-20","CH",137,"2010-01-20","Bara ap 6 CH",241.27,null,null,null,241.27]
[21,"2010-01-21","CH",97811,"2010-01-21","Gaz",null,228,null,null,228]
[22,"2010-01-21","CH",123201,"2010-01-21","Termoficare",null,9741.42,null,null,9741.42]
[23,"2010-01-21","CH",138,"2010-01-21","Vornicescu ap 39 CH",182.16,null,null,null,182.16]
[24,"2010-01-21","CH",139,"2010-01-21","Farcas ap 58 CH",40.4,null,null,null,40.4]
[25,"2010-01-22","CH",251,"2010-01-22","Tudoran ap 50 CH",315,null,null,null,315]
[26,"2010-01-22","CH",1918,"2010-01-22","Csapo  ap. 1",18.46,null,null,null,18.46]
[27,"2010-01-22","CH",1919,"2010-01-22","Bugnar  ap. 2",38.21,null,null,null,38.21]
[28,"2010-01-22","CH",1920,"2010-01-22","Tunyogi  ap. 3",337.06,null,null,null,337.06]
[29,"2010-01-22","CH",1921,"2010-01-22","Garbou  ap. 4",29.34,null,null,null,29.34]
[30,"2010-01-22","CH",1922,"2010-01-22","Szép  ap. 5",549.36,null,null,null,549.36]
[31,"2010-01-22","CH",1923,"2010-01-22","Bara  ap. 6",334.11,null,null,null,334.11]
[32,"2010-01-22","CH",1924,"2010-01-22","Colceriu  ap. 7",227.58,null,null,null,227.58]
[33,"2010-01-22","CH",1925,"2010-01-22","Gabor  ap. 8",29.42,null,null,null,29.42]
[34,"2010-01-22","CH",1926,"2010-01-22","Neamţ  ap. 9",57.73,null,null,null,57.73]
[35,"2010-01-22","CH",1927,"2010-01-22","Micşunescu  ap. 10",49.14,null,null,null,49.14]
[36,"2010-01-22","CH",1928,"2010-01-22","Jugrestan  ap. 11",41.3,null,null,null,41.3]
[37,"2010-01-22","CH",1929,"2010-01-22","Tárkányi  ap. 12",393.03,null,null,null,393.03]
[38,"2010-01-22","CH",1930,"2010-01-22","Nebert  ap. 13",45.18,null,null,null,45.18]
[39,"2010-01-22","CH",1931,"2010-01-22","Crişan  ap. 14",76.510000000000005,null,null,null,76.510000000000005]
[40,"2010-01-22","CH",1932,"2010-01-22","Lazăr  ap. 15",61.74,null,null,null,61.74]
[41,"2010-01-22","CH",1933,"2010-01-22","Vescan  ap. 16",47.74,null,null,null,47.74]
[42,"2010-01-22","CH",1934,"2010-01-22","Mihăescu  ap. 17",413.48,null,null,null,413.48]
[43,"2010-01-22","CH",1935,"2010-01-22","Pop T  ap. 18",91.5,null,null,null,91.5]
[44,"2010-01-22","CH",1936,"2010-01-22","Mureşan I  ap. 19",89.87,null,null,null,89.87]
[45,"2010-01-22","CH",1937,"2010-01-22","Ibbison  ap. 20",59.82,null,null,null,59.82]
[46,"2010-01-22","CH",1938,"2010-01-22","Kállai  ap. 21",86.13,null,null,null,86.13]
[47,"2010-01-22","CH",1939,"2010-01-22","Indolean  ap. 22",71.7,null,null,null,71.7]
[48,"2010-01-22","CH",1940,"2010-01-22","Mureşan E  ap. 23",55.18,null,null,null,55.18]
[49,"2010-01-22","CH",1941,"2010-01-22","Stanimir  ap. 23A",82.19,null,null,null,82.19]
[50,"2010-01-22","CH",1942,"2010-01-22","Cheţan  ap. 24",87.41,null,null,null,87.41]
[51,"2010-01-22","CH",1943,"2010-01-22","Călin  ap. 25",74.25,null,null,null,74.25]
[52,"2010-01-22","CH",1944,"2010-01-22","Turcu  ap. 26",321.76,null,null,null,321.76]
[53,"2010-01-22","CH",1945,"2010-01-22","Creţeanu  ap. 27",120.21,null,null,null,120.21]
[54,"2010-01-22","CH",1946,"2010-01-22","Zegreanu  ap. 28",373.42,null,null,null,373.42]
[55,"2010-01-22","CH",1947,"2010-01-22","Şerban  ap. 29",453.51,null,null,null,453.51]
[56,"2010-01-22","CH",1948,"2010-01-22","Mihăescu  ap. 30",414.29,null,null,null,414.29]
[57,"2010-01-22","CH",1949,"2010-01-22","Pop R  ap. 31",385.38,null,null,null,385.38]
[58,"2010-01-22","CH",1950,"2010-01-22","Lungu  ap. 32",80.53,null,null,null,80.53]
[59,"2010-01-22","CH",1951,"2010-01-22","Mihuţ  ap. 33",478.11,null,null,null,478.11]
[60,"2010-01-22","CH",1952,"2010-01-22","Postescu  ap. 34",76.569999999999993,null,null,null,76.569999999999993]
[61,"2010-01-22","CH",1953,"2010-01-22","Goia  ap. 35",459.87,null,null,null,459.87]
[62,"2010-01-22","CH",1954,"2010-01-22","Dodu  ap. 36",472.74,null,null,null,472.74]
[63,"2010-01-22","CH",1955,"2010-01-22","Drăghici  ap. 37",111.37,null,null,null,111.37]
[64,"2010-01-22","CH",1956,"2010-01-22","Néda  ap. 38",501.3,null,null,null,501.3]
[65,"2010-01-22","CH",1957,"2010-01-22","Vornicescu  ap. 39",137.52000000000001,null,null,null,137.52000000000001]
[66,"2010-01-22","CH",1958,"2010-01-22","Sparleanu  ap. 40",134.91999999999999,null,null,null,{"$f":"G69+H69+I69+J69","v":134.91999999999999}]
[{"$f":"A69+1","v":67},"2010-01-22","CH",1959,"2010-01-22","Raboca  ap. 41",559.70000000000005,null,null,null,559.70000000000005]
[68,"2010-01-22","CH",1960,"2010-01-22","Negru  ap. 42",154.72,null,null,null,154.72]
[69,"2010-01-22","CH",1961,"2010-01-22","Roşescu  ap. 43",171.87,null,null,null,171.87]
[70,"2010-01-22","CH",1962,"2010-01-22","Ursu  ap. 44",119.03,null,null,null,119.03]
[71,"2010-01-22","CH",1963,"2010-01-22","Săcui  ap. 45",141.47999999999999,null,null,null,141.47999999999999]
[72,"2010-01-22","CH",1964,"2010-01-22","Mărinceanu  ap. 46",464.31,null,null,null,464.31]
[73,"2010-01-22","CH",1965,"2010-01-22","Ricean  ap. 47",79.489999999999995,null,null,null,79.489999999999995]
[74,"2010-01-22","CH",1966,"2010-01-22","Sabo  ap. 48",210.35,null,null,null,210.35]
[75,"2010-01-22","CH",1967,"2010-01-22","Câmpan  ap. 49",449.57,null,null,null,449.57]
[76,"2010-01-22","CH",1969,"2010-01-22","Conon  ap. 51",378.86,null,null,null,378.86]
[77,"2010-01-22","CH",1970,"2010-01-22","Cristea  ap. 52",398.73,null,null,null,398.73]
[78,"2010-01-22","CH",1971,"2010-01-22","Stănescu  ap. 53",405.49,null,null,null,405.49]
[79,"2010-01-22","CH",1972,"2010-01-22","Dejeu  ap. 54",415.57,null,null,null,415.57]
[80,"2010-01-22","CH",1973,"2010-01-22","Feşnic  ap. 55",599.08000000000004,null,null,null,599.08000000000004]
[81,"2010-01-22","CH",1975,"2010-01-22","Baras A  ap. 57",283.85000000000002,null,null,null,283.85000000000002]
[82,"2010-01-22","CH",1977,"2010-01-22","Bagaméri  ap. 59",295.20999999999998,null,null,null,295.20999999999998]
[83,"2010-01-22","CH",1978,"2010-01-22","Cristovici  ap. 60",49.06,null,null,null,49.06]
[84,"2010-01-22","CH",1979,"2010-01-22","Trifoiu  ap. 61",103.43,null,null,null,103.43]
[85,"2010-01-22","CH",1980,"2010-01-22","Fabian   ap. 62",77.16,null,null,null,77.16]
[86,"2010-01-22","CH",1981,"2010-01-22","Fărăgău  ap. 63",76.34,null,null,null,76.34]
[87,"2010-01-22","CH",1982,"2010-01-22","Rus  ap. 64",351.07,null,null,null,351.07]
[88,"2010-01-22","CH",1983,"2010-01-22","Pop   ap. 65",135.66999999999999,null,null,null,135.66999999999999]
[89,"2010-01-22","CH",1984,"2010-01-22","Bejan  ap. 66",80.3,null,null,null,80.3]
[90,"2010-01-22","CH",1985,"2010-01-22","Moga  ap. 67",20.69,null,null,null,20.69]
[91,"2010-01-22","CH",1986,"2010-01-22","Legian  ap. 68",180.72,null,null,null,180.72]
[92,"2010-01-22","CH",1987,"2010-01-22","Mocanu  ap. 69",142.77000000000001,null,null,null,142.77000000000001]
[93,"2010-01-22","CH",1988,"2010-01-22","Pop C.  ap. 70",114.87,null,null,null,114.87]
[94,"2010-01-23","CH",140,{"$f":"B97","v":"2010-01-23"},"Csapo ap 1 CH",132.66999999999999,null,null,null,132.66999999999999]
[95,"2010-01-25","CH",3008,{"$f":"B98","v":"2010-01-25"},"Interfon sc 4",null,400,null,null,400]
[96,"2010-01-25","BF",null,{"$f":"B99","v":"2010-01-25"},"Anunt condoleante",null,12.5,null,null,12.5]
[97,"2010-01-26","BF",795,{"$f":"B100","v":"2010-01-26"},"Coroana",null,40,null,null,40]
[98,"2010-01-31","EX",1,"2010-01-31","Dobanda",0,0,0.1,null,0.1]
[null,null,null,null,null,null,{"$f":"SUM(G4:G101)","v":15369.829999999998},{"$f":"SUM(H4:H101)","v":15075.140000000001},{"$f":"SUM(I4:I101)","v":0.1},null,{"$f":"SUM(K4:K101)","v":30445.069999999985}]
[null,null,null,null,null,"De reportat",{"$f":"K102","v":30445.069999999985}]
[]
[null,"Intocmit"]
[]
[]
[]
[null,null,null,null,null,"Report",null,null,null,null,{"$f":"G103","v":30445.069999999985}]
[1,"2010-02-01","SP",null,{"$f":"B110","v":"2010-02-01"},"Stat de plata ian",null,781,null,null,{"$f":"G110+H110+I110+J110","v":781}]
[{"$f":"A110+1","v":2},"2010-02-02","CH",141,"2010-02-02","Ibbison ap 20 CH",45.24,null,null,null,45.24]
[3,"2010-02-02","CH",1081260,"2010-02-02","Salubritate",null,779.34,null,null,779.34]
[4,"2010-02-10","EX",1,"2010-02-10","Dobanda",0,null,196.35,null,196.35]
[5,"2010-02-19","DP",1,"2010-02-19","Zegreanu  restituit CASS",null,52,null,null,52]
[6,"2010-02-22","CH",1318116,"2010-02-22","Apa canal",null,2209.21,null,null,2209.21]
[7,"2010-02-22","CH",6501,"2010-02-22","Electrica sc 1",null,26.75,null,null,26.75]
[8,"2010-02-22","CH",6601,"2010-02-22","Electrica sc 2",null,11.43,null,null,11.43]
[9,"2010-02-22","CH",9801,"2010-02-22","Electrica sc 5",null,27.69,null,null,27.69]
[10,"2010-02-22","CH",9901,"2010-02-22","Electrica sc 6",null,16.399999999999999,null,null,16.399999999999999]
[11,"2010-02-22","CH",142,"2010-02-22","Dodu ap 36 FREP",50,null,null,null,50]
[12,"2010-02-24","CH",224,"2010-02-24","Termoficare",null,10353.459999999999,null,null,10353.459999999999]
[13,"2010-02-24","CH",98643,"2010-02-24","Gaz",null,302,null,null,302]
[14,"2010-02-24","CH",1989,"2010-02-24","Csapo  ap. 1",19.52,null,null,null,19.52]
[15,"2010-02-24","CH",1990,"2010-02-24","Bugnar  ap. 2",56.55,null,null,null,56.55]
[16,"2010-02-24","CH",1991,"2010-02-24","Tunyogi  ap. 3",329.76,null,null,null,329.76]
[17,"2010-02-24","CH",1992,"2010-02-24","Garbou  ap. 4",22.08,null,null,null,22.08]
[18,"2010-02-24","CH",1993,"2010-02-24","Szép  ap. 5",524.05999999999995,null,null,null,524.05999999999995]
[19,"2010-02-24","CH",1994,"2010-02-24","Bara  ap. 6",330.82,null,null,null,330.82]
[20,"2010-02-24","CH",1995,"2010-02-24","Colceriu  ap. 7",246.47,null,null,null,246.47]
[21,"2010-02-24","CH",1996,"2010-02-24","Gabor  ap. 8",32.409999999999997,null,null,null,32.409999999999997]
[22,"2010-02-24","CH",1997,"2010-02-24","Neamţ  ap. 9",66.17,null,null,null,66.17]
[23,"2010-02-24","CH",1998,"2010-02-24","Micşunescu  ap. 10",44.04,null,null,null,44.04]
[24,"2010-02-24","CH",1999,"2010-02-24","Jugrestan  ap. 11",44.11,null,null,null,44.11]
[25,"2010-02-24","CH",2000,"2010-02-24","Tárkányi  ap. 12",380.33,null,null,null,380.33]
[26,"2010-02-24","CH",2001,"2010-02-24","Nebert  ap. 13",40.14,null,null,null,40.14]
[27,"2010-02-24","CH",2002,"2010-02-24","Crişan  ap. 14",61.38,null,null,null,61.38]
[28,"2010-02-24","CH",2003,"2010-02-24","Lazăr  ap. 15",62.33,null,null,null,62.33]
[29,"2010-02-24","CH",2004,"2010-02-24","Vescan  ap. 16",42.83,null,null,null,42.83]
[30,"2010-02-24","CH",2005,"2010-02-24","Mihăescu  ap. 17",428.92,null,null,null,428.92]
[31,"2010-02-24","CH",2006,"2010-02-24","Pop T  ap. 18",88.04,null,null,null,88.04]
[32,"2010-02-24","CH",2007,"2010-02-24","Mureşan I  ap. 19",78.73,null,null,null,78.73]
[33,"2010-02-24","CH",2009,"2010-02-24","Kállai  ap. 21",86.76,null,null,null,86.76]
[34,"2010-02-24","CH",2010,"2010-02-24","Indolean  ap. 22",64.64,null,null,null,64.64]
[35,"2010-02-24","CH",2011,"2010-02-24","Mureşan E  ap. 23",59.37,null,null,null,59.37]
[36,"2010-02-24","CH",2012,"2010-02-24","Stanimir  ap. 23A",90.57,null,null,null,90.57]
[37,"2010-02-24","CH",2013,"2010-02-24","Cheţan  ap. 24",78.31,null,null,null,78.31]
[38,"2010-02-24","CH",2014,"2010-02-24","Călin  ap. 25",82.86,null,null,null,82.86]
[39,"2010-02-24","CH",2015,"2010-02-24","Turcu  ap. 26",340.53,null,null,null,340.53]
[40,"2010-02-24","CH",2016,"2010-02-24","Creţeanu  ap. 27",82.18,null,null,null,82.18]
[41,"2010-02-24","CH",2017,"2010-02-24","Zegreanu  ap. 28",388.73,null,null,null,388.73]
[42,"2010-02-24","CH",2018,"2010-02-24","Şerban  ap. 29",449.69,null,null,null,449.69]
[43,"2010-02-24","CH",2019,"2010-02-24","Mihăescu  ap. 30",445.68,null,null,null,445.68]
[44,"2010-02-24","CH",2020,"2010-02-24","Pop R  ap. 31",430.15,null,null,null,430.15]
[45,"2010-02-24","CH",2021,"2010-02-24","Lungu  ap. 32",89.9,null,null,null,89.9]
[46,"2010-02-24","CH",2022,"2010-02-24","Mihuţ  ap. 33",482.99,null,null,null,482.99]
[47,"2010-02-24","CH",2023,"2010-02-24","Postescu  ap. 34",70.400000000000006,null,null,null,70.400000000000006]
[48,"2010-02-24","CH",2024,"2010-02-24","Goia  ap. 35",494.09,null,null,null,494.09]
[49,"2010-02-24","CH",2025,"2010-02-24","Dodu  ap. 36",446.67,null,null,null,446.67]
[50,"2010-02-24","CH",2026,"2010-02-24","Drăghici  ap. 37",90.73,null,null,null,90.73]
[51,"2010-02-24","CH",2027,"2010-02-24","Néda  ap. 38",476.67,null,null,null,476.67]
[52,"2010-02-24","CH",2028,"2010-02-24","Vornicescu  ap. 39",150.16999999999999,null,null,null,150.16999999999999]
[53,"2010-02-24","CH",2029,"2010-02-24","Sparleanu  ap. 40",108.49,null,null,null,108.49]
[54,"2010-02-24","CH",2030,"2010-02-24","Raboca  ap. 41",542.48,null,null,null,542.48]
[55,"2010-02-24","CH",2031,"2010-02-24","Negru  ap. 42",120.19,null,null,null,120.19]
[56,"2010-02-24","CH",2032,"2010-02-24","Roşescu  ap. 43",142.05000000000001,null,null,null,142.05000000000001]
[57,"2010-02-24","CH",2033,"2010-02-24","Ursu  ap. 44",108.44,null,null,null,108.44]
[58,"2010-02-24","CH",2034,"2010-02-24","Săcui  ap. 45",107.27,null,null,null,107.27]
[59,"2010-02-24","CH",2035,"2010-02-24","Mărinceanu  ap. 46",426.45,null,null,null,426.45]
[60,"2010-02-24","CH",2036,"2010-02-24","Ricean  ap. 47",68.37,null,null,null,68.37]
[61,"2010-02-24","CH",2037,"2010-02-24","Sabo  ap. 48",203.76,null,null,null,203.76]
[62,"2010-02-24","CH",2038,"2010-02-24","Câmpan  ap. 49",446.59,null,null,null,446.59]
[63,"2010-02-24","CH",2040,"2010-02-24","Ciubotariu  ap. 51",397.01,null,null,null,397.01]
[64,"2010-02-24","CH",2041,"2010-02-24","Cristea  ap. 52",404.57,null,null,null,404.57]
[65,"2010-02-24","CH",2042,{"$f":"B174","v":"2010-02-24"},"Stănescu  ap. 53",418.37,null,null,null,{"$f":"G174+H174+I174+J174","v":418.37}]
[{"$f":"A174+1","v":66},"2010-02-24","CH",2043,"2010-02-24","Dejeu  ap. 54",476.27,null,null,null,476.27]
[67,"2010-02-24","CH",2044,"2010-02-24","Feşnic  ap. 55",605.87,null,null,null,605.87]
[68,"2010-02-24","CH",2046,"2010-02-24","Baras A  ap. 57",296.81,null,null,null,296.81]
[69,"2010-02-24","CH",2047,"2010-02-24","Fărcaş N  ap. 58",41.26,null,null,null,41.26]
[70,"2010-02-24","CH",2048,"2010-02-24","Bagaméri  ap. 59",294.01,null,null,null,294.01]
[71,"2010-02-24","CH",2049,"2010-02-24","Cristovici  ap. 60",47.85,null,null,null,47.85]
[72,"2010-02-24","CH",2050,"2010-02-24","Trifoiu  ap. 61",88.33,null,null,null,88.33]
[73,"2010-02-24","CH",2051,"2010-02-24","Fabian   ap. 62",77.489999999999995,null,null,null,77.489999999999995]
[74,"2010-02-24","CH",2052,"2010-02-24","Fărăgău  ap. 63",76.81,null,null,null,76.81]
[75,"2010-02-24","CH",2053,"2010-02-24","Rus  ap. 64",354.34,null,null,null,354.34]
[76,"2010-02-24","CH",2054,"2010-02-24","Pop   ap. 65",135.41,null,null,null,135.41]
[77,"2010-02-24","CH",2055,"2010-02-24","Bejan  ap. 66",72.91,null,null,null,72.91]
[78,"2010-02-24","CH",2056,"2010-02-24","Moga  ap. 67",21.81,null,null,null,21.81]
[79,"2010-02-24","CH",2057,"2010-02-24","Legian  ap. 68",163.24,null,null,null,163.24]
[80,"2010-02-24","CH",2058,"2010-02-24","Mocanu  ap. 69",126.93,null,null,null,126.93]
[81,"2010-02-24","CH",2059,"2010-02-24","Pop C.  ap. 70",126.75,null,null,null,126.75]
[82,"2010-02-27","BF",2251,"2010-02-27","Detergent",null,19.52,null,null,19.52]
[83,"2010-02-28","EX",2,"2010-02-28","Dobanda",null,null,0.09,null,0.09]
[null,null,null,null,null,null,{"$f":"SUM(G110:G192)","v":14395.150000000001},{"$f":"SUM(H110:H192)","v":14578.8},{"$f":"SUM(I110:I192)","v":196.44},null,{"$f":"SUM(K109:K192)","v":59615.46}]
[null,null,null,null,null,"De reportat",{"$f":"K193","v":59615.46}]
[]
[null,"Intocmit"]
[]
[]
[]
[null,null,null,null,null,"Report",null,null,null,null,{"$f":"G194","v":59615.46}]
[1,"2010-03-01","SP",null,{"$f":"B201","v":"2010-03-01"},"Stat de plata feb",null,785,null,null,{"$f":"G201+H201+I201+J201","v":785}]
[{"$f":"A201+1","v":2},"2010-03-02","CH",144,"2010-03-02","Tudoran ap 50 CH",400,null,null,null,400]
[3,"2010-03-02","CH",1105601,"2010-03-02","Salubritate",null,779.34,null,null,779.34]
[4,"2010-03-04","BF",3547,"2010-03-04","Furca",null,9.99,null,null,9.99]
[5,"2010-03-09","CH",146,"2010-03-09","Stanescu ap 53 FREP",121.23,null,null,null,121.23]
[6,"2010-03-12","DP",1,"2010-03-12","Hriscan Victor  curatat spatiu verde",null,50,null,null,50]
[7,"2010-03-15","CH",6501,"2010-03-15","Electrica sc 1",null,15.09,null,null,15.09]
[8,"2010-03-15","CH",6601,"2010-03-15","Electrica sc 2",null,11.45,null,null,11.45]
[9,"2010-03-15","CH",6701,"2010-03-15","Electrica sc 3",null,21.42,null,null,21.42]
[10,"2010-03-15","CH",9701,"2010-03-15","Electrica sc 4",null,3.9,null,null,3.9]
[11,"2010-03-15","CH",9801,"2010-03-15","Electrica sc 5",null,10.93,null,null,10.93]
[12,"2010-03-15","CH",9901,"2010-03-15","Electrica sc 6",null,5.72,null,null,5.72]
[13,"2010-03-19","CH",1334409,"2010-03-19","Apa canal",null,2170.46,null,null,2170.46]
[14,"2010-03-20","DP",1,"2010-03-20","Hriscan Victor  curatat spatiu verde",null,60,null,null,60]
[15,"2010-03-20","CH",264,"2010-03-20","Detergent",null,5.28,null,null,5.28]
[16,"2010-03-22","CH",147,"2010-03-22","Fonoage ap 56 CH",568.05999999999995,null,null,null,568.05999999999995]
[17,"2010-03-22","CH",148,"2010-03-22","Kallai ap 21 FREP",31.23,null,null,null,31.23]
[18,"2010-03-22","CH",149,"2010-03-22","Baras ap 57 FREP",114.28,null,null,null,114.28]
[19,"2010-03-22","CH",150,"2010-03-22","Lazar ap 15 FREP",64.28,null,null,null,64.28]
[20,"2010-03-22","CH",252,"2010-03-22","Garbou ap 4 FRUL",10,null,null,null,10]
[21,"2010-03-22","CH",253,"2010-03-22","Garbou ap 4 FREP",128.55000000000001,null,null,null,128.55000000000001]
[22,"2010-03-22","CH",254,"2010-03-22","Dodu ap 36 FREP",30,null,null,null,30]
[23,"2010-03-22","CH",243,"2010-03-22","Intrerupator",null,10.58,null,null,10.58]
[24,"2010-03-23","CH",255,"2010-03-23","Crisan ap 14 FREP",34.200000000000003,null,null,null,34.200000000000003]
[25,"2010-03-23","CH",256,"2010-03-23","Crisan ap 14 FRUL",25,null,null,null,25]
[26,"2010-03-23","CH",100323,"2010-03-23","Termoficare",null,7931.09,null,null,7931.09]
[27,"2010-03-23","DEP",3311,"2010-03-23","Depunere numerar",null,6000,null,null,6000]
[28,"2010-03-23","CH",99308,"2010-03-23","Gaz",null,300,null,null,300]
[29,"2010-03-23","EX",3,"2010-03-23","Depunere numerar",null,null,6000,null,6000]
[30,"2010-03-24","CH",257,"2010-03-24","Ibbison ap 20 CH",49.04,null,null,null,49.04]
[31,"2010-03-24","CH",258,"2010-03-24","Fabian ap 62 FREP",114.28,null,null,null,114.28]
[32,"2010-03-24","CH",2062,"2010-03-24","Tunyogi  ap. 3",279.14999999999998,null,null,null,279.14999999999998]
[33,"2010-03-24","CH",2063,"2010-03-24","Garbou  ap. 4",17.38,null,null,null,17.38]
[34,"2010-03-24","CH",2064,"2010-03-24","Szép  ap. 5",435.45,null,null,null,435.45]
[35,"2010-03-24","CH",2065,"2010-03-24","Bara  ap. 6",299.37,null,null,null,299.37]
[36,"2010-03-24","CH",2066,"2010-03-24","Colceriu  ap. 7",176.8,null,null,null,176.8]
[37,"2010-03-24","CH",2067,"2010-03-24","Gabor  ap. 8",33.01,null,null,null,33.01]
[38,"2010-03-24","CH",2069,"2010-03-24","Micşunescu  ap. 10",40.93,null,null,null,40.93]
[39,"2010-03-24","CH",2070,"2010-03-24","Jugrestan  ap. 11",29.03,null,null,null,29.03]
[40,"2010-03-24","CH",2071,"2010-03-24","Tárkányi  ap. 12",343.32,null,null,null,343.32]
[41,"2010-03-24","CH",2072,"2010-03-24","Nebert  ap. 13",36.950000000000003,null,null,null,36.950000000000003]
[42,"2010-03-24","CH",2073,"2010-03-24","Crişan  ap. 14",56.19,null,null,null,56.19]
[43,"2010-03-24","CH",2074,"2010-03-24","Lazăr  ap. 15",54.2,null,null,null,54.2]
[44,"2010-03-24","CH",2075,"2010-03-24","Vescan  ap. 16",38.64,null,null,null,38.64]
[45,"2010-03-24","CH",2076,"2010-03-24","Mihăescu  ap. 17",339.1,null,null,null,339.1]
[46,"2010-03-24","CH",2077,"2010-03-24","Pop T  ap. 18",77.84,null,null,null,77.84]
[47,"2010-03-24","CH",2078,"2010-03-24","Mureşan I  ap. 19",79.5,null,null,null,79.5]
[48,"2010-03-24","CH",2079,"2010-03-24","Ibbison  ap. 20",53.96,null,null,null,53.96]
[49,"2010-03-24","CH",2080,"2010-03-24","Kállai  ap. 21",75.69,null,null,null,75.69]
[50,"2010-03-24","CH",2081,"2010-03-24","Indolean  ap. 22",69.88,null,null,null,69.88]
[51,"2010-03-24","CH",2082,"2010-03-24","Mureşan E  ap. 23",50.89,null,null,null,50.89]
[52,"2010-03-24","CH",2083,"2010-03-24","Stanimir  ap. 23A",66.92,null,null,null,66.92]
[53,"2010-03-24","CH",2084,"2010-03-24","Cheţan  ap. 24",84.96,null,null,null,84.96]
[54,"2010-03-24","CH",2085,"2010-03-24","Călin  ap. 25",67.73,null,null,null,67.73]
[55,"2010-03-24","CH",2086,"2010-03-24","Turcu  ap. 26",255.56,null,null,null,255.56]
[56,"2010-03-24","CH",2087,"2010-03-24","Creţeanu  ap. 27",92.72,null,null,null,92.72]
[57,"2010-03-24","CH",2088,"2010-03-24","Zegreanu  ap. 28",312.3,null,null,null,312.3]
[58,"2010-03-24","CH",2089,"2010-03-24","Şerban  ap. 29",350.26,null,null,null,350.26]
[59,"2010-03-24","CH",2090,"2010-03-24","Mihăescu  ap. 30",322.49,null,null,null,322.49]
[60,"2010-03-24","CH",2091,"2010-03-24","Pop R  ap. 31",319.36,null,null,null,319.36]
[61,"2010-03-24","CH",2092,"2010-03-24","Lungu  ap. 32",72.78,null,null,null,72.78]
[62,"2010-03-24","CH",2093,"2010-03-24","Mihuţ  ap. 33",365.71,null,null,null,365.71]
[63,"2010-03-24","CH",2094,"2010-03-24","Postescu  ap. 34",68.8,null,null,null,68.8]
[64,"2010-03-24","CH",2095,"2010-03-24","Goia  ap. 35",361.73,null,null,null,361.73]
[65,"2010-03-24","CH",2096,{"$f":"B265","v":"2010-03-24"},"Dodu  ap. 36",319.33,null,null,null,{"$f":"G265+H265+I265+J265","v":319.33}]
[{"$f":"A265+1","v":66},"2010-03-24","CH",2097,"2010-03-24","Drăghici  ap. 37",62.41,null,null,null,62.41]
[67,"2010-03-24","CH",2098,"2010-03-24","Néda  ap. 38",334.31,null,null,null,334.31]
[68,"2010-03-24","CH",2099,"2010-03-24","Vornicescu  ap. 39",62.98,null,null,null,62.98]
[69,"2010-03-24","CH",2100,"2010-03-24","Sparleanu  ap. 40",49.18,null,null,null,49.18]
[70,"2010-03-24","CH",2101,"2010-03-24","Raboca  ap. 41",385.08,null,null,null,385.08]
[71,"2010-03-24","CH",2102,"2010-03-24","Negru  ap. 42",77.040000000000006,null,null,null,77.040000000000006]
[72,"2010-03-24","CH",2103,"2010-03-24","Roşescu  ap. 43",92.11,null,null,null,92.11]
[73,"2010-03-24","CH",2104,"2010-03-24","Ursu  ap. 44",57.1,null,null,null,57.1]
[74,"2010-03-24","CH",2105,"2010-03-24","Săcui  ap. 45",62.98,null,null,null,62.98]
[75,"2010-03-24","CH",2106,"2010-03-24","Mărinceanu  ap. 46",356.5,null,null,null,356.5]
[76,"2010-03-24","CH",2107,"2010-03-24","Ricean  ap. 47",55.22,null,null,null,55.22]
[77,"2010-03-24","CH",2108,"2010-03-24","Sabo  ap. 48",217.03,null,null,null,217.03]
[78,"2010-03-24","CH",2109,"2010-03-24","Câmpan  ap. 49",360.29,null,null,null,360.29]
[79,"2010-03-24","CH",2111,"2010-03-24","Ciubotariu  ap. 51",297.36,null,null,null,297.36]
[80,"2010-03-24","CH",2112,"2010-03-24","Cristea  ap. 52",345.27,null,null,null,345.27]
[81,"2010-03-24","CH",2113,"2010-03-24","Stănescu  ap. 53",342.06,null,null,null,342.06]
[82,"2010-03-24","CH",2114,"2010-03-24","Dejeu  ap. 54",347.06,null,null,null,347.06]
[83,"2010-03-24","CH",2115,"2010-03-24","Feşnic  ap. 55",512.79999999999995,null,null,null,512.79999999999995]
[84,"2010-03-24","CH",2117,"2010-03-24","Baras A  ap. 57",209.92,null,null,null,209.92]
[85,"2010-03-24","CH",2118,"2010-03-24","Fărcaş N  ap. 58",38.94,null,null,null,38.94]
[86,"2010-03-24","CH",2119,"2010-03-24","Bagaméri  ap. 59",237.67,null,null,null,237.67]
[87,"2010-03-24","CH",2120,"2010-03-24","Cristovici  ap. 60",44.74,null,null,null,44.74]
[88,"2010-03-24","CH",2121,"2010-03-24","Trifoiu  ap. 61",87.61,null,null,null,87.61]
[89,"2010-03-24","CH",2122,"2010-03-24","Fabian   ap. 62",77.58,null,null,null,77.58]
[90,"2010-03-24","CH",2123,"2010-03-24","Fărăgău  ap. 63",83.75,null,null,null,83.75]
[91,"2010-03-24","CH",2124,"2010-03-24","Rus  ap. 64",243.73,null,null,null,243.73]
[92,"2010-03-24","CH",2125,"2010-03-24","Pop   ap. 65",135.69,null,null,null,135.69]
[93,"2010-03-24","CH",2126,"2010-03-24","Bejan  ap. 66",71.81,null,null,null,71.81]
[94,"2010-03-24","CH",2127,"2010-03-24","Moga  ap. 67",52.58,null,null,null,52.58]
[95,"2010-03-24","CH",2128,"2010-03-24","Legian  ap. 68",191.18,null,null,null,191.18]
[96,"2010-03-24","CH",2129,"2010-03-24","Mocanu  ap. 69",121.96,null,null,null,121.96]
[97,"2010-03-24","CH",2130,"2010-03-24","Pop C.  ap. 70",117.86,null,null,null,117.86]
[98,"2010-03-31","CH",72,"2010-03-31","Aracet, var",null,7.5,null,null,7.5]
[99,"2010-03-31","EX",3,"2010-03-31","Dobanda",null,null,0.32,null,0.32]
[100,"2010-03-31","EX",3,"2010-03-31","Comision",null,null,null,5,5]
[null,null,null,null,null,null,{"$f":"SUM(G200:G300)","v":13069.880000000003},18177.75,6000.32,5,{"$f":"SUM(K200:K300)","v":96868.409999999989}]
[null,null,null,null,null,"De reportat",{"$f":"K301","v":96868.409999999989}]
[]
[null,"Intocmit"]
[]
[]
[null,null,null,null,null,"Report",null,null,null,null,{"$f":"G302","v":96868.409999999989}]
[1,"2010-04-01",null,null,{"$f":"B308","v":"2010-04-01"},"Stat de plata feb",null,785,null,null,{"$f":"G308+H308+I308+J308","v":785}]
[{"$f":"A308+1","v":2},"2010-04-02","BF",161,"2010-04-02","Var",null,7.5,null,null,7.5]
[3,"2010-04-02","BF",7,"2010-04-02","Flori",null,60,null,null,60]
[4,"2010-04-08","CH",259,"2010-04-08","Turcu ap 26 FRUL",371,null,null,null,371]
[5,"2010-04-10","BF",234,"2010-04-10","Polistiren , mop",null,12.29,null,null,12.29]
[6,"2010-04-12","BF",30,"2010-04-12","Diluant",null,3.99,null,null,3.99]
[7,"2010-04-12","CH",1128472,"2010-04-12","Salubritate",null,780.76,null,null,780.76]
[8,"2010-04-13","DEP",7444,"2010-04-13","Trezorerie Impozit",null,447,null,null,447]
[9,"2010-04-16","CH",1028,"2010-04-16","Electrica sc 1",null,17.7,null,null,17.7]
[10,"2010-04-16","CH",1031,"2010-04-16","Electrica sc 2",null,13.02,null,null,13.02]
[11,"2010-04-16","CH",1030,"2010-04-16","Electrica sc 3",null,27.58,null,null,27.58]
[12,"2010-04-16","CH",1027,"2010-04-16","Electrica sc 4",null,9.89,null,null,9.89]
[13,"2010-04-16","CH",1026,"2010-04-16","Electrica sc 5",null,12.48,null,null,12.48]
[14,"2010-04-16","CH",1029,"2010-04-16","Electrica sc 6",null,7.28,null,null,7.28]
[15,"2010-04-21","CH",903,"2010-04-21","Interfon sc 1",null,1870,null,null,1870]
[16,"2010-04-21","CH",3012,"2010-04-21","Gaz",null,197,null,null,197]
[17,"2010-04-21","CH",260,"2010-04-21","Lapustea ap 1 CH",15.64,null,null,null,15.64]
[18,"2010-04-21","CH",261,"2010-04-21","Tudoran ap 50 CH",360,null,null,null,360]
[19,"2010-04-22","CH",1476222,"2010-04-22","Apa canal",null,2226.12,null,null,2226.12]
[20,"2010-04-22","CH",2131,"2010-04-22","Lăpuştea  ap. 1",51.37,null,null,null,51.37]
[21,"2010-04-22","CH",2133,"2010-04-22","Tunyogi  ap. 3",234.36,null,null,null,234.36]
[22,"2010-04-22","CH",2134,"2010-04-22","Garbou  ap. 4",32.700000000000003,null,null,null,32.700000000000003]
[23,"2010-04-22","CH",2135,"2010-04-22","Szép  ap. 5",436.99,null,null,null,436.99]
[24,"2010-04-22","CH",2136,"2010-04-22","Bara  ap. 6",250.9,null,null,null,250.9]
[25,"2010-04-22","CH",2137,"2010-04-22","Colceriu  ap. 7",215.04,null,null,null,215.04]
[26,"2010-04-22","CH",2138,"2010-04-22","Gabor  ap. 8",24.78,null,null,null,24.78]
[27,"2010-04-22","CH",2140,"2010-04-22","Micşunescu  ap. 10",40.659999999999997,null,null,null,40.659999999999997]
[28,"2010-04-22","CH",2141,"2010-04-22","Jugrestan  ap. 11",28.76,null,null,null,28.76]
[29,"2010-04-22","CH",2142,"2010-04-22","Tárkányi  ap. 12",296.3,null,null,null,296.3]
[30,"2010-04-22","CH",2143,"2010-04-22","Nebert  ap. 13",36.68,null,null,null,36.68]
[31,"2010-04-22","CH",2144,"2010-04-22","Crişan  ap. 14",56.8,null,null,null,56.8]
[32,"2010-04-22","CH",2145,"2010-04-22","Lazăr  ap. 15",47.08,null,null,null,47.08]
[33,"2010-04-22","CH",2146,"2010-04-22","Vescan  ap. 16",78.3,null,null,null,78.3]
[34,"2010-04-22","CH",2147,"2010-04-22","Mihăescu  ap. 17",295.68,null,null,null,295.68]
[35,"2010-04-22","CH",2148,"2010-04-22","Pop T  ap. 18",86.93,null,null,null,86.93]
[36,"2010-04-22","CH",2149,"2010-04-22","Mureşan I  ap. 19",76.45,null,null,null,76.45]
[37,"2010-04-22","CH",2151,"2010-04-22","Kállai  ap. 21",68.63,null,null,null,68.63]
[38,"2010-04-22","CH",2152,"2010-04-22","Indolean  ap. 22",63.05,null,null,null,63.05]
[39,"2010-04-22","CH",2154,"2010-04-22","Stanimir  ap. 23A",92.11,null,null,null,92.11]
[40,"2010-04-22","CH",2155,"2010-04-22","Cheţan  ap. 24",67.489999999999995,null,null,null,67.489999999999995]
[41,"2010-04-22","CH",2156,"2010-04-22","Călin  ap. 25",64.650000000000006,null,null,null,64.650000000000006]
[42,"2010-04-22","CH",2157,"2010-04-22","Turcu  ap. 26",221.3,null,null,null,221.3]
[43,"2010-04-22","CH",2158,"2010-04-22","Creţeanu  ap. 27",80.459999999999994,null,null,null,80.459999999999994]
[44,"2010-04-22","CH",2159,"2010-04-22","Zegreanu  ap. 28",251.06,null,null,null,251.06]
[45,"2010-04-22","CH",2160,"2010-04-22","Şerban  ap. 29",318.85000000000002,null,null,null,318.85000000000002]
[46,"2010-04-22","CH",2161,"2010-04-22","Mihăescu  ap. 30",308.93,null,null,null,308.93]
[47,"2010-04-22","CH",2162,"2010-04-22","Pop R  ap. 31",280.20999999999998,null,null,null,280.20999999999998]
[48,"2010-04-22","CH",2163,"2010-04-22","Lungu  ap. 32",56.54,null,null,null,56.54]
[49,"2010-04-22","CH",2164,"2010-04-22","Mihuţ  ap. 33",338.61,null,null,null,338.61]
[50,"2010-04-22","CH",2165,"2010-04-22","Postescu  ap. 34",68.48,null,null,null,68.48]
[51,"2010-04-22","CH",2166,"2010-04-22","Goia  ap. 35",326.74,null,null,null,326.74]
[52,"2010-04-22","CH",2167,"2010-04-22","Dodu  ap. 36",283.33,null,null,null,283.33]
[53,"2010-04-22","CH",2168,"2010-04-22","Drăghici  ap. 37",46.43,null,null,null,46.43]
[54,"2010-04-22","CH",2169,"2010-04-22","Néda  ap. 38",330.88,null,null,null,330.88]
[55,"2010-04-22","CH",2170,"2010-04-22","Vornicescu  ap. 39",96.05,null,null,null,96.05]
[56,"2010-04-22","CH",2171,"2010-04-22","Sparleanu  ap. 40",17.48,null,null,null,17.48]
[57,"2010-04-22","CH",2172,"2010-04-22","Raboca  ap. 41",344.91,null,null,null,344.91]
[58,"2010-04-22","CH",2173,"2010-04-22","Negru  ap. 42",74.510000000000005,null,null,null,74.510000000000005]
[59,"2010-04-22","CH",2175,"2010-04-22","Ursu  ap. 44",54.58,null,null,null,54.58]
[60,"2010-04-22","CH",2176,"2010-04-22","Săcui  ap. 45",64.209999999999994,null,null,null,64.209999999999994]
[61,"2010-04-22","CH",2177,"2010-04-22","Mărinceanu  ap. 46",344.24,null,null,null,344.24]
[62,"2010-04-22","CH",2178,"2010-04-22","Ricean  ap. 47",54.99,null,null,null,54.99]
[63,"2010-04-22","CH",2179,"2010-04-22","Sabo  ap. 48",234.9,null,null,null,234.9]
[64,"2010-04-22","CH",2180,"2010-04-22","Câmpan  ap. 49",337.99,null,null,null,337.99]
[65,"2010-04-22","CH",2182,{"$f":"B372","v":"2010-04-22"},"Ciubotariu  ap. 51",220.61,null,null,null,{"$f":"G372+H372+I372+J372","v":220.61}]
[{"$f":"A372+1","v":66},"2010-04-22","CH",2183,"2010-04-22","Cristea  ap. 52",285.02999999999997,null,null,null,285.02999999999997]
[67,"2010-04-22","CH",2184,"2010-04-22","Stănescu  ap. 53",292.45999999999998,null,null,null,292.45999999999998]
[68,"2010-04-22","CH",2185,"2010-04-22","Dejeu  ap. 54",306.42,null,null,null,306.42]
[69,"2010-04-22","CH",2186,"2010-04-22","Feşnic  ap. 55",490.51,null,null,null,490.51]
[70,"2010-04-22","CH",2188,"2010-04-22","Baras A  ap. 57",212.26,null,null,null,212.26]
[71,"2010-04-22","CH",2189,"2010-04-22","Fărcaş N  ap. 58",34.93,null,null,null,34.93]
[72,"2010-04-22","CH",2190,"2010-04-22","Bagaméri  ap. 59",208.99,null,null,null,208.99]
[73,"2010-04-22","CH",2191,"2010-04-22","Cristovici  ap. 60",40.53,null,null,null,40.53]
[74,"2010-04-22","CH",2192,"2010-04-22","Trifoiu  ap. 61",84.44,null,null,null,84.44]
[75,"2010-04-22","CH",2193,"2010-04-22","Fabian   ap. 62",58.62,null,null,null,58.62]
[76,"2010-04-22","CH",2194,"2010-04-22","Fărăgău  ap. 63",80.45,null,null,null,80.45]
[77,"2010-04-22","CH",2195,"2010-04-22","Rus  ap. 64",266.43,null,null,null,266.43]
[78,"2010-04-22","CH",2196,"2010-04-22","Pop   ap. 65",134.49,null,null,null,134.49]
[79,"2010-04-22","CH",2197,"2010-04-22","Bejan  ap. 66",64.53,null,null,null,64.53]
[80,"2010-04-22","CH",2198,"2010-04-22","Moga  ap. 67",56.46,null,null,null,56.46]
[81,"2010-04-22","CH",2199,"2010-04-22","Legian  ap. 68",162.22999999999999,null,null,null,162.22999999999999]
[82,"2010-04-22","CH",2200,"2010-04-22","Mocanu  ap. 69",112.54,null,null,null,112.54]
[83,"2010-04-22","CH",2201,"2010-04-22","Pop C.  ap. 70",108.45,null,null,null,108.45]
[84,"2010-04-23","CH",423,"2010-04-23","Termoficare",null,7091.14,null,null,7091.14]
[85,"2010-04-26","CH",38,"2010-04-26","Deratizare",null,620,null,null,620]
[86,"2010-04-28","CH",90198,"2010-04-28","Gaz",null,625,null,null,625]
[87,"2010-04-30","EX",4,"2010-04-30","Dobanda",null,null,0.2,null,0.2]
[88,"2010-04-30","EX",4,"2010-04-30","Comision",null,null,null,5,5]
[null,null,null,null,null,null,{"$f":"SUM(G307:G395)","v":11148.410000000002},14813.75,0.2,5,{"$f":"SUM(K307:K395)","v":122835.76999999995}]
[null,null,null,null,null,"De reportat",{"$f":"K396","v":122835.76999999995}]
[]
[null,"Intocmit"]
[]
[]
[]
[null,null,null,null,null,"Report",null,null,null,null,{"$f":"G397","v":122835.76999999995}]
[1,"2010-05-01",null,null,{"$f":"B404","v":"2010-05-01"},"Stat de plata feb",null,785,null,null,{"$f":"G404+H404+I404+J404","v":785}]
[{"$f":"A404+1","v":2},"2010-05-01","BF",20650,"2010-05-01","Ingrasamant",null,13.85,null,null,13.85]
[3,"2010-05-02","CH",1148498,"2010-05-02","Salubritate",null,853.42,null,null,853.42]
[4,"2010-05-07","DP",1,"2010-05-07","Taiat gard viu POP Alexandru",null,290,null,null,290]
[5,"2010-05-08","BF",2781,"2010-05-08","Detergent",null,23.08,null,null,23.08]
[6,"2010-05-08","CH",262,"2010-05-08","Bugnar ap 2 CH",105.48,null,null,null,105.48]
[7,"2010-05-09","CH",263,"2010-05-09","Neamt ap 9 CH",15.23,null,null,null,15.23]
[8,"2010-05-10","CH",264,"2010-05-10","Neamt ap 9 CH",103.08,null,null,null,103.08]
[9,"2010-05-15","BF",26,"2010-05-15","Matura",null,11,null,null,11]
[10,"2010-05-16","CH",265,"2010-05-16","Fonoage ap 56 CH",383.26,null,null,null,383.26]
[11,"2010-05-18","CH",1287,"2010-05-18","Electrica sc 1",null,3.13,null,null,3.13]
[12,"2010-05-18","CH",1285,"2010-05-18","Electrica sc 2",null,0.51,null,null,0.51]
[13,"2010-05-18","CH",1284,"2010-05-18","Electrica sc 4",null,0.51,null,null,0.51]
[14,"2010-05-18","CH",1283,"2010-05-18","Electrica sc 5",null,18.22,null,null,18.22]
[15,"2010-05-18","CH",1286,"2010-05-18","Electrica sc 6",null,9.39,null,null,9.39]
[16,"2010-05-19","CH",266,"2010-05-19","Tudoran ap 50 CH",1155.22,null,null,null,1155.22]
[17,"2010-05-20","BF",3,"2010-05-20","Reparatii motocositoare",null,100.92,null,null,100.92]
[18,"2010-05-21","CH",3012,"2010-05-21","Gaz",null,288,null,null,288]
[19,"2010-05-21",null,null,"2010-05-21","Piata",null,4.3,null,null,4.3]
[20,"2010-05-21","BF",2781,"2010-05-21","Benzina",null,10,null,null,10]
[21,"2010-05-21","CH",267,"2010-05-21","Rosescu ap 43 CH",53.06,null,null,null,53.06]
[22,"2010-05-25","CH",1489366,"2010-05-25","Apa canal",null,2448.7199999999998,null,null,2448.7199999999998]
[23,"2010-05-25","CH",268,"2010-05-25","Muresan ap 23 CH",53.06,null,null,null,53.06]
[24,"2010-05-26","CH",2202,"2010-05-26","Lăpuştea  ap. 1",69.47,null,null,null,69.47]
[25,"2010-05-26","CH",2204,"2010-05-26","Tunyogi  ap. 3",203.68,null,null,null,203.68]
[26,"2010-05-26","CH",2205,"2010-05-26","Garbou  ap. 4",60.48,null,null,null,60.48]
[27,"2010-05-26","CH",2206,"2010-05-26","Szép  ap. 5",350.35,null,null,null,350.35]
[28,"2010-05-26","CH",2207,"2010-05-26","Bara  ap. 6",224.04,null,null,null,224.04]
[29,"2010-05-26","CH",2208,"2010-05-26","Colceriu  ap. 7",188.35,null,null,null,188.35]
[30,"2010-05-26","CH",2209,"2010-05-26","Gabor  ap. 8",32.630000000000003,null,null,null,32.630000000000003]
[31,"2010-05-26","CH",2211,"2010-05-26","Micşunescu  ap. 10",48.44,null,null,null,48.44]
[32,"2010-05-26","CH",2212,"2010-05-26","Jugrestan  ap. 11",56.61,null,null,null,56.61]
[33,"2010-05-26","CH",2213,"2010-05-26","Tárkányi  ap. 12",237.35,null,null,null,237.35]
[34,"2010-05-26","CH",2214,"2010-05-26","Nebert  ap. 13",40.479999999999997,null,null,null,40.479999999999997]
[35,"2010-05-26","CH",2215,"2010-05-26","Crişan  ap. 14",55.26,null,null,null,55.26]
[36,"2010-05-26","CH",2216,"2010-05-26","Lazăr  ap. 15",57.08,null,null,null,57.08]
[37,"2010-05-26","CH",2217,"2010-05-26","Vescan  ap. 16",217.35,null,null,null,217.35]
[38,"2010-05-26","CH",2218,"2010-05-26","Mihăescu  ap. 17",304.8,null,null,null,304.8]
[39,"2010-05-26","CH",2219,"2010-05-26","Pop Florin  ap. 18",144.06,null,null,null,144.06]
[40,"2010-05-26","CH",2220,"2010-05-26","Mureşan I  ap. 19",133.65,null,null,null,133.65]
[41,"2010-05-26","CH",2221,"2010-05-26","Ibbison  ap. 20",120.18,null,null,null,120.18]
[42,"2010-05-26","CH",2222,"2010-05-26","Kállai  ap. 21",137.78,null,null,null,137.78]
[43,"2010-05-26","CH",2223,"2010-05-26","Indolean  ap. 22",124.16,null,null,null,124.16]
[44,"2010-05-26","CH",2225,"2010-05-26","Stanimir  ap. 23A",148.83000000000001,null,null,null,148.83000000000001]
[45,"2010-05-26","CH",2226,"2010-05-26","Cheţan  ap. 24",158.86000000000001,null,null,null,158.86000000000001]
[46,"2010-05-26","CH",2227,"2010-05-26","Călin  ap. 25",129.82,null,null,null,129.82]
[47,"2010-05-26","CH",2228,"2010-05-26","Turcu  ap. 26",142.63,null,null,null,142.63]
[48,"2010-05-26","CH",2229,"2010-05-26","Creţeanu  ap. 27",82.37,null,null,null,82.37]
[49,"2010-05-26","CH",2230,"2010-05-26","Zegreanu  ap. 28",187.12,null,null,null,187.12]
[50,"2010-05-26","CH",2231,"2010-05-26","Şerban  ap. 29",187.18,null,null,null,187.18]
[51,"2010-05-26","CH",2232,"2010-05-26","Mihăescu  ap. 30",197.41,null,null,null,197.41]
[52,"2010-05-26","CH",2233,"2010-05-26","Pop R  ap. 31",167.31,null,null,null,167.31]
[53,"2010-05-26","CH",2234,"2010-05-26","Lungu  ap. 32",82.26,null,null,null,82.26]
[54,"2010-05-26","CH",2235,"2010-05-26","Mihuţ  ap. 33",217.92,null,null,null,217.92]
[55,"2010-05-26","CH",2236,"2010-05-26","Postescu  ap. 34",62.36,null,null,null,62.36]
[56,"2010-05-26","CH",2237,"2010-05-26","Goia  ap. 35",225.33,null,null,null,225.33]
[57,"2010-05-26","CH",2238,"2010-05-26","Dodu  ap. 36",203.86,null,null,null,203.86]
[58,"2010-05-26","CH",2239,"2010-05-26","Drăghici  ap. 37",88,null,null,null,88]
[59,"2010-05-26","CH",2240,"2010-05-26","Néda  ap. 38",237.38,null,null,null,237.38]
[60,"2010-05-26","CH",2241,"2010-05-26","Vornicescu  ap. 39",105.75,null,null,null,105.75]
[61,"2010-05-26","CH",2242,"2010-05-26","Sparleanu  ap. 40",17.78,null,null,null,17.78]
[62,"2010-05-26","CH",2243,"2010-05-26","Raboca  ap. 41",282.67,null,null,null,282.67]
[63,"2010-05-26","CH",2244,"2010-05-26","Negru  ap. 42",80.069999999999993,null,null,null,80.069999999999993]
[64,"2010-05-26","CH",2245,"2010-05-26","Roşescu  ap. 43",103.3,null,null,null,103.3]
[65,"2010-05-26","CH",2246,{"$f":"B468","v":"2010-05-26"},"Ursu  ap. 44",60.16,null,null,null,{"$f":"G468+H468+I468+J468","v":60.16}]
[{"$f":"A468+1","v":66},"2010-05-26","CH",2247,"2010-05-26","Săcui  ap. 45",57.89,null,null,null,57.89]
[67,"2010-05-26","CH",2248,"2010-05-26","Mărinceanu  ap. 46",252.97,null,null,null,252.97]
[68,"2010-05-26","CH",2249,"2010-05-26","Ricean  ap. 47",60.22,null,null,null,60.22]
[69,"2010-05-26","CH",2250,"2010-05-26","Sabo  ap. 48",215.26,null,null,null,215.26]
[70,"2010-05-26","CH",2251,"2010-05-26","Câmpan  ap. 49",241.21,null,null,null,241.21]
[71,"2010-05-26","CH",2253,"2010-05-26","Ciubotariu  ap. 51",159.61000000000001,null,null,null,159.61000000000001]
[72,"2010-05-26","CH",2254,"2010-05-26","Cristea  ap. 52",226.3,null,null,null,226.3]
[73,"2010-05-26","CH",2255,"2010-05-26","Stănescu  ap. 53",195.05,null,null,null,195.05]
[74,"2010-05-26","CH",2256,"2010-05-26","Dejeu  ap. 54",285.45,null,null,null,285.45]
[75,"2010-05-26","CH",2257,"2010-05-26","Feşnic  ap. 55",403.64,null,null,null,403.64]
[76,"2010-05-26","CH",2259,"2010-05-26","Baras A  ap. 57",147.12,null,null,null,147.12]
[77,"2010-05-26","CH",2260,"2010-05-26","Fărcaş N  ap. 58",42.45,null,null,null,42.45]
[78,"2010-05-26","CH",2261,"2010-05-26","Bagaméri  ap. 59",159.38999999999999,null,null,null,159.38999999999999]
[79,"2010-05-26","CH",2262,"2010-05-26","Cristovici  ap. 60",28.42,null,null,null,28.42]
[80,"2010-05-26","CH",2263,"2010-05-26","Trifoiu  ap. 61",111.6,null,null,null,111.6]
[81,"2010-05-26","CH",2264,"2010-05-26","Fabian   ap. 62",60.58,null,null,null,60.58]
[82,"2010-05-26","CH",2265,"2010-05-26","Fărăgău  ap. 63",78.739999999999995,null,null,null,78.739999999999995]
[83,"2010-05-26","CH",2267,"2010-05-26","Pop   ap. 65",141.43,null,null,null,141.43]
[84,"2010-05-26","CH",2268,"2010-05-26","Bejan  ap. 66",78.739999999999995,null,null,null,78.739999999999995]
[85,"2010-05-26","CH",2269,"2010-05-26","Moga  ap. 67",58.71,null,null,null,58.71]
[86,"2010-05-26","CH",2270,"2010-05-26","Legian  ap. 68",227.86,null,null,null,227.86]
[87,"2010-05-26","CH",2271,"2010-05-26","Mocanu  ap. 69",123.67,null,null,null,123.67]
[88,"2010-05-26","CH",2272,"2010-05-26","Pop C.  ap. 70",115.58,null,null,null,115.58]
[89,"2010-05-27","CH",100527,"2010-05-27","Termoficare",null,3979,null,null,3979]
[90,"2010-05-28","BF",1951,"2010-05-28","Fir motocositoare",null,8.91,null,null,8.91]
[91,"2010-05-28","BF",2781,"2010-05-28","Benzina",null,10,null,null,10]
[92,"2010-05-28","CH",269,"2010-05-28","Ibbison ap 20 CH",59.07,null,null,null,59.07]
[93,"2010-05-31","CH",1337,"2010-05-31","Recomandata",null,2.4,null,null,2.4]
[94,"2010-05-31","BF",243,"2010-05-31","Silicon",null,23.89,null,null,23.89]
[95,"2010-05-31","CH",270,"2010-05-31","Rosescu ap 43 CH",31.3,null,null,null,31.3]
[96,"2010-05-31","EX",5,"2010-05-31","Dobanda",null,null,null,0.04,0.04]
[null,null,null,null,null,null,{"$f":"SUM(G403:G499)","v":11405.219999999998},8884.2499999999982,0,0.04,{"$f":"SUM(K403:K499)","v":143125.27999999988}]
[null,null,null,null,null,"De reportat",{"$f":"K500","v":143125.27999999988}]
[]
[null,"Intocmit"]
[]
[]
[]
[null,null,null,null,null,"Report",null,null,null,null,{"$f":"G501","v":143125.27999999988}]
[1,"2010-06-01",null,null,{"$f":"B508","v":"2010-06-01"},"Stat de plata ",null,785,null,null,{"$f":"G508+H508+I508+J508","v":785}]
[{"$f":"A508+1","v":2},"2010-06-01","CH",1168477,"2010-06-01","Salubritate",null,853.42,null,null,853.42]
[3,"2010-06-10","CH",271,"2010-06-10","Neamt ap 9 CH",127.63,null,null,null,127.63]
[4,"2010-06-15","CH",272,"2010-06-15","Rus ap 64 CH",238.52,null,null,null,238.52]
[5,"2010-06-15","EX",null,"2010-06-15","Dobanda",null,null,253.63,null,253.63]
[6,"2010-06-16","CH",1316,"2010-06-16","Electrica sc 1",null,16.12,null,null,16.12]
[7,"2010-06-16","CH",1312,"2010-06-16","Electrica sc 2",null,11.97,null,null,11.97]
[8,"2010-06-16","CH",1313,"2010-06-16","Electrica sc 3",null,5.72,null,null,5.72]
[9,"2010-06-16","CH",1314,"2010-06-16","Electrica sc 4",null,8.84,null,null,8.84]
[10,"2010-06-16","CH",1311,"2010-06-16","Electrica sc 5",null,11.45,null,null,11.45]
[11,"2010-06-16","CH",1315,"2010-06-16","Electrica sc 6",null,6.77,null,null,6.77]
[12,"2010-06-16","BF",399,"2010-06-16","Hartie",null,10.99,null,null,10.99]
[13,"2010-06-17","BF",168,"2010-06-17","Benzina",null,10,null,null,10]
[14,"2010-06-21","CH",273,"2010-06-21","Bugnar ap 2 CH",42.34,null,null,null,42.34]
[15,"2010-06-23","CH",274,"2010-06-23","Muresan ap 23 CH",114.36,null,null,null,114.36]
[16,"2010-06-23","CH",91852,"2010-06-23","Gaz",null,242,null,null,242]
[17,"2010-06-23","CH",2274,"2010-06-23","Bugnar  ap. 2",29.27,null,null,null,29.27]
[18,"2010-06-23","CH",2275,"2010-06-23","Tunyogi  ap. 3",76.180000000000007,null,null,null,76.180000000000007]
[19,"2010-06-23","CH",2276,"2010-06-23","Garbou  ap. 4",29.56,null,null,null,29.56]
[20,"2010-06-23","CH",2277,"2010-06-23","Szép  ap. 5",202.14,null,null,null,202.14]
[21,"2010-06-23","CH",2279,"2010-06-23","Colceriu  ap. 7",75.989999999999995,null,null,null,75.989999999999995]
[22,"2010-06-23","CH",2280,"2010-06-23","Gabor  ap. 8",17.64,null,null,null,17.64]
[23,"2010-06-23","CH",2282,"2010-06-23","Micşunescu  ap. 10",37.520000000000003,null,null,null,37.520000000000003]
[24,"2010-06-23","CH",2283,"2010-06-23","Jugrestan  ap. 11",29.58,null,null,null,29.58]
[25,"2010-06-23","CH",2284,"2010-06-23","Tárkányi  ap. 12",169.53,null,null,null,169.53]
[26,"2010-06-23","CH",2285,"2010-06-23","Nebert  ap. 13",29.56,null,null,null,29.56]
[27,"2010-06-23","CH",2286,"2010-06-23","Crişan  ap. 14",29.58,null,null,null,29.58]
[28,"2010-06-23","CH",2287,"2010-06-23","Lazăr  ap. 15",41.55,null,null,null,41.55]
[29,"2010-06-23","CH",2288,"2010-06-23","Vescan  ap. 16",158,null,null,null,158]
[30,"2010-06-23","CH",2289,"2010-06-23","Mihăescu  ap. 17",130.4,null,null,null,130.4]
[31,"2010-06-23","CH",2290,"2010-06-23","Pop Florin  ap. 18",129.58000000000001,null,null,null,129.58000000000001]
[32,"2010-06-23","CH",2291,"2010-06-23","Mureşan I  ap. 19",121.81,null,null,null,121.81]
[33,"2010-06-23","CH",2293,"2010-06-23","Kállai  ap. 21",109.89,null,null,null,109.89]
[34,"2010-06-23","CH",2294,"2010-06-23","Indolean  ap. 22",105.7,null,null,null,105.7]
[35,"2010-06-23","CH",2295,"2010-06-23","Mureşan E  ap. 23",113.87,null,null,null,113.87]
[36,"2010-06-23","CH",2296,"2010-06-23","Stanimir  ap. 23A",132.21,null,null,null,132.21]
[37,"2010-06-23","CH",2297,"2010-06-23","Cheţan  ap. 24",129.87,null,null,null,129.87]
[38,"2010-06-23","CH",2298,"2010-06-23","Călin  ap. 25",113.87,null,null,null,113.87]
[39,"2010-06-23","CH",2299,"2010-06-23","Turcu  ap. 26",7.96,null,null,null,7.96]
[40,"2010-06-23","CH",2301,"2010-06-23","Zegreanu  ap. 28",57.97,null,null,null,57.97]
[41,"2010-06-23","CH",2302,"2010-06-23","Şerban  ap. 29",67.77,null,null,null,67.77]
[42,"2010-06-23","CH",2303,"2010-06-23","Mihăescu  ap. 30",117.38,null,null,null,117.38]
[43,"2010-06-23","CH",2304,"2010-06-23","Pop R  ap. 31",39.44,null,null,null,39.44]
[44,"2010-06-23","CH",2305,"2010-06-23","Lungu  ap. 32",77.5,null,null,null,77.5]
[45,"2010-06-23","CH",2306,"2010-06-23","Mihuţ  ap. 33",96.07,null,null,null,96.07]
[46,"2010-06-23","CH",2307,"2010-06-23","Postescu  ap. 34",57.6,null,null,null,57.6]
[47,"2010-06-23","CH",2308,"2010-06-23","Goia  ap. 35",92.09,null,null,null,92.09]
[48,"2010-06-23","CH",2309,"2010-06-23","Dodu  ap. 36",81.16,null,null,null,81.16]
[49,"2010-06-23","CH",2310,"2010-06-23","Drăghici  ap. 37",101.13,null,null,null,101.13]
[50,"2010-06-23","CH",2311,"2010-06-23","Néda  ap. 38",121.4,null,null,null,121.4]
[51,"2010-06-23","CH",2312,"2010-06-23","Vornicescu  ap. 39",81.73,null,null,null,81.73]
[52,"2010-06-23","CH",2313,"2010-06-23","Sparleanu  ap. 40",15.92,null,null,null,15.92]
[53,"2010-06-23","CH",2314,"2010-06-23","Raboca  ap. 41",120.94,null,null,null,120.94]
[54,"2010-06-23","CH",2315,"2010-06-23","Negru  ap. 42",77.540000000000006,null,null,null,77.540000000000006]
[55,"2010-06-23","CH",2316,"2010-06-23","Roşescu  ap. 43",78.33,null,null,null,78.33]
[56,"2010-06-23","CH",2317,"2010-06-23","Ursu  ap. 44",33.76,null,null,null,33.76]
[57,"2010-06-23","CH",2318,"2010-06-23","Săcui  ap. 45",49.89,null,null,null,49.89]
[58,"2010-06-23","CH",2319,"2010-06-23","Mărinceanu  ap. 46",115.58,null,null,null,115.58]
[59,"2010-06-23","CH",2320,"2010-06-23","Ricean  ap. 47",47.25,null,null,null,47.25]
[60,"2010-06-23","CH",2321,"2010-06-23","Sabo  ap. 48",97.16,null,null,null,97.16]
[61,"2010-06-23","CH",2322,"2010-06-23","Câmpan  ap. 49",83.49,null,null,null,83.49]
[62,"2010-06-23","CH",2324,"2010-06-23","Ciubotariu  ap. 51",9.1300000000000008,null,null,null,9.1300000000000008]
[63,"2010-06-23","CH",2325,"2010-06-23","Cristea  ap. 52",90.08,null,null,null,90.08]
[64,"2010-06-23","CH",2326,"2010-06-23","Stănescu  ap. 53",55.29,null,null,null,55.29]
[65,"2010-06-23","CH",2328,{"$f":"B572","v":"2010-06-23"},"Feşnic  ap. 55",278.52,null,null,null,{"$f":"G572+H572+I572+J572","v":278.52}]
[{"$f":"A572+1","v":66},"2010-06-23","CH",2330,"2010-06-23","Baras A  ap. 57",51.19,null,null,null,51.19]
[67,"2010-06-23","CH",2331,"2010-06-23","Fărcaş N  ap. 58",33.51,null,null,null,33.51]
[68,"2010-06-23","CH",2332,"2010-06-23","Bagaméri  ap. 59",55.17,null,null,null,55.17]
[69,"2010-06-23","CH",2333,"2010-06-23","Cristovici  ap. 60",37.76,null,null,null,37.76]
[70,"2010-06-23","CH",2334,"2010-06-23","Trifoiu  ap. 61",91.18,null,null,null,91.18]
[71,"2010-06-23","CH",2335,"2010-06-23","Fabian   ap. 62",53.93,null,null,null,53.93]
[72,"2010-06-23","CH",2336,"2010-06-23","Fărăgău  ap. 63",46.28,null,null,null,46.28]
[73,"2010-06-23","CH",2337,"2010-06-23","Rus  ap. 64",76.98,null,null,null,76.98]
[74,"2010-06-23","CH",2338,"2010-06-23","Pop   ap. 65",126.71,null,null,null,126.71]
[75,"2010-06-23","CH",2339,"2010-06-23","Bejan  ap. 66",62.2,null,null,null,62.2]
[76,"2010-06-23","CH",2340,"2010-06-23","Moga  ap. 67",8.24,null,null,null,8.24]
[77,"2010-06-23","CH",2341,"2010-06-23","Legian  ap. 68",183.43,null,null,null,183.43]
[78,"2010-06-23","CH",2342,"2010-06-23","Mocanu  ap. 69",111.1,null,null,null,111.1]
[79,"2010-06-23","CH",2343,"2010-06-23","Pop C.  ap. 70",103.12,null,null,null,103.12]
[80,"2010-06-24","CH",1665359,"2010-06-24","Apa canal",null,2162.5100000000002,null,null,2162.5100000000002]
[81,"2010-06-24","CH",624,"2010-06-24","Termoficare",null,888,null,null,888]
[82,"2010-06-30","EX",null,"2010-06-30","Dobanda",null,null,0.04,null,0.04]
[null,null,null,null,null,null,{"$f":"SUM(G507:G589)","v":5729.03},5012.79,253.67,null,{"$f":"SUM(K507:K589)","v":154120.76999999984}]
[null,null,null,null,null,"De reportat",{"$f":"K590","v":154120.76999999984}]
[]
[null,"Intocmit"]
[]
[]
[]
[null,null,null,null,null,"Report",null,null,null,null,{"$f":"G591","v":154120.76999999984}]
[1,"2010-07-01",null,null,{"$f":"B598","v":"2010-07-01"},"Stat de plata ",null,785,null,null,{"$f":"G598+H598+I598+J598","v":785}]
[{"$f":"A598+1","v":2},"2010-07-05","CH",120261,"2010-07-05","Salubritate",null,853.42,null,null,853.42]
[3,"2010-07-07","CH",555498,"2010-07-07","Trezorerie Impozit",null,502,null,null,502]
[4,"2010-07-07","CH",275,"2010-07-07","Lapustea ap 1 ",57.51,null,null,null,57.51]
[5,"2010-07-08","CH",276,"2010-07-08","Neamt ap 9",97.62,null,null,null,97.62]
[6,"2010-07-13","CH",92357,"2010-07-13","Gaz",null,109,null,null,109]
[7,"2010-07-14","CH",277,"2010-07-14","Creteanu ap 27",69.56,null,null,null,69.56]
[8,"2010-07-15","CH",279,"2010-07-15","Ibbison ap 20",84.19,null,null,null,84.19]
[9,"2010-07-20","BF",1,"2010-07-20","Matura",null,11,null,null,11]
[10,"2010-07-20","CH",280,"2010-07-20","Nebert ap 13 FRUL",10.1,null,null,null,10.1]
[11,"2010-07-20","CH",281,"2010-07-20","Dejeu ap 54",25.6,null,null,null,25.6]
[12,"2010-07-20","CH",282,"2010-07-20","Legian ap 68 FREP",100,null,null,null,100]
[13,"2010-07-22","CH",1667,"2010-07-22","Electrica sc 1",null,17.89,null,null,17.89]
[14,"2010-07-22","CH",1671,"2010-07-22","Electrica sc 2",null,13.57,null,null,13.57]
[15,"2010-07-22","CH",1668,"2010-07-22","Electrica sc 3",null,28.19,null,null,28.19]
[16,"2010-07-22","CH",1669,"2010-07-22","Electrica sc 4",null,9.76,null,null,9.76]
[17,"2010-07-22","CH",1665,"2010-07-22","Electrica sc 5",null,12.47,null,null,12.47]
[18,"2010-07-22","CH",1670,"2010-07-22","Electrica sc 6",null,7.05,null,null,7.05]
[19,"2010-07-22","BF",135,"2010-07-22","Silicon",null,21,null,null,21]
[20,"2010-07-22","BF",18,"2010-07-22","Silicon",null,16,null,null,16]
[21,"2010-07-22","CH",2345,"2010-07-22","Bugnar  ap. 2",45.8,null,null,null,45.8]
[22,"2010-07-22","CH",2346,"2010-07-22","Tunyogi  ap. 3",92.89,null,null,null,92.89]
[23,"2010-07-22","CH",2347,"2010-07-22","Garbou  ap. 4",39.86,null,null,null,39.86]
[24,"2010-07-22","CH",2348,"2010-07-22","Szép  ap. 5",191.67,null,null,null,191.67]
[25,"2010-07-22","CH",2349,"2010-07-22","Bara  ap. 6",35.82,null,null,null,35.82]
[26,"2010-07-22","CH",2350,"2010-07-22","Colceriu  ap. 7",65.39,null,null,null,65.39]
[27,"2010-07-22","CH",2351,"2010-07-22","Gabor  ap. 8",32.03,null,null,null,32.03]
[28,"2010-07-22","CH",2353,"2010-07-22","Micşunescu  ap. 10",47.82,null,null,null,47.82]
[29,"2010-07-22","CH",2354,"2010-07-22","Jugrestan  ap. 11",36.01,null,null,null,36.01]
[30,"2010-07-22","CH",2355,"2010-07-22","Tárkányi  ap. 12",113.1,null,null,null,113.1]
[31,"2010-07-22","CH",2356,"2010-07-22","Nebert  ap. 13",35.880000000000003,null,null,null,35.880000000000003]
[32,"2010-07-22","CH",2357,"2010-07-22","Crişan  ap. 14",32.03,null,null,null,32.03]
[33,"2010-07-22","CH",2358,"2010-07-22","Lazăr  ap. 15",33.86,null,null,null,33.86]
[34,"2010-07-22","CH",2359,"2010-07-22","Vescan  ap. 16",165.23,null,null,null,165.23]
[35,"2010-07-22","CH",2360,"2010-07-22","Mihăescu  ap. 17",148.47,null,null,null,148.47]
[36,"2010-07-22","CH",2361,"2010-07-22","Pop Florin  ap. 18",144.21,null,null,null,144.21]
[37,"2010-07-22","CH",2362,"2010-07-22","Mureşan I  ap. 19",129.66,null,null,null,129.66]
[38,"2010-07-22","CH",2364,"2010-07-22","Kállai  ap. 21",121.83,null,null,null,121.83]
[39,"2010-07-22","CH",2365,"2010-07-22","Indolean  ap. 22",112.37,null,null,null,112.37]
[40,"2010-07-22","CH",2367,"2010-07-22","Stanimir  ap. 23A",122.9,null,null,null,122.9]
[41,"2010-07-22","CH",2368,"2010-07-22","Cheţan  ap. 24",134.88,null,null,null,134.88]
[42,"2010-07-22","CH",2369,"2010-07-22","Călin  ap. 25",117.85,null,null,null,117.85]
[43,"2010-07-22","CH",2370,"2010-07-22","Turcu  ap. 26",16.649999999999999,null,null,null,16.649999999999999]
[44,"2010-07-22","CH",2371,"2010-07-22","Creţeanu  ap. 27",109.98,null,null,null,109.98]
[45,"2010-07-22","CH",2372,"2010-07-22","Zegreanu  ap. 28",70.98,null,null,null,70.98]
[46,"2010-07-22","CH",2373,"2010-07-22","Şerban  ap. 29",65.290000000000006,null,null,null,65.290000000000006]
[47,"2010-07-22","CH",2374,"2010-07-22","Mihăescu  ap. 30",98.19,null,null,null,98.19]
[48,"2010-07-22","CH",2375,"2010-07-22","Pop R  ap. 31",58.23,null,null,null,58.23]
[49,"2010-07-22","CH",2376,"2010-07-22","Lungu  ap. 32",46.17,null,null,null,46.17]
[50,"2010-07-22","CH",2377,"2010-07-22","Mihuţ  ap. 33",89.55,null,null,null,89.55]
[51,"2010-07-22","CH",2378,"2010-07-22","Postescu  ap. 34",62.09,null,null,null,62.09]
[52,"2010-07-22","CH",2379,"2010-07-22","Goia  ap. 35",89.55,null,null,null,89.55]
[53,"2010-07-22","CH",2380,"2010-07-22","Dodu  ap. 36",82.01,null,null,null,82.01]
[54,"2010-07-22","CH",2381,"2010-07-22","Drăghici  ap. 37",99.99,null,null,null,99.99]
[55,"2010-07-22","CH",2382,"2010-07-22","Néda  ap. 38",78.03,null,null,null,78.03]
[56,"2010-07-22","CH",2383,"2010-07-22","Vornicescu  ap. 39",71.67,null,null,null,71.67]
[57,"2010-07-22","CH",2385,"2010-07-22","Raboca  ap. 41",125.83,null,null,null,125.83]
[58,"2010-07-22","CH",2386,"2010-07-22","Negru  ap. 42",74.150000000000006,null,null,null,74.150000000000006]
[59,"2010-07-22","CH",2387,"2010-07-22","Roşescu  ap. 43",82.16,null,null,null,82.16]
[60,"2010-07-22","CH",2388,"2010-07-22","Ursu  ap. 44",62.21,null,null,null,62.21]
[61,"2010-07-22","CH",2389,"2010-07-22","Săcui  ap. 45",59.73,null,null,null,59.73]
[62,"2010-07-22","CH",2390,"2010-07-22","Mărinceanu  ap. 46",118.61,null,null,null,118.61]
[63,"2010-07-22","CH",2391,"2010-07-22","Ricean  ap. 47",58.54,null,null,null,58.54]
[64,"2010-07-22","CH",2392,"2010-07-22","Sabo  ap. 48",100.4,null,null,null,100.4]
[65,"2010-07-22","CH",2393,{"$f":"B662","v":"2010-07-22"},"Câmpan  ap. 49",93.54,null,null,null,{"$f":"G662+H662+I662+J662","v":93.54}]
[{"$f":"A662+1","v":66},"2010-07-22","CH",2396,"2010-07-22","Cristea  ap. 52",84.21,null,null,null,84.21]
[67,"2010-07-22","CH",2397,"2010-07-22","Stănescu  ap. 53",62.41,null,null,null,62.41]
[68,"2010-07-22","CH",2398,"2010-07-22","Dejeu  ap. 54",28.69,null,null,null,28.69]
[69,"2010-07-22","CH",2399,"2010-07-22","Feşnic  ap. 55",279.92,null,null,null,279.92]
[70,"2010-07-22","CH",2401,"2010-07-22","Baras A  ap. 57",26.91,null,null,null,26.91]
[71,"2010-07-22","CH",2402,"2010-07-22","Fărcaş N  ap. 58",45.86,null,null,null,45.86]
[72,"2010-07-22","CH",2403,"2010-07-22","Bagaméri  ap. 59",41.03,null,null,null,41.03]
[73,"2010-07-22","CH",2404,"2010-07-22","Cristovici  ap. 60",43.7,null,null,null,43.7]
[74,"2010-07-22","CH",2405,"2010-07-22","Ureche  ap. 61",106.36,null,null,null,106.36]
[75,"2010-07-22","CH",2406,"2010-07-22","Fabian   ap. 62",63.81,null,null,null,63.81]
[76,"2010-07-22","CH",2407,"2010-07-22","Fărăgău  ap. 63",50.04,null,null,null,50.04]
[77,"2010-07-22","CH",2408,"2010-07-22","Rus  ap. 64",77.45,null,null,null,77.45]
[78,"2010-07-22","CH",2409,"2010-07-22","Pop   ap. 65",124.24,null,null,null,124.24]
[79,"2010-07-22","CH",2410,"2010-07-22","Bejan  ap. 66",77.900000000000006,null,null,null,77.900000000000006]
[80,"2010-07-22","CH",2411,"2010-07-22","Moga  ap. 67",16.399999999999999,null,null,null,16.399999999999999]
[81,"2010-07-22","CH",2412,"2010-07-22","Legian  ap. 68",150.61000000000001,null,null,null,150.61000000000001]
[82,"2010-07-22","CH",2413,"2010-07-22","Mocanu  ap. 69",122.41,null,null,null,122.41]
[83,"2010-07-22","CH",2414,"2010-07-22","Pop C.  ap. 70",88.08,null,null,null,88.08]
[84,"2010-07-23","BF",128,"2010-07-23","Galeata mop",null,30.92,null,null,30.92]
[85,"2010-07-23","DP",1,"2010-07-23","Reparat acoperis Capusan Ioan",null,200,null,null,200]
[86,"2010-07-26","CH",36013,"2010-07-26","Termoficare",null,728,null,null,728]
[87,"2010-07-26","CH",1674861,"2010-07-26","Apa canal",null,2222.14,null,null,2222.14]
[88,"2010-07-27","DP",1,"2010-07-27","Reparat robinet Szakacs Istvan",null,50,null,null,50]
[89,"2010-07-31","EX",7,"2010-07-31","Dobanda",null,null,0.04,null,0.04]
[null,null,null,null,null,null,{"$f":"SUM(G597:G686)","v":5747.7199999999984},5617.41,0.04,null,{"$f":"SUM(K597:K686)","v":165485.93999999994}]
[null,null,null,null,null,"De reportat",{"$f":"K687","v":165485.93999999994}]
[]
[null,"Intocmit"]
[]
[]
[null,null,null,null,null,"Report",null,null,null,null,{"$f":"G688","v":165485.93999999994}]
[1,"2010-08-02",null,null,{"$f":"B694","v":"2010-08-02"},"Stat de plata ",null,533,null,null,{"$f":"G694+H694+I694+J694","v":533}]
[{"$f":"A694+1","v":2},"2010-08-02","CH",1223624,"2010-08-02","Salubritate",null,888.92,null,null,888.92]
[3,"2010-08-04","CH",283,"2010-08-04","Tudoran ap 50",400,null,null,null,400]
[4,"2010-08-04","CH",284,"2010-08-04","Bara ap 6",49.74,null,null,null,49.74]
[5,"2010-08-09","CH",303,"2010-08-09","Dezinsectie",null,670,null,null,670]
[6,"2010-08-09","CH",285,"2010-08-09","Ciubotaru ap 51",16.87,null,null,null,16.87]
[7,"2010-08-13","CH",2039,"2010-08-13","Cartus imprimanta",null,50,null,null,50]
[8,"2010-08-16","CH",93172,"2010-08-16","Gaz",null,162,null,null,162]
[9,"2010-08-16","CH",755,"2010-08-16","Electrica sc 2",null,30.37,null,null,30.37]
[10,"2010-08-16","CH",756,"2010-08-16","Electrica sc 5",null,71.03,null,null,71.03]
[11,"2010-08-16","CH",757,"2010-08-16","Electrica sc 6",null,7.05,null,null,7.05]
[12,"2010-08-16","DP",1,"2010-08-16","Salar iulie Biro M",null,210,null,null,210]
[13,"2010-08-16","BF",37,"2010-08-16","Scara detergent",null,132.47,null,null,132.47]
[14,"2010-08-23","BF",50,"2010-08-23","Anunt condoleante",null,12.5,null,null,12.5]
[15,"2010-08-23","CH",286,"2010-08-23","Sparleanu ap 40",70.17,null,null,null,70.17]
[16,"2010-08-23","CH",287,"2010-08-23","Pop ap 18",81.39,null,null,null,81.39]
[17,"2010-08-24","BF",1,"2010-08-24","Coroana",null,70,null,null,70]
[18,"2010-08-25","BF",16,"2010-08-25","Spaclu",null,3.12,null,null,3.12]
[19,"2010-08-26","CH",288,"2010-08-26","Ibbison ap 20",110,null,null,null,110]
[20,"2010-08-30","CH",830,"2010-08-30","Termoficare",null,601,null,null,601]
[21,"2010-08-30","CH",289,"2010-08-30","Chetan ap 25",79.760000000000005,null,null,null,79.760000000000005]
[22,"2010-08-30","CH",290,"2010-08-30","Stanimir ap 23a",96.09,null,null,null,96.09]
[23,"2010-08-30","CH",291,"2010-08-30","Muresan ap 23",125.81,null,null,null,125.81]
[24,"2010-08-30","CH",292,"2010-08-30","Muresan ap 23",44.42,null,null,null,44.42]
[25,"2010-08-30","CH",293,"2010-08-30","Calin ap 24",73.400000000000006,null,null,null,73.400000000000006]
[26,"2010-08-30","CH",2417,"2010-08-30","Tunyogi  ap. 3",67.87,null,null,null,67.87]
[27,"2010-08-30","CH",2418,"2010-08-30","Garbou  ap. 4",29.16,null,null,null,29.16]
[28,"2010-08-30","CH",2419,"2010-08-30","Szép  ap. 5",197.47,null,null,null,197.47]
[29,"2010-08-30","CH",2421,"2010-08-30","Colceriu  ap. 7",42.98,null,null,null,42.98]
[30,"2010-08-30","CH",2422,"2010-08-30","Gabor  ap. 8",20.9,null,null,null,20.9]
[31,"2010-08-30","CH",2425,"2010-08-30","Jugrestan  ap. 11",29.18,null,null,null,29.18]
[32,"2010-08-30","CH",2426,"2010-08-30","Tárkányi  ap. 12",114.81,null,null,null,114.81]
[33,"2010-08-30","CH",2427,"2010-08-30","Nebert  ap. 13",33.299999999999997,null,null,null,33.299999999999997]
[34,"2010-08-30","CH",2428,"2010-08-30","Crişan  ap. 14",16.760000000000002,null,null,null,16.760000000000002]
[35,"2010-08-30","CH",2429,"2010-08-30","Lazăr  ap. 15",51.91,null,null,null,51.91]
[36,"2010-08-30","CH",2431,"2010-08-30","Mihăescu  ap. 17",152.05000000000001,null,null,null,152.05000000000001]
[37,"2010-08-30","CH",2433,"2010-08-30","Mureşan I  ap. 19",123.38,null,null,null,123.38]
[38,"2010-08-30","CH",2436,"2010-08-30","Indolean  ap. 22",110.69,null,null,null,110.69]
[39,"2010-08-30","CH",2441,"2010-08-30","Turcu  ap. 26",10.34,null,null,null,10.34]
[40,"2010-08-30","CH",2443,"2010-08-30","Zegreanu  ap. 28",45.26,null,null,null,45.26]
[41,"2010-08-30","CH",2444,"2010-08-30","Şerban  ap. 29",64.86,null,null,null,64.86]
[42,"2010-08-30","CH",2445,"2010-08-30","Mihăescu  ap. 30",84.51,null,null,null,84.51]
[43,"2010-08-30","CH",2446,"2010-08-30","Pop R  ap. 31",35.56,null,null,null,35.56]
[44,"2010-08-30","CH",2447,"2010-08-30","Lungu  ap. 32",63.09,null,null,null,63.09]
[45,"2010-08-30","CH",2448,"2010-08-30","Mihuţ  ap. 33",84.8,null,null,null,84.8]
[46,"2010-08-30","CH",2449,"2010-08-30","Postescu  ap. 34",67.23,null,null,null,67.23]
[47,"2010-08-30","CH",2450,"2010-08-30","Goia  ap. 35",41.41,null,null,null,41.41]
[48,"2010-08-30","CH",2451,"2010-08-30","Dodu  ap. 36",90.29,null,null,null,90.29]
[49,"2010-08-30","CH",2452,"2010-08-30","Drăghici  ap. 37",114.01,null,null,null,114.01]
[50,"2010-08-30","CH",2453,"2010-08-30","Néda  ap. 38",134.31,null,null,null,134.31]
[51,"2010-08-30","CH",2454,"2010-08-30","Vornicescu  ap. 39",77.44,null,null,null,77.44]
[52,"2010-08-30","CH",2455,"2010-08-30","Sparleanu  ap. 40",25.02,null,null,null,25.02]
[53,"2010-08-30","CH",2456,"2010-08-30","Raboca  ap. 41",159.85,null,null,null,159.85]
[54,"2010-08-30","CH",2457,"2010-08-30","Negru  ap. 42",73.010000000000005,null,null,null,73.010000000000005]
[55,"2010-08-30","CH",2458,"2010-08-30","Roşescu  ap. 43",56.74,null,null,null,56.74]
[56,"2010-08-30","CH",2459,"2010-08-30","Ursu  ap. 44",52.31,null,null,null,52.31]
[57,"2010-08-30","CH",2460,"2010-08-30","Săcui  ap. 45",25.31,null,null,null,25.31]
[58,"2010-08-30","CH",2461,"2010-08-30","Mărinceanu  ap. 46",91.83,null,null,null,91.83]
[59,"2010-08-30","CH",2462,"2010-08-30","Ricean  ap. 47",68.98,null,null,null,68.98]
[60,"2010-08-30","CH",2463,"2010-08-30","Sabo  ap. 48",70.680000000000007,null,null,null,70.680000000000007]
[61,"2010-08-30","CH",2464,"2010-08-30","Câmpan  ap. 49",80.44,null,null,null,80.44]
[62,"2010-08-30","CH",2466,"2010-08-30","Ciubotariu  ap. 51",16.13,null,null,null,16.13]
[63,"2010-08-30","CH",2467,"2010-08-30","Cristea  ap. 52",71.89,null,null,null,71.89]
[64,"2010-08-30","CH",2468,"2010-08-30","Stănescu  ap. 53",51.28,null,null,null,51.28]
[65,"2010-08-30","CH",2469,{"$f":"B758","v":"2010-08-30"},"Dejeu  ap. 54",120.05,null,null,null,{"$f":"G758+H758+I758+J758","v":120.05}]
[{"$f":"A758+1","v":66},"2010-08-30","CH",2470,"2010-08-30","Feşnic  ap. 55",280.35000000000002,null,null,null,280.35000000000002]
[67,"2010-08-30","CH",2472,"2010-08-30","Baras A  ap. 57",32.22,null,null,null,32.22]
[68,"2010-08-30","CH",2473,"2010-08-30","Fărcaş N  ap. 58",40.97,null,null,null,40.97]
[69,"2010-08-30","CH",2474,"2010-08-30","Bagaméri  ap. 59",42.19,null,null,null,42.19]
[70,"2010-08-30","CH",2475,"2010-08-30","Cristovici  ap. 60",41.33,null,null,null,41.33]
[71,"2010-08-30","CH",2476,"2010-08-30","Ureche  ap. 61",89.27,null,null,null,89.27]
[72,"2010-08-30","CH",2477,"2010-08-30","Fabian   ap. 62",63.79,null,null,null,63.79]
[73,"2010-08-30","CH",2478,"2010-08-30","Fărăgău  ap. 63",43.51,null,null,null,43.51]
[74,"2010-08-30","CH",2479,"2010-08-30","Rus  ap. 64",80.78,null,null,null,80.78]
[75,"2010-08-30","CH",2480,"2010-08-30","Pop   ap. 65",134.41,null,null,null,134.41]
[76,"2010-08-30","CH",2481,"2010-08-30","Bejan  ap. 66",51.79,null,null,null,51.79]
[77,"2010-08-30","CH",2482,"2010-08-30","Moga  ap. 67",16.47,null,null,null,16.47]
[78,"2010-08-30","CH",2483,"2010-08-30","Legian  ap. 68",31.68,null,null,null,31.68]
[79,"2010-08-30","CH",2484,"2010-08-30","Mocanu  ap. 69",126.55,null,null,null,126.55]
[80,"2010-08-30","CH",2485,"2010-08-30","Pop C.  ap. 70",82.94,null,null,null,82.94]
[81,"2010-08-30","EX",null,"2010-08-30","Dobanda",null,null,272.33999999999997,null,272.33999999999997]
[82,"2010-08-31","CH",304,"2010-08-31","Dezinsectie",null,200,null,null,200]
[83,"2010-08-31","CH",1703541,"2010-08-31","Apa canal",null,2251.73,null,null,2251.73]
[84,"2010-08-31","DP",1,"2010-08-31","Silicon restituit Sacui",null,37,null,null,37]
[85,"2010-08-31","EX",8,"2010-08-31","Dobanda",null,null,0.1,null,0.1]
[null,null,null,null,null,null,{"$f":"SUM(G693:G778)","v":5172.9900000000016},5930.1900000000005,272.44,null,{"$f":"SUM(K693:K778)","v":176861.55999999997}]
[null,null,null,null,null,"De reportat",{"$f":"K779","v":176861.55999999997}]
[]
[null,"Intocmit"]
[]
[]
[null,null,null,null,null,"Report",null,null,null,null,{"$f":"G780","v":176861.55999999997}]
[1,"2010-09-01","CH",null,{"$f":"B786","v":"2010-09-01"},"Stat de plata ",null,865,null,null,{"$f":"G786+H786+I786+J786","v":865}]
[{"$f":"A786+1","v":2},"2010-09-01","CH",1246751,"2010-09-01","Salubritate",null,888.92,null,null,888.92]
[3,"2010-09-04","BF",93,"2010-09-04","Becuri",null,4.68,null,null,4.68]
[4,"2010-09-06","CH",294,"2010-09-06","Creteanu ap 27",46.55,null,null,null,46.55]
[5,"2010-09-09","BF",39,"2010-09-09","Spuma poliuterean",null,17,null,null,17]
[6,"2010-09-13","CH",295,"2010-09-13","Neamt ap 9",183.78,null,null,null,183.78]
[7,"2010-09-13","CH",2048,"2010-09-13","recomandata",null,2.4,null,null,2.4]
[8,"2010-09-13","CH",677,"2010-09-13","Electrica sc 1",null,5.97,null,null,5.97]
[9,"2010-09-13","CH",683,"2010-09-13","Electrica sc 2",null,13,null,null,13]
[10,"2010-09-13","CH",681,"2010-09-13","Electrica sc 4",null,1.64,null,null,1.64]
[11,"2010-09-13","CH",680,"2010-09-13","Electrica sc 5",null,12.47,null,null,12.47]
[12,"2010-09-13","CH",678,"2010-09-13","Electrica sc 6",null,7.05,null,null,7.05]
[13,"2010-09-15","CH",93867,"2010-09-15","Gaz",null,246,null,null,246]
[14,"2010-09-17","CH",100917,"2010-09-17","Termoficare",null,610,null,null,610]
[15,"2010-09-20","CH",296,"2010-09-20","Fonoage ap 56",170.1,null,null,null,170.1]
[16,"2010-09-20","CH",297,"2010-09-20","Bugnar ap 2",41.18,null,null,null,41.18]
[17,"2010-09-20","CH",298,"2010-09-20","Lapustea ap 1",88.15,null,null,null,88.15]
[18,"2010-09-21","CH",299,"2010-09-21","Vescan ap 16",144.34,null,null,null,144.34]
[19,"2010-09-21","CH",300,"2010-09-21","Mihut ap 22 FREP",121.23,null,null,null,121.23]
[20,"2010-09-21","CH",1708648,"2010-09-21","Apa canal",null,2272.42,null,null,2272.42]
[21,"2010-09-23","CH",2486,"2010-09-23","Lăpuştea  ap. 1",27.8,null,null,null,27.8]
[22,"2010-09-23","CH",2488,"2010-09-23","Tunyogi  ap. 3",87.39,null,null,null,87.39]
[23,"2010-09-23","CH",2489,"2010-09-23","Garbou  ap. 4",29.99,null,null,null,29.99]
[24,"2010-09-23","CH",2490,"2010-09-23","Szép  ap. 5",232.98,null,null,null,232.98]
[25,"2010-09-23","CH",2492,"2010-09-23","Colceriu  ap. 7",109.39,null,null,null,109.39]
[26,"2010-09-23","CH",2493,"2010-09-23","Gabor  ap. 8",38.44,null,null,null,38.44]
[27,"2010-09-23","CH",2496,"2010-09-23","Jugrestan  ap. 11",72.58,null,null,null,72.58]
[28,"2010-09-23","CH",2497,"2010-09-23","Tárkányi  ap. 12",130.6,null,null,null,130.6]
[29,"2010-09-23","CH",2498,"2010-09-23","Nebert  ap. 13",42.41,null,null,null,42.41]
[30,"2010-09-23","CH",2499,"2010-09-23","Crişan  ap. 14",68.44,null,null,null,68.44]
[31,"2010-09-23","CH",2500,"2010-09-23","Lazăr  ap. 15",68.11,null,null,null,68.11]
[32,"2010-09-23","CH",2501,"2010-09-23","Vescan  ap. 16",121.97,null,null,null,121.97]
[33,"2010-09-23","CH",2502,"2010-09-23","Mihăescu  ap. 17",54.08,null,null,null,54.08]
[34,"2010-09-23","CH",2503,"2010-09-23","Pop Florin  ap. 18",87.82,null,null,null,87.82]
[35,"2010-09-23","CH",2504,"2010-09-23","Mureşan I  ap. 19",27.16,null,null,null,27.16]
[36,"2010-09-23","CH",2505,"2010-09-23","Ibbison  ap. 20",29.26,null,null,null,29.26]
[37,"2010-09-23","CH",2506,"2010-09-23","Kállai  ap. 21",31.47,null,null,null,31.47]
[38,"2010-09-23","CH",2507,"2010-09-23","Indolean  ap. 22",21.26,null,null,null,21.26]
[39,"2010-09-23","CH",2508,"2010-09-23","Mureşan E  ap. 23",77.33,null,null,null,77.33]
[40,"2010-09-23","CH",2509,"2010-09-23","Stanimir  ap. 23A",84,null,null,null,84]
[41,"2010-09-23","CH",2510,"2010-09-23","Cheţan  ap. 24",88.42,null,null,null,88.42]
[42,"2010-09-23","CH",2511,"2010-09-23","Călin  ap. 25",85.61,null,null,null,85.61]
[43,"2010-09-23","CH",2512,"2010-09-23","Turcu  ap. 26",19.95,null,null,null,19.95]
[44,"2010-09-23","CH",2514,"2010-09-23","Zegreanu  ap. 28",66.61,null,null,null,66.61]
[45,"2010-09-23","CH",2515,"2010-09-23","Şerban  ap. 29",83.89,null,null,null,83.89]
[46,"2010-09-23","CH",2516,"2010-09-23","Mihăescu  ap. 30",87.61,null,null,null,87.61]
[47,"2010-09-23","CH",2517,"2010-09-23","Pop R  ap. 31",44.65,null,null,null,44.65]
[48,"2010-09-23","CH",2518,"2010-09-23","Lungu  ap. 32",68.72,null,null,null,68.72]
[49,"2010-09-23","CH",2519,"2010-09-23","Mihuţ  ap. 33",79.75,null,null,null,79.75]
[50,"2010-09-23","CH",2520,"2010-09-23","Postescu  ap. 34",64.58,null,null,null,64.58]
[51,"2010-09-23","CH",2521,"2010-09-23","Goia  ap. 35",76.819999999999993,null,null,null,76.819999999999993]
[52,"2010-09-23","CH",2522,"2010-09-23","Dodu  ap. 36",105.68,null,null,null,105.68]
[53,"2010-09-23","CH",2523,"2010-09-23","Drăghici  ap. 37",95.09,null,null,null,95.09]
[54,"2010-09-23","CH",2524,"2010-09-23","Néda  ap. 38",183.12,null,null,null,183.12]
[55,"2010-09-23","CH",2525,"2010-09-23","Vornicescu  ap. 39",196.98,null,null,null,196.98]
[56,"2010-09-23","CH",2526,"2010-09-23","Sparleanu  ap. 40",77,null,null,null,77]
[57,"2010-09-23","CH",2527,"2010-09-23","Raboca  ap. 41",127.24,null,null,null,127.24]
[58,"2010-09-23","CH",2528,"2010-09-23","Negru  ap. 42",85.28,null,null,null,85.28]
[59,"2010-09-23","CH",2529,"2010-09-23","Roşescu  ap. 43",70.650000000000006,null,null,null,70.650000000000006]
[60,"2010-09-23","CH",2530,"2010-09-23","Ursu  ap. 44",60.44,null,null,null,60.44]
[61,"2010-09-23","CH",2531,"2010-09-23","Săcui  ap. 45",46.48,null,null,null,46.48]
[62,"2010-09-23","CH",2532,"2010-09-23","Mărinceanu  ap. 46",144.9,null,null,null,144.9]
[63,"2010-09-23","CH",2533,"2010-09-23","Ricean  ap. 47",79.7,null,null,null,79.7]
[64,"2010-09-23","CH",2534,"2010-09-23","Sabo  ap. 48",81.59,null,null,null,81.59]
[65,"2010-09-23","CH",2535,{"$f":"B850","v":"2010-09-23"},"Câmpan  ap. 49",103.36,null,null,null,{"$f":"G850+H850+I850+J850","v":103.36}]
[{"$f":"A850+1","v":66},"2010-09-23","CH",2537,"2010-09-23","Ciubotariu  ap. 51",26.06,null,null,null,26.06]
[67,"2010-09-23","CH",2538,"2010-09-23","Cristea  ap. 52",107.25,null,null,null,107.25]
[68,"2010-09-23","CH",2539,"2010-09-23","Stănescu  ap. 53",91.34,null,null,null,91.34]
[69,"2010-09-23","CH",2540,"2010-09-23","Dejeu  ap. 54",200,null,null,null,200]
[70,"2010-09-23","CH",2541,"2010-09-23","Feşnic  ap. 55",323.19,null,null,null,323.19]
[71,"2010-09-23","CH",2542,"2010-09-23","Fonoage  ap. 56",21.78,null,null,null,21.78]
[72,"2010-09-23","CH",2543,"2010-09-23","Baras A  ap. 57",74.89,null,null,null,74.89]
[73,"2010-09-23","CH",2544,"2010-09-23","Fărcaş N  ap. 58",50.88,null,null,null,50.88]
[74,"2010-09-23","CH",2545,"2010-09-23","Bagaméri  ap. 59",44.89,null,null,null,44.89]
[75,"2010-09-23","CH",2546,"2010-09-23","Cristovici  ap. 60",49.1,null,null,null,49.1]
[76,"2010-09-23","CH",2547,"2010-09-23","Ureche  ap. 61",118.02,null,null,null,118.02]
[77,"2010-09-23","CH",2548,"2010-09-23","Fabian   ap. 62",66.59,null,null,null,66.59]
[78,"2010-09-23","CH",2549,"2010-09-23","Fărăgău  ap. 63",56.95,null,null,null,56.95]
[79,"2010-09-23","CH",2550,"2010-09-23","Rus  ap. 64",121.29,null,null,null,121.29]
[80,"2010-09-23","CH",2551,"2010-09-23","Pop   ap. 65",161.97,null,null,null,161.97]
[81,"2010-09-23","CH",2552,"2010-09-23","Bejan  ap. 66",81.790000000000006,null,null,null,81.790000000000006]
[82,"2010-09-23","CH",2553,"2010-09-23","Moga  ap. 67",28.23,null,null,null,28.23]
[83,"2010-09-23","CH",2554,"2010-09-23","Legian  ap. 68",26.59,null,null,null,26.59]
[84,"2010-09-23","CH",2555,"2010-09-23","Mocanu  ap. 69",138.88999999999999,null,null,null,138.88999999999999]
[85,"2010-09-23","CH",2556,"2010-09-23","Pop C.  ap. 70",101.89,null,null,null,101.89]
[86,"2010-09-27","CH",151,"2010-09-27","Ibbison ap 20",25.07,null,null,null,25.07]
[87,"2010-09-27","CH",153,"2010-09-27","Tudoran ap 50",795,null,null,null,795]
[88,"2010-09-30",null,null,"2010-09-30","stornare op august",null,-37,null,null,-37]
[89,"2010-09-30","EX",null,"2010-09-30","Dobanda",null,null,0.4,null,0.4]
[null,null,null,null,null,null,{"$f":"SUM(G785:G874)","v":7173.5900000000011},4909.55,0.4,null,{"$f":"SUM(K785:K874)","v":188945.10000000003}]
[null,null,null,null,null,"De reportat",{"$f":"K875","v":188945.10000000003}]
[]
[null,"Intocmit"]
[]
[]
[null,null,null,null,null,"Report",null,null,null,null,{"$f":"G876","v":188945.10000000003}]
[null,"2010-10-01","CH",null,{"$f":"B882","v":"2010-10-01"},"Stat de plata ",null,865,null,null,{"$f":"G882+H882+I882+J882","v":865}]
[null,"2010-10-01","CH",1246751,{"$f":"B883","v":"2010-10-01"},"Salubritate",null,838.84,null,null,838.84]
[null,"2010-10-05","CH",9,{"$f":"B884","v":"2010-10-05"},"Robineti",null,61.8,null,null,61.8]
[null,"2010-10-05","DP",1,{"$f":"B885","v":"2010-10-05"},"Szakacs - reparatii inst term",null,50,null,null,50]
[null,"2010-10-06","BF",351,{"$f":"B886","v":"2010-10-06"},"Matura",null,13.51,null,null,13.51]
[null,"2010-10-11",null,null,null,"Dobanda",null,null,133.12,null,133.12]
[null,"2010-10-11","CH",94540,{"$f":"B888","v":"2010-10-11"},"EON Gaz",null,165,null,null,165]
[null,"2010-10-13","DP",1,"2010-10-13","Reparatii inst termic",null,100,null,null,100]
[null,"2010-10-15","CH",587594,"2010-10-15","Impozit",null,509,null,null,509]
[null,"2010-10-15","CH",1718728,"2010-10-15","Compania de apa",null,2106.86,null,null,2106.86]
[null,"2010-10-20","CH",154,"2010-10-20","Bara ap 6 ch",91.95,null,null,null,91.95]
[null,"2010-10-21","CH",382,"2010-10-21","Detergent",null,24.07,null,null,24.07]
[null,"2010-10-22","CH",155,"2010-10-22","Bugnar ap 2 ch",43.94,null,null,null,43.94]
[null,"2010-10-22","CH",156,"2010-10-22","Micsunescu ap 10 ch",50,null,null,null,50]
[null,"2010-10-26","CH",2558,"2010-10-26","Bugnar  ap. 2",34.619999999999997,null,null,null,34.619999999999997]
[null,"2010-10-26","CH",2559,"2010-10-26","Tunyogi  ap. 3",76.319999999999993,null,null,null,76.319999999999993]
[null,"2010-10-26","CH",2560,"2010-10-26","Garbou  ap. 4",14,null,null,null,14]
[null,"2010-10-26","CH",2561,"2010-10-26","Szép  ap. 5",206.67,null,null,null,206.67]
[null,"2010-10-26","CH",2562,"2010-10-26","Bara  ap. 6",22.06,null,null,null,22.06]
[null,"2010-10-26","CH",2563,"2010-10-26","Colceriu  ap. 7",76.38,null,null,null,76.38]
[null,"2010-10-26","CH",2564,"2010-10-26","Gabor  ap. 8",22.28,null,null,null,22.28]
[null,"2010-10-26","CH",2567,"2010-10-26","Jugrestan  ap. 11",30.56,null,null,null,30.56]
[null,"2010-10-26","CH",2568,"2010-10-26","Tárkányi  ap. 12",128.16999999999999,null,null,null,128.16999999999999]
[null,"2010-10-26","CH",2569,"2010-10-26","Nebert  ap. 13",34.700000000000003,null,null,null,34.700000000000003]
[null,"2010-10-26","CH",2570,"2010-10-26","Crişan  ap. 14",14,null,null,null,14]
[null,"2010-10-26","CH",2571,"2010-10-26","Lazăr  ap. 15",48.28,null,null,null,48.28]
[null,"2010-10-26","CH",2573,"2010-10-26","Mihăescu  ap. 17",86.62,null,null,null,86.62]
[null,"2010-10-26","CH",2574,"2010-10-26","Pop Florin  ap. 18",65.58,null,null,null,65.58]
[null,"2010-10-26","CH",2575,"2010-10-26","Mureşan I  ap. 19",53.21,null,null,null,53.21]
[null,"2010-10-26","CH",2576,"2010-10-26","Ibbison  ap. 20",38.83,null,null,null,38.83]
[null,"2010-10-26","CH",2577,"2010-10-26","Kállai  ap. 21",61.49,null,null,null,61.49]
[null,"2010-10-26","CH",2578,"2010-10-26","Indolean  ap. 22",53.16,null,null,null,53.16]
[null,"2010-10-26","CH",2579,"2010-10-26","Mureşan E  ap. 23",40.79,null,null,null,40.79]
[null,"2010-10-26","CH",2580,"2010-10-26","Stanimir  ap. 23A",81.790000000000006,null,null,null,81.790000000000006]
[null,"2010-10-26","CH",2581,"2010-10-26","Cheţan  ap. 24",71.28,null,null,null,71.28]
[null,"2010-10-26","CH",2582,"2010-10-26","Călin  ap. 25",61.49,null,null,null,61.49]
[null,"2010-10-26","CH",2583,"2010-10-26","Turcu  ap. 26",9.01,null,null,null,9.01]
[null,"2010-10-26","CH",2585,"2010-10-26","Zegreanu  ap. 28",65.069999999999993,null,null,null,65.069999999999993]
[null,"2010-10-26","CH",2586,"2010-10-26","Şerban  ap. 29",51.43,null,null,null,51.43]
[null,"2010-10-26","CH",2587,"2010-10-26","Mihăescu  ap. 30",95.6,null,null,null,95.6]
[null,"2010-10-26","CH",2588,"2010-10-26","Pop R  ap. 31",35.06,null,null,null,35.06]
[null,"2010-10-26","CH",2589,"2010-10-26","Lungu  ap. 32",56.26,null,null,null,56.26]
[null,"2010-10-26","CH",2590,"2010-10-26","Mihuţ  ap. 33",99.79,null,null,null,99.79]
[null,"2010-10-26","CH",2591,"2010-10-26","Postescu  ap. 34",68.680000000000007,null,null,null,68.680000000000007]
[null,"2010-10-26","CH",2592,"2010-10-26","Goia  ap. 35",133.99,null,null,null,133.99]
[null,"2010-10-26","CH",2593,"2010-10-26","Dodu  ap. 36",75.7,null,null,null,75.7]
[null,"2010-10-26","CH",2594,"2010-10-26","Drăghici  ap. 37",72.88,null,null,null,72.88]
[null,"2010-10-26","CH",2595,"2010-10-26","Néda  ap. 38",134.08000000000001,null,null,null,134.08000000000001]
[null,"2010-10-26","CH",2596,"2010-10-26","Vornicescu  ap. 39",109.46,null,null,null,109.46]
[null,"2010-10-26","CH",2597,"2010-10-26","Sparleanu  ap. 40",60.54,null,null,null,60.54]
[null,"2010-10-26","CH",2598,"2010-10-26","Raboca  ap. 41",158.33000000000001,null,null,null,158.33000000000001]
[null,"2010-10-26","CH",2599,"2010-10-26","Negru  ap. 42",68.819999999999993,null,null,null,68.819999999999993]
[null,"2010-10-26","CH",2600,"2010-10-26","Roşescu  ap. 43",74.12,null,null,null,74.12]
[null,"2010-10-26","CH",2601,"2010-10-26","Ursu  ap. 44",48.12,null,null,null,48.12]
[null,"2010-10-26","CH",2602,"2010-10-26","Săcui  ap. 45",44.03,null,null,null,44.03]
[null,"2010-10-26","CH",2603,"2010-10-26","Mărinceanu  ap. 46",125.86,null,null,null,125.86]
[null,"2010-10-26","CH",2604,"2010-10-26","Ricean  ap. 47",31.11,null,null,null,31.11]
[null,"2010-10-26","CH",2605,"2010-10-26","Sabo  ap. 48",78.59,null,null,null,78.59]
[null,"2010-10-26","CH",2606,"2010-10-26","Câmpan  ap. 49",33.86,null,null,null,33.86]
[null,"2010-10-26","CH",2608,"2010-10-26","Ciubotariu  ap. 51",11.45,null,null,null,11.45]
[null,"2010-10-26","CH",2609,"2010-10-26","Cristea  ap. 52",83.38,null,null,null,83.38]
[null,"2010-10-26","CH",2610,"2010-10-26","Stănescu  ap. 53",54,null,null,null,54]
[null,"2010-10-26","CH",2612,"2010-10-26","Feşnic  ap. 55",294.36,null,null,null,294.36]
[null,"2010-10-26","CH",2614,"2010-10-26","Baras A  ap. 57",33.26,null,null,null,33.26]
[null,"2010-10-26","CH",2615,"2010-10-26","Fărcaş N  ap. 58",34.659999999999997,null,null,null,{"$f":"G946+H946+I946+J946","v":34.659999999999997}]
[null,"2010-10-26","CH",2616,"2010-10-26","Bagaméri  ap. 59",29.12,null,null,null,29.12]
[null,"2010-10-26","CH",2617,"2010-10-26","Cristovici  ap. 60",18.170000000000002,null,null,null,18.170000000000002]
[null,"2010-10-26","CH",2618,"2010-10-26","Ureche  ap. 61",96.48,null,null,null,96.48]
[null,"2010-10-26","CH",2619,"2010-10-26","Fabian   ap. 62",64.900000000000006,null,null,null,64.900000000000006]
[null,"2010-10-26","CH",2620,"2010-10-26","Fărăgău  ap. 63",44.28,null,null,null,44.28]
[null,"2010-10-26","CH",2621,"2010-10-26","Rus  ap. 64",133,null,null,null,133]
[null,"2010-10-26","CH",2622,"2010-10-26","Pop   ap. 65",133.66,null,null,null,133.66]
[null,"2010-10-26","CH",2623,"2010-10-26","Bejan  ap. 66",69.12,null,null,null,69.12]
[null,"2010-10-26","CH",2624,"2010-10-26","Moga  ap. 67",14.03,null,null,null,14.03]
[null,"2010-10-26","CH",2625,"2010-10-26","Legian  ap. 68",237.58,null,null,null,237.58]
[null,"2010-10-26","CH",2626,"2010-10-26","Mocanu  ap. 69",100.62,null,null,null,100.62]
[null,"2010-10-26","CH",2627,"2010-10-26","Pop C.  ap. 70",108.9,null,null,null,108.9]
[null,"2010-10-27","BF",105,{"$f":"B959","v":"2010-10-27"},"maturoaie",null,25.51,null,null,25.51]
[null,"2010-10-28","CH",6501,"2010-10-28","Electrica sc 1",null,16.8,null,null,16.8]
[null,"2010-10-28","CH",6601,"2010-10-28","Electrica sc 2",null,13,null,null,13]
[null,"2010-10-28","CH",6701,"2010-10-28","Electrica sc 3",null,23.31,null,null,23.31]
[null,"2010-10-28","CH",9701,"2010-10-28","Electrica sc 4",null,9.2200000000000006,null,null,9.2200000000000006]
[null,"2010-10-28","CH",9801,"2010-10-28","Electrica sc 5",null,11.93,null,null,11.93]
[null,"2010-10-28","CH",9901,"2010-10-28","Electrica sc 6",null,7.05,null,null,7.05]
[null,"2010-10-28","CH",1028,"2010-10-28","Termoficare",null,765,null,null,765]
[null,null,null,null,null,null,null,null,null,null,0]
[null,null,null,null,null,null,null,null,null,null,0]
[null,null,null,null,null,null,null,null,null,null,0]
[null,"2010-11-24","CH",2628,"2010-11-24","Lăpuştea  ap. 1",null,72.63,null,null,72.63]
[null,"2010-11-24","CH",2629,"2010-11-24","Bugnar  ap. 2",null,53.74,null,null,53.74]
[null,"2010-11-24","CH",2630,"2010-11-24","Tunyogi  ap. 3",null,222.5,null,null,222.5]
[null,"2010-11-24","CH",2631,"2010-11-24","Garbou  ap. 4",null,64.36,null,null,64.36]
[null,"2010-11-24","CH",2632,"2010-11-24","Szép  ap. 5",null,411.64,null,null,411.64]
[null,"2010-11-24","CH",2633,"2010-11-24","Bara  ap. 6",null,152.68,null,null,152.68]
[null,"2010-11-24","CH",2634,"2010-11-24","Colceriu  ap. 7",null,182.79,null,null,182.79]
[null,"2010-11-24","CH",2635,"2010-11-24","Gabor  ap. 8",null,51.77,null,null,51.77]
[null,"2010-11-24","CH",2636,"2010-11-24","Neamţ  ap. 9",null,124.13,null,null,124.13]
[null,"2010-11-24","CH",2637,"2010-11-24","Micşunescu  ap. 10",null,42.71,null,null,42.71]
[null,"2010-11-24","CH",2638,"2010-11-24","Jugrestan  ap. 11",null,51.77,null,null,51.77]
[null,"2010-11-24","CH",2639,"2010-11-24","Tárkányi  ap. 12",null,277.98,null,null,277.98]
[null,"2010-11-24","CH",2640,"2010-11-24","Nebert  ap. 13",null,45.4,null,null,45.4]
[null,"2010-11-24","CH",2641,"2010-11-24","Crişan  ap. 14",null,28.28,null,null,28.28]
[null,"2010-11-24","CH",2642,"2010-11-24","Lazăr  ap. 15",null,64.459999999999994,null,null,64.459999999999994]
[null,"2010-11-24","CH",2643,"2010-11-24","Vescan  ap. 16",null,111.93,null,null,111.93]
[null,"2010-11-24","CH",2644,"2010-11-24","Mihăescu  ap. 17",null,272.38,null,null,272.38]
[null,"2010-11-24","CH",2645,"2010-11-24","Pop Florin  ap. 18",null,89.31,null,null,89.31]
[null,"2010-11-24","CH",2646,"2010-11-24","Mureşan I  ap. 19",null,74.099999999999994,null,null,74.099999999999994]
[null,"2010-11-24","CH",2647,"2010-11-24","Ibbison  ap. 20",null,59,null,null,59]
[null,"2010-11-24","CH",2648,"2010-11-24","Kállai  ap. 21",null,78.63,null,null,78.63]
[null,"2010-11-24","CH",2649,"2010-11-24","Indolean  ap. 22",null,67.66,null,null,67.66]
[null,"2010-11-24","CH",2650,"2010-11-24","Mureşan E  ap. 23",null,65.64,null,null,65.64]
[null,"2010-11-24","CH",2651,"2010-11-24","Stanimir  ap. 23A",null,70.45,null,null,70.45]
[null,"2010-11-24","CH",2652,"2010-11-24","Cheţan  ap. 24",null,85.57,null,null,85.57]
[null,"2010-11-24","CH",2653,"2010-11-24","Călin  ap. 25",null,82.96,null,null,82.96]
[null,"2010-11-24","CH",2654,"2010-11-24","Turcu  ap. 26",null,23.29,null,null,23.29]
[null,"2010-11-24","CH",2655,"2010-11-24","Creţeanu  ap. 27",null,145.01,null,null,145.01]
[null,"2010-11-24","CH",2656,"2010-11-24","Zegreanu  ap. 28",null,243.37,null,null,243.37]
[null,"2010-11-24","CH",2657,"2010-11-24","Şerban  ap. 29",null,270.73,null,null,270.73]
[null,"2010-11-24","CH",2658,"2010-11-24","Mihăescu  ap. 30",null,263.58999999999997,null,null,263.58999999999997]
[null,"2010-11-24","CH",2659,"2010-11-24","Pop R  ap. 31",null,232.2,null,null,232.2]
[null,"2010-11-24","CH",2660,"2010-11-24","Lungu  ap. 32",null,88.32,null,null,88.32]
[null,"2010-11-24","CH",2661,"2010-11-24","Mihuţ  ap. 33",null,308.16000000000003,null,null,308.16000000000003]
[null,"2010-11-24","CH",2662,"2010-11-24","Postescu  ap. 34",null,78.02,null,null,78.02]
[null,"2010-11-24","CH",2663,"2010-11-24","Goia  ap. 35",null,325.07,null,null,325.07]
[null,"2010-11-24","CH",2664,"2010-11-24","Dodu  ap. 36",null,266.02999999999997,null,null,266.02999999999997]
[null,"2010-11-24","CH",2665,"2010-11-24","Drăghici  ap. 37",null,93.08,null,null,93.08]
[null,"2010-11-24","CH",2666,"2010-11-24","Néda  ap. 38",null,301.68,null,null,301.68]
[null,"2010-11-24","CH",2667,"2010-11-24","Vornicescu  ap. 39",null,99.68,null,null,99.68]
[null,"2010-11-24","CH",2668,"2010-11-24","Sparleanu  ap. 40",null,90.71,null,null,{"$f":"G1010+H1010+I1010+J1010","v":90.71}]
[null,"2010-11-24","CH",2669,"2010-11-24","Raboca  ap. 41",null,331.48,null,null,331.48]
[null,"2010-11-24","CH",2670,"2010-11-24","Negru  ap. 42",null,116.69,null,null,116.69]
[null,"2010-11-24","CH",2671,"2010-11-24","Roşescu  ap. 43",null,126.59,null,null,126.59]
[null,"2010-11-24","CH",2672,"2010-11-24","Ursu  ap. 44",null,63.09,null,null,63.09]
[null,"2010-11-24","CH",2673,"2010-11-24","Săcui  ap. 45",null,61.07,null,null,61.07]
[null,"2010-11-24","CH",2674,"2010-11-24","Mărinceanu  ap. 46",null,296.52,null,null,296.52]
[null,"2010-11-24","CH",2675,"2010-11-24","Ricean  ap. 47",null,78.16,null,null,78.16]
[null,"2010-11-24","CH",2676,"2010-11-24","Sabo  ap. 48",null,284.86,null,null,284.86]
[null,"2010-11-24","CH",2677,"2010-11-24","Câmpan  ap. 49",null,263.05,null,null,263.05]
[null,"2010-11-24","CH",2678,"2010-11-24","Tudoran  ap. 50",null,450.18,null,null,450.18]
[null,"2010-11-24","CH",2679,"2010-11-24","Ciubotariu  ap. 51",null,244.7,null,null,244.7]
[null,"2010-11-24","CH",2680,"2010-11-24","Cristea  ap. 52",null,287.02,null,null,287.02]
[null,"2010-11-24","CH",2681,"2010-11-24","Stănescu  ap. 53",null,229.17,null,null,229.17]
[null,"2010-11-24","CH",2682,"2010-11-24","Dejeu  ap. 54",null,182.24,null,null,182.24]
[null,"2010-11-24","CH",2683,"2010-11-24","Feşnic  ap. 55",null,482.67,null,null,482.67]
[null,"2010-11-24","CH",2684,"2010-11-24","Fonoage  ap. 56",null,149.49,null,null,149.49]
[null,"2010-11-24","CH",2685,"2010-11-24","Baras A  ap. 57",null,161.69999999999999,null,null,161.69999999999999]
[null,"2010-11-24","CH",2686,"2010-11-24","Fărcaş N  ap. 58",null,58.81,null,null,58.81]
[null,"2010-11-24","CH",2687,"2010-11-24","Bagaméri  ap. 59",null,183.08,null,null,183.08]
[null,"2010-11-24","CH",2688,"2010-11-24","Cristovici  ap. 60",null,68.81,null,null,68.81]
[null,"2010-11-24","CH",2689,"2010-11-24","Ureche  ap. 61",null,125.52,null,null,125.52]
[null,"2010-11-24","CH",2690,"2010-11-24","Fabian   ap. 62",null,88.37,null,null,88.37]
[null,"2010-11-24","CH",2691,"2010-11-24","Fărăgău  ap. 63",null,73.41,null,null,73.41]
[null,"2010-11-24","CH",2692,"2010-11-24","Rus  ap. 64",null,273.97000000000003,null,null,273.97000000000003]
[null,"2010-11-24","CH",2693,"2010-11-24","Pop   ap. 65",null,153.87,null,null,153.87]
[null,"2010-11-24","CH",2694,"2010-11-24","Bejan  ap. 66",null,103.72,null,null,103.72]
[null,"2010-11-24","CH",2695,"2010-11-24","Moga  ap. 67",null,86,null,null,86]
[null,"2010-11-01","CH",1307196,null,".",null,838.84,null,null,838.84]
[null,"2010-11-01",null,null,null,"Stat de plata ",null,865,null,null,865]
[null,"2010-11-06",null,207,null,"Becuri",null,11.7,null,null,11.7]
[null,"2010-11-08",null,487,null,"Mop",null,3.06,null,null,3.06]
[null,"2010-11-16",null,40206,null,"EON Gaz",null,177,null,null,177]
[null,"2010-11-16",null,157,null,"Neamţ  ap. 9 ch",83.73]
[null,"2010-11-19",null,158,null,"Neamt ap 9 CH",81.400000000000006]
[null,"2010-11-19",null,159,null,"Dejeu  ap. 54 ch",226.17]
[null,"2010-11-16",null,161,null,"Micşunescu  ap. 10 ch",71.849999999999994]
[null,"2010-11-20",null,131,null,"saci plastic",null,8.52]
[null,"2010-11-20",null,131,null,"maturoate",null,20]
[null,"2010-11-22",null,1122,null,"Electrica",null,10.85]
[null,"2010-11-22",null,1122,null,"Electrica",null,17.34]
[null,"2010-11-22",null,162,null,"Creţeanu  ap. 27",154.13999999999999]
[null,"2010-11-24",null,163,null,"Tudoran  ap. 50",350]
[null,"2010-11-24",null,1731759,null,"Compania de apa",null,2486.9899999999998]
[null,"2010-11-24",null,1124,null,"Termoficare",null,6456]
[null,"2010-11-25",null,1,null,"Farcas ap 58 restituire",null,600]

{"sheet":"ian","index":20,"n_rows":50,"n_cols":18,"rows_kept":50,"cut":false,"hidden":false,"merged":[[0,2,0,4]]}
[null,"Data","Document primar",null,null,null,null,null,null,null,"Sold final",{"$f":"J50","v":2943.6700000000023},"luna",2,"salar"]
["Nr crt"," inreg","Tip doc","Nr doc ","din","Ap","Explicatii","Incasari","Plati","Sold","Decontat","Statistica",1,3,"impozite si taxe"]
[null,null,null,null,null,null,"Sold preluat",null,null,5756.7200000000021,null,null,null,4,"salubritate"]
[1,"2011-01-03",null,null,{"$f":"B4","v":"2011-01-03"},null,"stat de plata",null,1059,{"$f":"J3+H4-I4","v":4697.7200000000021},"Decontat",2,null,5,"termoficare"]
[{"$f":"A4+1","v":2},"2011-01-03","CH",1353568,{"$f":"B5","v":"2011-01-03"},null,"salubritate",null,837.45,{"$f":"J4+H5-I5","v":3860.2700000000023},"Decontat",4,null,6,"apa canal"]
[{"$f":"A5+1","v":3},"2011-01-12","CH",96720,"2011-01-12",null,"gaz",null,287,3573.2700000000023,null,7,null,7,"gaz"]
[4,"2011-01-17","CH",3419281,"2011-01-17",null,"impozit",null,585,2988.2700000000023,null,3,null,8,"electrica",null,null,"Pagina este facuta pentru 47 de inregistrari."]
[5,"2011-01-17","CH","fn","2011-01-17",null,"maturoaie",null,120,2868.2700000000023,null,12,null,9,"manopera",null,null,"Daca este nevoie se poate copia umtimul rand de cate ori este necesar."]
[6,"2011-01-18","CH",171,"2011-01-18",9,"Neamt",158.88999999999999,null,3027.1600000000021,null,31,null,10,"materiale",null,null,"In acest caz se va modifica , formula din celula L1."]
[7,"2011-01-20","CH",1422,"2011-01-20",null,"Electrica sc1",null,16.8,3010.3600000000019,null,8,null,11,"deratizare"]
[8,"2011-01-20","CH",1423,"2011-01-20",null,"Electrica sc2",null,12.47,2997.8900000000021,null,8,null,12,"necesare curatenie",null,null,"In coloana L se pot insera simboluri pentru statistica."]
[9,"2011-01-20","CH",1424,"2011-01-20",null,"Electrica sc3",null,26.02,2971.8700000000022,null,8,null,13,"curatat zona verde",null,null,"Daca se pasa butonul corespunzator chletuielile incasarile din luna se pot trnsfera in pagina de statistica."]
[10,"2011-01-20","CH",1425,"2011-01-20",null,"Electrica sc4",null,9.2200000000000006,2962.6500000000024,null,8,null,14,"flori",null,null,"Codurile de statistica sunt in coloana N, tranferul se face in pagina chelt, in randul corespunzator"]
[11,"2011-01-20","CH",1426,"2011-01-20",null,"Electrica sc5",null,11.93,2950.7200000000025,null,8,null,15,"benzina, fir"]
[12,"2011-01-20","CH",1427,"2011-01-20",null,"Electrica sc6",null,7.05,2943.6700000000023,null,8,null,16,"birotica",null,null,"se pot modifica descririle pentru codurile de statistica, exceptie 33,34 si 36"]
[13,null,null,null,"00:00:00",null,null,null,null,2943.6700000000023,null,null,null,17,"diverse"]
[14,null,null,null,"00:00:00",null,null,null,null,2943.6700000000023,null,null,null,18," "]
[15,null,null,null,"00:00:00",null,null,null,null,2943.6700000000023,null,null,null,19," "]
[16,null,null,null,"00:00:00",null,null,null,null,2943.6700000000023,null,null,null,20," "]
[17,null,null,null,"00:00:00",null,null,null,null,2943.6700000000023,null,null,null,21," "]
[18,null,null,null,"00:00:00",null,null,null,null,2943.6700000000023,null,null,null,22," "]
[19,null,null,null,"00:00:00",null,null,null,null,2943.6700000000023,null,null,null,23,"d"]
[20,null,null,null,"00:00:00",null,null,null,null,2943.6700000000023,null,null,null,24,"d"]
[21,null,null,null,"00:00:00",null,null,null,null,2943.6700000000023,null,null,null,31,"cheltuieli"]
[22,null,null,null,"00:00:00",null,null,null,null,2943.6700000000023,null,null,null,32,"restante"]
[23,null,null,null,"00:00:00",null,null,null,null,2943.6700000000023,null,null,null,33,"fond rulment"]
[24,null,null,null,"00:00:00",null,null,null,null,2943.6700000000023,null,null,null,34,"fond reparatii"]
[25,null,null,null,"00:00:00",null,null,null,null,2943.6700000000023,null,null,null,35,"diverse"]
[26,null,null,null,"00:00:00",null,null,null,null,2943.6700000000023,null,null,null,36,"penalizari"]
[27,null,null,null,"00:00:00",null,null,null,null,2943.6700000000023,null,null,null,null," "]
[28,null,null,null,"00:00:00",null,null,null,null,2943.6700000000023,null,null,null,null," "]
[29,null,null,null,"00:00:00",null,null,null,null,2943.6700000000023]
[30,null,null,null,"00:00:00",null,null,null,null,2943.6700000000023]
[31,null,null,null,"00:00:00",null,null,null,null,2943.6700000000023]
[32,null,null,null,"00:00:00",null,null,null,null,2943.6700000000023]
[33,null,null,null,"00:00:00",null,null,null,null,2943.6700000000023]
[34,null,null,null,"00:00:00",null,null,null,null,2943.6700000000023]
[35,null,null,null,"00:00:00",null,null,null,null,2943.6700000000023]
[36,null,null,null,"00:00:00",null,null,null,null,2943.6700000000023]
[37,null,null,null,"00:00:00",null,null,null,null,2943.6700000000023]
[38,null,null,null,"00:00:00",null,null,null,null,2943.6700000000023]
[39,null,null,null,"00:00:00",null,null,null,null,2943.6700000000023]
[40,null,null,null,"00:00:00",null,null,null,null,2943.6700000000023]
[41,null,null,null,"00:00:00",null,null,null,null,2943.6700000000023]
[42,null,null,null,"00:00:00",null,null,null,null,2943.6700000000023]
[43,null,null,null,"00:00:00",null,null,null,null,2943.6700000000023]
[44,null,null,null,"00:00:00",null,null,null,null,2943.6700000000023]
[45,null,null,null,"00:00:00",null,null,null,null,2943.6700000000023]
[46,null,null,null,"00:00:00",null,null,null,null,2943.6700000000023]
[47,null,null,null,"00:00:00",null,null,null,null,2943.6700000000023]

{"sheet":"feb","index":21,"n_rows":50,"n_cols":15,"rows_kept":50,"cut":false,"hidden":false,"merged":[[0,2,0,4]]}
[null,"Data","Document primar",null,null,null,null,null,null,null,"Sold final",{"$f":"J50","v":2943.6700000000023},"luna",2,"salar"]
["Nr crt"," inreg","Tip doc","Nr doc ","din","Ap","Explicatii","Incasari","Plati","Sold","Decontat","Statistica",2,3,"impozite si taxe"]
[null,null,null,null,null,null,"Sold preluat",{"$f":"ian!L1","v":2943.6700000000023},null,{"$f":"H3","v":2943.6700000000023},null,null,null,4,"salubtitate"]
[1,null,null,null,{"$f":"B4","v":"00:00:00"},null,null,null,null,{"$f":"J3+H4-I4","v":2943.6700000000023},null,null,null,5,"termoficare"]
[{"$f":"A4+1","v":2},null,null,null,{"$f":"B5","v":"00:00:00"},null,null,null,null,{"$f":"J4+H5-I5","v":2943.6700000000023},null,null,null,6,"apa canal"]
[{"$f":"A5+1","v":3},null,null,null,"00:00:00",null,null,null,null,2943.6700000000023,null,null,null,7,"gaz"]
[4,null,null,null,"00:00:00",null,null,null,null,2943.6700000000023,null,null,null,8,"electrica"]
[5,null,null,null,"00:00:00",null,null,null,null,2943.6700000000023,null,null,null,10,"manopera"]
[6,null,null,null,"00:00:00",null,null,null,null,2943.6700000000023,null,null,null,11,"materiale"]
[7,null,null,null,"00:00:00",null,null,null,null,2943.6700000000023,null,null,null,12,"deratizare"]
[8,null,null,null,"00:00:00",null,null,null,null,2943.6700000000023,null,null,null,13,"necesare curatenie"]
[9,null,null,null,"00:00:00",null,null,null,null,2943.6700000000023,null,null,null,14,"curatat zona verde"]
[10,null,null,null,"00:00:00",null,null,null,null,2943.6700000000023,null,null,null,15,"flori"]
[11,null,null,null,"00:00:00",null,null,null,null,2943.6700000000023,null,null,null,16,"benzina, fir"]
[12,null,null,null,"00:00:00",null,null,null,null,{"$f":"J14+H16-I15","v":2943.6700000000023},null,null,null,17,"birotica"]
[13,null,null,null,"00:00:00",null,null,null,null,{"$f":"J15+H17-I16","v":2943.6700000000023},null,null,null,18,"diverse"]
[14,null,null,null,"00:00:00",null,null,null,null,{"$f":"J16+H18-I17","v":2943.6700000000023},null,null,null,19]
[15,null,null,null,"00:00:00",null,null,null,null,2943.6700000000023]
[16,null,null,null,"00:00:00",null,null,null,null,2943.6700000000023]
[17,null,null,null,"00:00:00",null,null,null,null,2943.6700000000023]
[18,null,null,null,"00:00:00",null,null,null,null,2943.6700000000023]
[19,null,null,null,"00:00:00",null,null,null,null,2943.6700000000023]
[20,null,null,null,"00:00:00",null,null,null,null,2943.6700000000023,null,null,null,31,"cheltuieli"]
[21,null,null,null,"00:00:00",null,null,null,null,2943.6700000000023,null,null,null,32,"restante"]
[22,null,null,null,"00:00:00",null,null,null,null,2943.6700000000023,null,null,null,33,"fond rulment"]
[23,null,null,null,"00:00:00",null,null,null,null,2943.6700000000023,null,null,null,34,"fond reparatii"]
[24,null,null,null,"00:00:00",null,null,null,null,2943.6700000000023,null,null,null,35,"diverse"]
[25,null,null,null,"00:00:00",null,null,null,null,2943.6700000000023,null,null,null,36,"penalizari"]
[26,null,null,null,"00:00:00",null,null,null,null,2943.6700000000023]
[27,null,null,null,"00:00:00",null,null,null,null,2943.6700000000023]
[28,null,null,null,"00:00:00",null,null,null,null,2943.6700000000023]
[29,null,null,null,"00:00:00",null,null,null,null,2943.6700000000023]
[30,null,null,null,"00:00:00",null,null,null,null,2943.6700000000023]
[31,null,null,null,"00:00:00",null,null,null,null,2943.6700000000023]
[32,null,null,null,"00:00:00",null,null,null,null,2943.6700000000023]
[33,null,null,null,"00:00:00",null,null,null,null,2943.6700000000023]
[34,null,null,null,"00:00:00",null,null,null,null,2943.6700000000023]
[35,null,null,null,"00:00:00",null,null,null,null,2943.6700000000023]
[36,null,null,null,"00:00:00",null,null,null,null,2943.6700000000023]
[37,null,null,null,"00:00:00",null,null,null,null,2943.6700000000023]
[38,null,null,null,"00:00:00",null,null,null,null,2943.6700000000023]
[39,null,null,null,"00:00:00",null,null,null,null,2943.6700000000023]
[40,null,null,null,"00:00:00",null,null,null,null,2943.6700000000023]
[41,null,null,null,"00:00:00",null,null,null,null,2943.6700000000023]
[42,null,null,null,"00:00:00",null,null,null,null,2943.6700000000023]
[43,null,null,null,"00:00:00",null,null,null,null,2943.6700000000023]
[44,null,null,null,"00:00:00",null,null,null,null,2943.6700000000023]
[45,null,null,null,"00:00:00",null,null,null,null,2943.6700000000023]
[46,null,null,null,"00:00:00",null,null,null,null,2943.6700000000023]
[47,null,null,null,"00:00:00",null,null,null,null,2943.6700000000023]

{"sheet":"mar","index":22,"n_rows":50,"n_cols":15,"rows_kept":50,"cut":false,"hidden":false,"merged":[[0,2,0,4]]}
[null,"Data","Document primar",null,null,null,null,null,null,null,"Sold final",{"$f":"J50","v":2943.6700000000023},"luna",2,"salar"]
["Nr crt"," inreg","Tip doc","Nr doc ","din","Ap","Explicatii","Incasari","Plati","Sold","Decontat","Statistica",3,3,"impozite si taxe"]
[null,null,null,null,null,null,"Sold preluat",{"$f":"ian!L1","v":2943.6700000000023},null,{"$f":"H3","v":2943.6700000000023},null,null,null,4,"salubtitate"]
[null,null,null,null,{"$f":"B4","v":"00:00:00"},null,null,null,null,{"$f":"J3+H4-I4","v":2943.6700000000023},null,null,null,5,"termoficare"]
[null,null,null,null,{"$f":"B5","v":"00:00:00"},null,null,null,null,{"$f":"J4+H5-I5","v":2943.6700000000023},null,null,null,6,"apa canal"]
[null,null,null,null,"00:00:00",null,null,null,null,2943.6700000000023,null,null,null,7,"gaz"]
[null,null,null,null,"00:00:00",null,null,null,null,2943.6700000000023,null,null,null,8,"electrica"]
[null,null,null,null,"00:00:00",null,null,null,null,2943.6700000000023,null,null,null,10,"manopera"]
[null,null,null,null,"00:00:00",null,null,null,null,2943.6700000000023,null,null,null,11,"materiale"]
[null,null,null,null,"00:00:00",null,null,null,null,2943.6700000000023,null,null,null,12,"deratizare"]
[null,null,null,null,"00:00:00",null,null,null,null,2943.6700000000023,null,null,null,13,"necesare curatenie"]
[null,null,null,null,"00:00:00",null,null,null,null,2943.6700000000023,null,null,null,14,"curatat zona verde"]
[null,null,null,null,"00:00:00",null,null,null,null,2943.6700000000023,null,null,null,15,"flori"]
[null,null,null,null,"00:00:00",null,null,null,null,2943.6700000000023,null,null,null,16,"benzina, fir"]
[null,null,null,null,"00:00:00",null,null,null,null,2943.6700000000023,null,null,null,17,"birotica"]
[null,null,null,null,"00:00:00",null,null,null,null,2943.6700000000023,null,null,null,18,"diverse"]
[null,null,null,null,"00:00:00",null,null,null,null,2943.6700000000023,null,null,null,19]
[null,null,null,null,"00:00:00",null,null,null,null,2943.6700000000023]
[null,null,null,null,"00:00:00",null,null,null,null,2943.6700000000023]
[null,null,null,null,"00:00:00",null,null,null,null,2943.6700000000023]
[null,null,null,null,"00:00:00",null,null,null,null,2943.6700000000023]
[null,null,null,null,"00:00:00",null,null,null,null,2943.6700000000023]
[null,null,null,null,"00:00:00",null,null,null,null,2943.6700000000023,null,null,null,31,"cheltuieli"]
[null,null,null,null,"00:00:00",null,null,null,null,2943.6700000000023,null,null,null,32,"restante"]
[null,null,null,null,"00:00:00",null,null,null,null,2943.6700000000023,null,null,null,33,"fond rulment"]
[null,null,null,null,"00:00:00",null,null,null,null,2943.6700000000023,null,null,null,34,"fond reparatii"]
[null,null,null,null,"00:00:00",null,null,null,null,2943.6700000000023,null,null,null,35,"diverse"]
[null,null,null,null,"00:00:00",null,null,null,null,2943.6700000000023,null,null,null,36,"penalizari"]
[null,null,null,null,"00:00:00",null,null,null,null,2943.6700000000023]
[null,null,null,null,"00:00:00",null,null,null,null,2943.6700000000023]
[null,null,null,null,"00:00:00",null,null,null,null,2943.6700000000023]
[null,null,null,null,"00:00:00",null,null,null,null,2943.6700000000023]
[null,null,null,null,"00:00:00",null,null,null,null,2943.6700000000023]
[null,null,null,null,"00:00:00",null,null,null,null,2943.6700000000023]
[null,null,null,null,"00:00:00",null,null,null,null,2943.6700000000023]
[null,null,null,null,"00:00:00",null,null,null,null,2943.6700000000023]
[null,null,null,null,"00:00:00",null,null,null,null,2943.6700000000023]
[null,null,null,null,"00:00:00",null,null,null,null,2943.6700000000023]
[null,null,null,null,"00:00:00",null,null,null,null,2943.6700000000023]
[null,null,null,null,"00:00:00",null,null,null,null,2943.6700000000023]
[null,null,null,null,"00:00:00",null,null,null,null,2943.6700000000023]
[null,null,null,null,"00:00:00",null,null,null,null,2943.6700000000023]
[null,null,null,null,"00:00:00",null,null,null,null,2943.6700000000023]
[null,null,null,null,"00:00:00",null,null,null,null,2943.6700000000023]
[null,null,null,null,"00:00:00",null,null,null,null,2943.6700000000023]
[null,null,null,null,"00:00:00",null,null,null,null,2943.6700000000023]
[null,null,null,null,"00:00:00",null,null,null,null,2943.6700000000023]
[null,null,null,null,"00:00:00",null,null,null,null,2943.6700000000023]
[null,null,null,null,"00:00:00",null,null,null,null,2943.6700000000023]
[null,null,null,null,"00:00:00",null,null,null,null,2943.6700000000023]

{"sheet":"apr","index":23,"n_rows":50,"n_cols":15,"rows_kept":50,"cut":false,"hidden":false,"merged":[[0,2,0,4]]}
[null,"Data","Document primar",null,null,null,null,null,null,null,"Sold final",{"$f":"J50","v":2943.6700000000023},"luna",2,"salar"]
["Nr crt"," inreg","Tip doc","Nr doc ","din","Ap","Explicatii","Incasari","Plati","Sold","Decontat","Statistica",4,3,"impozite si taxe"]
[null,null,null,null,null,null,"Sold preluat",{"$f":"mar!L1","v":2943.6700000000023},null,{"$f":"H3","v":2943.6700000000023},null,null,null,4,"salubtitate"]
[null,null,null,null,{"$f":"B4","v":"00:00:00"},null,null,null,null,{"$f":"J3+H4-I4","v":2943.6700000000023},null,null,null,5,"termoficare"]
[null,null,null,null,{"$f":"B5","v":"00:00:00"},null,null,null,null,{"$f":"J4+H5-I5","v":2943.6700000000023},null,null,null,6,"apa canal"]
[null,null,null,null,"00:00:00",null,null,null,null,2943.6700000000023,null,null,null,7,"gaz"]
[null,null,null,null,"00:00:00",null,null,null,null,2943.6700000000023,null,null,null,8,"electrica"]
[null,null,null,null,"00:00:00",null,null,null,null,2943.6700000000023,null,null,null,10,"manopera"]
[null,null,null,null,"00:00:00",null,null,null,null,2943.6700000000023,null,null,null,11,"materiale"]
[null,null,null,null,"00:00:00",null,null,null,null,2943.6700000000023,null,null,null,12,"deratizare"]
[null,null,null,null,"00:00:00",null,null,null,null,2943.6700000000023,null,null,null,13,"necesare curatenie"]
[null,null,null,null,"00:00:00",null,null,null,null,2943.6700000000023,null,null,null,14,"curatat zona verde"]
[null,null,null,null,"00:00:00",null,null,null,null,2943.6700000000023,null,null,null,15,"flori"]
[null,null,null,null,"00:00:00",null,null,null,null,2943.6700000000023,null,null,null,16,"benzina, fir"]
[null,null,null,null,"00:00:00",null,null,null,null,2943.6700000000023,null,null,null,17,"birotica"]
[null,null,null,null,"00:00:00",null,null,null,null,2943.6700000000023,null,null,null,18,"diverse"]
[null,null,null,null,"00:00:00",null,null,null,null,2943.6700000000023,null,null,null,19]
[null,null,null,null,"00:00:00",null,null,null,null,2943.6700000000023]
[null,null,null,null,"00:00:00",null,null,null,null,2943.6700000000023]
[null,null,null,null,"00:00:00",null,null,null,null,2943.6700000000023]
[null,null,null,null,"00:00:00",null,null,null,null,2943.6700000000023]
[null,null,null,null,"00:00:00",null,null,null,null,2943.6700000000023]
[null,null,null,null,"00:00:00",null,null,null,null,2943.6700000000023,null,null,null,31,"cheltuieli"]
[null,null,null,null,"00:00:00",null,null,null,null,2943.6700000000023,null,null,null,32,"restante"]
[null,null,null,null,"00:00:00",null,null,null,null,2943.6700000000023,null,null,null,33,"fond rulment"]
[null,null,null,null,"00:00:00",null,null,null,null,2943.6700000000023,null,null,null,34,"fond reparatii"]
[null,null,null,null,"00:00:00",null,null,null,null,2943.6700000000023,null,null,null,35,"diverse"]
[null,null,null,null,"00:00:00",null,null,null,null,2943.6700000000023,null,null,null,36,"penalizari"]
[null,null,null,null,"00:00:00",null,null,null,null,2943.6700000000023]
[null,null,null,null,"00:00:00",null,null,null,null,2943.6700000000023]
[null,null,null,null,"00:00:00",null,null,null,null,2943.6700000000023]
[null,null,null,null,"00:00:00",null,null,null,null,2943.6700000000023]
[null,null,null,null,"00:00:00",null,null,null,null,2943.6700000000023]
[null,null,null,null,"00:00:00",null,null,null,null,2943.6700000000023]
[null,null,null,null,"00:00:00",null,null,null,null,2943.6700000000023]
[null,null,null,null,"00:00:00",null,null,null,null,2943.6700000000023]
[null,null,null,null,"00:00:00",null,null,null,null,2943.6700000000023]
[null,null,null,null,"00:00:00",null,null,null,null,2943.6700000000023]
[null,null,null,null,"00:00:00",null,null,null,null,2943.6700000000023]
[null,null,null,null,"00:00:00",null,null,null,null,2943.6700000000023]
[null,null,null,null,"00:00:00",null,null,null,null,2943.6700000000023]
[null,null,null,null,"00:00:00",null,null,null,null,2943.6700000000023]
[null,null,null,null,"00:00:00",null,null,null,null,2943.6700000000023]
[null,null,null,null,"00:00:00",null,null,null,null,2943.6700000000023]
[null,null,null,null,"00:00:00",null,null,null,null,2943.6700000000023]
[null,null,null,null,"00:00:00",null,null,null,null,2943.6700000000023]
[null,null,null,null,"00:00:00",null,null,null,null,2943.6700000000023]
[null,null,null,null,"00:00:00",null,null,null,null,2943.6700000000023]
[null,null,null,null,"00:00:00",null,null,null,null,2943.6700000000023]
[null,null,null,null,"00:00:00",null,null,null,null,2943.6700000000023]

{"sheet":"mai","index":24,"n_rows":50,"n_cols":15,"rows_kept":50,"cut":false,"hidden":false,"merged":[[0,2,0,4]]}
[null,"Data","Document primar",null,null,null,null,null,null,null,"Sold final",{"$f":"J50","v":2943.6700000000023},"luna",2,"salar"]
["Nr crt"," inreg","Tip doc","Nr doc ","din","Ap","Explicatii","Incasari","Plati","Sold","Decontat","Statistica",5,3,"impozite si taxe"]
[null,null,null,null,null,null,"Sold preluat",{"$f":"apr!L1","v":2943.6700000000023},null,{"$f":"H3","v":2943.6700000000023},null,null,null,4,"salubtitate"]
[null,null,null,null,{"$f":"B4","v":"00:00:00"},null,null,null,null,{"$f":"J3+H4-I4","v":2943.6700000000023},null,null,null,5,"termoficare"]
[null,null,null,null,{"$f":"B5","v":"00:00:00"},null,null,null,null,{"$f":"J4+H5-I5","v":2943.6700000000023},null,null,null,6,"apa canal"]
[null,null,null,null,"00:00:00",null,null,null,null,2943.6700000000023,null,null,null,7,"gaz"]
[null,null,null,null,"00:00:00",null,null,null,null,2943.6700000000023,null,null,null,8,"electrica"]
[null,null,null,null,"00:00:00",null,null,null,null,2943.6700000000023,null,null,null,10,"manopera"]
[null,null,null,null,"00:00:00",null,null,null,null,2943.6700000000023,null,null,null,11,"materiale"]
[null,null,null,null,"00:00:00",null,null,null,null,2943.6700000000023,null,null,null,12,"deratizare"]
[null,null,null,null,"00:00:00",null,null,null,null,2943.6700000000023,null,null,null,13,"necesare curatenie"]
[null,null,null,null,"00:00:00",null,null,null,null,2943.6700000000023,null,null,null,14,"curatat zona verde"]
[null,null,null,null,"00:00:00",null,null,null,null,2943.6700000000023,null,null,null,15,"flori"]
[null,null,null,null,"00:00:00",null,null,null,null,2943.6700000000023,null,null,null,16,"benzina, fir"]
[null,null,null,null,"00:00:00",null,null,null,null,2943.6700000000023,null,null,null,17,"birotica"]
[null,null,null,null,"00:00:00",null,null,null,null,2943.6700000000023,null,null,null,18,"diverse"]
[null,null,null,null,"00:00:00",null,null,null,null,2943.6700000000023,null,null,null,19]
[null,null,null,null,"00:00:00",null,null,null,null,2943.6700000000023]
[null,null,null,null,"00:00:00",null,null,null,null,2943.6700000000023]
[null,null,null,null,"00:00:00",null,null,null,null,2943.6700000000023]
[null,null,null,null,"00:00:00",null,null,null,null,2943.6700000000023]
[null,null,null,null,"00:00:00",null,null,null,null,2943.6700000000023]
[null,null,null,null,"00:00:00",null,null,null,null,2943.6700000000023,null,null,null,31,"cheltuieli"]
[null,null,null,null,"00:00:00",null,null,null,null,2943.6700000000023,null,null,null,32,"restante"]
[null,null,null,null,"00:00:00",null,null,null,null,2943.6700000000023,null,null,null,33,"fond rulment"]
[null,null,null,null,"00:00:00",null,null,null,null,2943.6700000000023,null,null,null,34,"fond reparatii"]
[null,null,null,null,"00:00:00",null,null,null,null,2943.6700000000023,null,null,null,35,"diverse"]
[null,null,null,null,"00:00:00",null,null,null,null,2943.6700000000023,null,null,null,36,"penalizari"]
[null,null,null,null,"00:00:00",null,null,null,null,2943.6700000000023]
[null,null,null,null,"00:00:00",null,null,null,null,2943.6700000000023]
[null,null,null,null,"00:00:00",null,null,null,null,2943.6700000000023]
[null,null,null,null,"00:00:00",null,null,null,null,2943.6700000000023]
[null,null,null,null,"00:00:00",null,null,null,null,2943.6700000000023]
[null,null,null,null,"00:00:00",null,null,null,null,2943.6700000000023]
[null,null,null,null,"00:00:00",null,null,null,null,2943.6700000000023]
[null,null,null,null,"00:00:00",null,null,null,null,2943.6700000000023]
[null,null,null,null,"00:00:00",null,null,null,null,2943.6700000000023]
[null,null,null,null,"00:00:00",null,null,null,null,2943.6700000000023]
[null,null,null,null,"00:00:00",null,null,null,null,2943.6700000000023]
[null,null,null,null,"00:00:00",null,null,null,null,2943.6700000000023]
[null,null,null,null,"00:00:00",null,null,null,null,2943.6700000000023]
[null,null,null,null,"00:00:00",null,null,null,null,2943.6700000000023]
[null,null,null,null,"00:00:00",null,null,null,null,2943.6700000000023]
[null,null,null,null,"00:00:00",null,null,null,null,2943.6700000000023]
[null,null,null,null,"00:00:00",null,null,null,null,2943.6700000000023]
[null,null,null,null,"00:00:00",null,null,null,null,2943.6700000000023]
[null,null,null,null,"00:00:00",null,null,null,null,2943.6700000000023]
[null,null,null,null,"00:00:00",null,null,null,null,2943.6700000000023]
[null,null,null,null,"00:00:00",null,null,null,null,2943.6700000000023]
[null,null,null,null,"00:00:00",null,null,null,null,2943.6700000000023]

{"sheet":"iun","index":25,"n_rows":50,"n_cols":15,"rows_kept":50,"cut":false,"hidden":false,"merged":[[0,2,0,4]]}
[null,"Data","Document primar",null,null,null,null,null,null,null,"Sold final",{"$f":"J50","v":2943.6700000000023},"luna",2,"salar"]
["Nr crt"," inreg","Tip doc","Nr doc ","din","Ap","Explicatii","Incasari","Plati","Sold","Decontat","Statistica",6,3,"impozite si taxe"]
[null,null,null,null,null,null,"Sold preluat",{"$f":"mai!L1","v":2943.6700000000023},null,{"$f":"H3","v":2943.6700000000023},null,null,null,4,"salubtitate"]
[null,null,null,null,{"$f":"B4","v":"00:00:00"},null,null,null,null,{"$f":"J3+H4-I4","v":2943.6700000000023},null,null,null,5,"termoficare"]
[null,null,null,null,{"$f":"B5","v":"00:00:00"},null,null,null,null,{"$f":"J4+H5-I5","v":2943.6700000000023},null,null,null,6,"apa canal"]
[null,null,null,null,"00:00:00",null,null,null,null,2943.6700000000023,null,null,null,7,"gaz"]
[null,null,null,null,"00:00:00",null,null,null,null,2943.6700000000023,null,null,null,8,"electrica"]
[null,null,null,null,"00:00:00",null,null,null,null,2943.6700000000023,null,null,null,10,"manopera"]
[null,null,null,null,"00:00:00",null,null,null,null,2943.6700000000023,null,null,null,11,"materiale"]
[null,null,null,null,"00:00:00",null,null,null,null,2943.6700000000023,null,null,null,12,"deratizare"]
[null,null,null,null,"00:00:00",null,null,null,null,2943.6700000000023,null,null,null,13,"necesare curatenie"]
[null,null,null,null,"00:00:00",null,null,null,null,2943.6700000000023,null,null,null,14,"curatat zona verde"]
[null,null,null,null,"00:00:00",null,null,null,null,2943.6700000000023,null,null,null,15,"flori"]
[null,null,null,null,"00:00:00",null,null,null,null,2943.6700000000023,null,null,null,16,"benzina, fir"]
[null,null,null,null,"00:00:00",null,null,null,null,2943.6700000000023,null,null,null,17,"birotica"]
[null,null,null,null,"00:00:00",null,null,null,null,2943.6700000000023,null,null,null,18,"diverse"]
[null,null,null,null,"00:00:00",null,null,null,null,2943.6700000000023,null,null,null,19]
[null,null,null,null,"00:00:00",null,null,null,null,2943.6700000000023]
[null,null,null,null,"00:00:00",null,null,null,null,2943.6700000000023]
[null,null,null,null,"00:00:00",null,null,null,null,2943.6700000000023]
[null,null,null,null,"00:00:00",null,null,null,null,2943.6700000000023]
[null,null,null,null,"00:00:00",null,null,null,null,2943.6700000000023]
[null,null,null,null,"00:00:00",null,null,null,null,2943.6700000000023,null,null,null,31,"cheltuieli"]
[null,null,null,null,"00:00:00",null,null,null,null,2943.6700000000023,null,null,null,32,"restante"]
[null,null,null,null,"00:00:00",null,null,null,null,2943.6700000000023,null,null,null,33,"fond rulment"]
[null,null,null,null,"00:00:00",null,null,null,null,2943.6700000000023,null,null,null,34,"fond reparatii"]
[null,null,null,null,"00:00:00",null,null,null,null,2943.6700000000023,null,null,null,35,"diverse"]
[null,null,null,null,"00:00:00",null,null,null,null,2943.6700000000023,null,null,null,36,"penalizari"]
[null,null,null,null,"00:00:00",null,null,null,null,2943.6700000000023]
[null,null,null,null,"00:00:00",null,null,null,null,2943.6700000000023]
[null,null,null,null,"00:00:00",null,null,null,null,2943.6700000000023]
[null,null,null,null,"00:00:00",null,null,null,null,2943.6700000000023]
[null,null,null,null,"00:00:00",null,null,null,null,2943.6700000000023]
[null,null,null,null,"00:00:00",null,null,null,null,2943.6700000000023]
[null,null,null,null,"00:00:00",null,null,null,null,2943.6700000000023]
[null,null,null,null,"00:00:00",null,null,null,null,2943.6700000000023]
[null,null,null,null,"00:00:00",null,null,null,null,2943.6700000000023]
[null,null,null,null,"00:00:00",null,null,null,null,2943.6700000000023]
[null,null,null,null,"00:00:00",null,null,null,null,2943.6700000000023]
[null,null,null,null,"00:00:00",null,null,null,null,2943.6700000000023]
[null,null,null,null,"00:00:00",null,null,null,null,2943.6700000000023]
[null,null,null,null,"00:00:00",null,null,null,null,2943.6700000000023]
[null,null,null,null,"00:00:00",null,null,null,null,2943.6700000000023]
[null,null,null,null,"00:00:00",null,null,null,null,2943.6700000000023]
[null,null,null,null,"00:00:00",null,null,null,null,2943.6700000000023]
[null,null,null,null,"00:00:00",null,null,null,null,2943.6700000000023]
[null,null,null,null,"00:00:00",null,null,null,null,2943.6700000000023]
[null,null,null,null,"00:00:00",null,null,null,null,2943.6700000000023]
[null,null,null,null,"00:00:00",null,null,null,null,2943.6700000000023]
[null,null,null,null,"00:00:00",null,null,null,null,2943.6700000000023]

{"sheet":"iul","index":26,"n_rows":50,"n_cols":15,"rows_kept":50,"cut":false,"hidden":false,"merged":[[0,2,0,4]]}
[null,"Data","Document primar",null,null,null,null,null,null,null,"Sold final",{"$f":"J50","v":2943.6700000000023},"luna",2,"salar"]
["Nr crt"," inreg","Tip doc","Nr doc ","din","Ap","Explicatii","Incasari","Plati","Sold","Decontat","Statistica",7,3,"impozite si taxe"]
[null,null,null,null,null,null,"Sold preluat",{"$f":"iun!L1","v":2943.6700000000023},null,{"$f":"H3","v":2943.6700000000023},null,null,null,4,"salubtitate"]
[null,null,null,null,{"$f":"B4","v":"00:00:00"},null,null,null,null,{"$f":"J3+H4-I4","v":2943.6700000000023},null,null,null,5,"termoficare"]
[null,null,null,null,{"$f":"B5","v":"00:00:00"},null,null,null,null,{"$f":"J4+H5-I5","v":2943.6700000000023},null,null,null,6,"apa canal"]
[null,null,null,null,"00:00:00",null,null,null,null,2943.6700000000023,null,null,null,7,"gaz"]
[null,null,null,null,"00:00:00",null,null,null,null,2943.6700000000023,null,null,null,8,"electrica"]
[null,null,null,null,"00:00:00",null,null,null,null,2943.6700000000023,null,null,null,10,"manopera"]
[null,null,null,null,"00:00:00",null,null,null,null,2943.6700000000023,null,null,null,11,"materiale"]
[null,null,null,null,"00:00:00",null,null,null,null,2943.6700000000023,null,null,null,12,"deratizare"]
[null,null,null,null,"00:00:00",null,null,null,null,2943.6700000000023,null,null,null,13,"necesare curatenie"]
[null,null,null,null,"00:00:00",null,null,null,null,2943.6700000000023,null,null,null,14,"curatat zona verde"]
[null,null,null,null,"00:00:00",null,null,null,null,2943.6700000000023,null,null,null,15,"flori"]
[null,null,null,null,"00:00:00",null,null,null,null,2943.6700000000023,null,null,null,16,"benzina, fir"]
[null,null,null,null,"00:00:00",null,null,null,null,2943.6700000000023,null,null,null,17,"birotica"]
[null,null,null,null,"00:00:00",null,null,null,null,2943.6700000000023,null,null,null,18,"diverse"]
[null,null,null,null,"00:00:00",null,null,null,null,2943.6700000000023,null,null,null,19]
[null,null,null,null,"00:00:00",null,null,null,null,2943.6700000000023]
[null,null,null,null,"00:00:00",null,null,null,null,2943.6700000000023]
[null,null,null,null,"00:00:00",null,null,null,null,2943.6700000000023]
[null,null,null,null,"00:00:00",null,null,null,null,2943.6700000000023]
[null,null,null,null,"00:00:00",null,null,null,null,2943.6700000000023]
[null,null,null,null,"00:00:00",null,null,null,null,2943.6700000000023,null,null,null,31,"cheltuieli"]
[null,null,null,null,"00:00:00",null,null,null,null,2943.6700000000023,null,null,null,32,"restante"]
[null,null,null,null,"00:00:00",null,null,null,null,2943.6700000000023,null,null,null,33,"fond rulment"]
[null,null,null,null,"00:00:00",null,null,null,null,2943.6700000000023,null,null,null,34,"fond reparatii"]
[null,null,null,null,"00:00:00",null,null,null,null,2943.6700000000023,null,null,null,35,"diverse"]
[null,null,null,null,"00:00:00",null,null,null,null,2943.6700000000023,null,null,null,36,"penalizari"]
[null,null,null,null,"00:00:00",null,null,null,null,2943.6700000000023]
[null,null,null,null,"00:00:00",null,null,null,null,2943.6700000000023]
[null,null,null,null,"00:00:00",null,null,null,null,2943.6700000000023]
[null,null,null,null,"00:00:00",null,null,null,null,2943.6700000000023]
[null,null,null,null,"00:00:00",null,null,null,null,2943.6700000000023]
[null,null,null,null,"00:00:00",null,null,null,null,2943.6700000000023]
[null,null,null,null,"00:00:00",null,null,null,null,2943.6700000000023]
[null,null,null,null,"00:00:00",null,null,null,null,2943.6700000000023]
[null,null,null,null,"00:00:00",null,null,null,null,2943.6700000000023]
[null,null,null,null,"00:00:00",null,null,null,null,2943.6700000000023]
[null,null,null,null,"00:00:00",null,null,null,null,2943.6700000000023]
[null,null,null,null,"00:00:00",null,null,null,null,2943.6700000000023]
[null,null,null,null,"00:00:00",null,null,null,null,2943.6700000000023]
[null,null,null,null,"00:00:00",null,null,null,null,2943.6700000000023]
[null,null,null,null,"00:00:00",null,null,null,null,2943.6700000000023]
[null,null,null,null,"00:00:00",null,null,null,null,2943.6700000000023]
[null,null,null,null,"00:00:00",null,null,null,null,2943.6700000000023]
[null,null,null,null,"00:00:00",null,null,null,null,2943.6700000000023]
[null,null,null,null,"00:00:00",null,null,null,null,2943.6700000000023]
[null,null,null,null,"00:00:00",null,null,null,null,2943.6700000000023]
[null,null,null,null,"00:00:00",null,null,null,null,2943.6700000000023]
[null,null,null,null,"00:00:00",null,null,null,null,2943.6700000000023]

{"sheet":"aug","index":27,"n_rows":50,"n_cols":15,"rows_kept":50,"cut":false,"hidden":false,"merged":[[0,2,0,4]]}
[null,"Data","Document primar",null,null,null,null,null,null,null,"Sold final",{"$f":"J50","v":2943.6700000000023},"luna",2,"salar"]
["Nr crt"," inreg","Tip doc","Nr doc ","din","Ap","Explicatii","Incasari","Plati","Sold","Decontat","Statistica",8,3,"impozite si taxe"]
[null,null,null,null,null,null,"Sold preluat",{"$f":"iul!L1","v":2943.6700000000023},null,{"$f":"H3","v":2943.6700000000023},null,null,null,4,"salubtitate"]
[null,null,null,null,{"$f":"B4","v":"00:00:00"},null,null,null,null,{"$f":"J3+H4-I4","v":2943.6700000000023},null,null,null,5,"termoficare"]
[null,null,null,null,{"$f":"B5","v":"00:00:00"},null,null,null,null,{"$f":"J4+H5-I5","v":2943.6700000000023},null,null,null,6,"apa canal"]
[null,null,null,null,"00:00:00",null,null,null,null,2943.6700000000023,null,null,null,7,"gaz"]
[null,null,null,null,"00:00:00",null,null,null,null,2943.6700000000023,null,null,null,8,"electrica"]
[null,null,null,null,"00:00:00",null,null,null,null,2943.6700000000023,null,null,null,10,"manopera"]
[null,null,null,null,"00:00:00",null,null,null,null,2943.6700000000023,null,null,null,11,"materiale"]
[null,null,null,null,"00:00:00",null,null,null,null,2943.6700000000023,null,null,null,12,"deratizare"]
[null,null,null,null,"00:00:00",null,null,null,null,2943.6700000000023,null,null,null,13,"necesare curatenie"]
[null,null,null,null,"00:00:00",null,null,null,null,2943.6700000000023,null,null,null,14,"curatat zona verde"]
[null,null,null,null,"00:00:00",null,null,null,null,2943.6700000000023,null,null,null,15,"flori"]
[null,null,null,null,"00:00:00",null,null,null,null,2943.6700000000023,null,null,null,16,"benzina, fir"]
[null,null,null,null,"00:00:00",null,null,null,null,2943.6700000000023,null,null,null,17,"birotica"]
[null,null,null,null,"00:00:00",null,null,null,null,2943.6700000000023,null,null,null,18,"diverse"]
[null,null,null,null,"00:00:00",null,null,null,null,2943.6700000000023,null,null,null,19]
[null,null,null,null,"00:00:00",null,null,null,null,2943.6700000000023]
[null,null,null,null,"00:00:00",null,null,null,null,2943.6700000000023]
[null,null,null,null,"00:00:00",null,null,null,null,2943.6700000000023]
[null,null,null,null,"00:00:00",null,null,null,null,2943.6700000000023]
[null,null,null,null,"00:00:00",null,null,null,null,2943.6700000000023]
[null,null,null,null,"00:00:00",null,null,null,null,2943.6700000000023,null,null,null,31,"cheltuieli"]
[null,null,null,null,"00:00:00",null,null,null,null,2943.6700000000023,null,null,null,32,"restante"]
[null,null,null,null,"00:00:00",null,null,null,null,2943.6700000000023,null,null,null,33,"fond rulment"]
[null,null,null,null,"00:00:00",null,null,null,null,2943.6700000000023,null,null,null,34,"fond reparatii"]
[null,null,null,null,"00:00:00",null,null,null,null,2943.6700000000023,null,null,null,35,"diverse"]
[null,null,null,null,"00:00:00",null,null,null,null,2943.6700000000023,null,null,null,36,"penalizari"]
[null,null,null,null,"00:00:00",null,null,null,null,2943.6700000000023]
[null,null,null,null,"00:00:00",null,null,null,null,2943.6700000000023]
[null,null,null,null,"00:00:00",null,null,null,null,2943.6700000000023]
[null,null,null,null,"00:00:00",null,null,null,null,2943.6700000000023]
[null,null,null,null,"00:00:00",null,null,null,null,2943.6700000000023]
[null,null,null,null,"00:00:00",null,null,null,null,2943.6700000000023]
[null,null,null,null,"00:00:00",null,null,null,null,2943.6700000000023]
[null,null,null,null,"00:00:00",null,null,null,null,2943.6700000000023]
[null,null,null,null,"00:00:00",null,null,null,null,2943.6700000000023]
[null,null,null,null,"00:00:00",null,null,null,null,2943.6700000000023]
[null,null,null,null,"00:00:00",null,null,null,null,2943.6700000000023]
[null,null,null,null,"00:00:00",null,null,null,null,2943.6700000000023]
[null,null,null,null,"00:00:00",null,null,null,null,2943.6700000000023]
[null,null,null,null,"00:00:00",null,null,null,null,2943.6700000000023]
[null,null,null,null,"00:00:00",null,null,null,null,2943.6700000000023]
[null,null,null,null,"00:00:00",null,null,null,null,2943.6700000000023]
[null,null,null,null,"00:00:00",null,null,null,null,2943.6700000000023]
[null,null,null,null,"00:00:00",null,null,null,null,2943.6700000000023]
[null,null,null,null,"00:00:00",null,null,null,null,2943.6700000000023]
[null,null,null,null,"00:00:00",null,null,null,null,2943.6700000000023]
[null,null,null,null,"00:00:00",null,null,null,null,2943.6700000000023]
[null,null,null,null,"00:00:00",null,null,null,null,2943.6700000000023]

{"sheet":"sep","index":28,"n_rows":50,"n_cols":15,"rows_kept":50,"cut":false,"hidden":false,"merged":[[0,2,0,4]]}
[null,"Data","Document primar",null,null,null,null,null,null,null,"Sold final",{"$f":"J50","v":2943.6700000000023},"luna",2,"salar"]
["Nr crt"," inreg","Tip doc","Nr doc ","din","Ap","Explicatii","Incasari","Plati","Sold","Decontat","Statistica",9,3,"impozite si taxe"]
[null,null,null,null,null,null,"Sold preluat",{"$f":"aug!L1","v":2943.6700000000023},null,{"$f":"H3","v":2943.6700000000023},null,null,null,4,"salubtitate"]
[null,null,null,null,{"$f":"B4","v":"00:00:00"},null,null,null,null,{"$f":"J3+H4-I4","v":2943.6700000000023},null,null,null,5,"termoficare"]
[null,null,null,null,{"$f":"B5","v":"00:00:00"},null,null,null,null,{"$f":"J4+H5-I5","v":2943.6700000000023},null,null,null,6,"apa canal"]
[null,null,null,null,"00:00:00",null,null,null,null,2943.6700000000023,null,null,null,7,"gaz"]
[null,null,null,null,"00:00:00",null,null,null,null,2943.6700000000023,null,null,null,8,"electrica"]
[null,null,null,null,"00:00:00",null,null,null,null,2943.6700000000023,null,null,null,10,"manopera"]
[null,null,null,null,"00:00:00",null,null,null,null,2943.6700000000023,null,null,null,11,"materiale"]
[null,null,null,null,"00:00:00",null,null,null,null,2943.6700000000023,null,null,null,12,"deratizare"]
[null,null,null,null,"00:00:00",null,null,null,null,2943.6700000000023,null,null,null,13,"necesare curatenie"]
[null,null,null,null,"00:00:00",null,null,null,null,2943.6700000000023,null,null,null,14,"curatat zona verde"]
[null,null,null,null,"00:00:00",null,null,null,null,2943.6700000000023,null,null,null,15,"flori"]
[null,null,null,null,"00:00:00",null,null,null,null,2943.6700000000023,null,null,null,16,"benzina, fir"]
[null,null,null,null,"00:00:00",null,null,null,null,2943.6700000000023,null,null,null,17,"birotica"]
[null,null,null,null,"00:00:00",null,null,null,null,2943.6700000000023,null,null,null,18,"diverse"]
[null,null,null,null,"00:00:00",null,null,null,null,2943.6700000000023,null,null,null,19]
[null,null,null,null,"00:00:00",null,null,null,null,2943.6700000000023]
[null,null,null,null,"00:00:00",null,null,null,null,2943.6700000000023]
[null,null,null,null,"00:00:00",null,null,null,null,2943.6700000000023]
[null,null,null,null,"00:00:00",null,null,null,null,2943.6700000000023]
[null,null,null,null,"00:00:00",null,null,null,null,2943.6700000000023]
[null,null,null,null,"00:00:00",null,null,null,null,2943.6700000000023,null,null,null,31,"cheltuieli"]
[null,null,null,null,"00:00:00",null,null,null,null,2943.6700000000023,null,null,null,32,"restante"]
[null,null,null,null,"00:00:00",null,null,null,null,2943.6700000000023,null,null,null,33,"fond rulment"]
[null,null,null,null,"00:00:00",null,null,null,null,2943.6700000000023,null,null,null,34,"fond reparatii"]
[null,null,null,null,"00:00:00",null,null,null,null,2943.6700000000023,null,null,null,35,"diverse"]
[null,null,null,null,"00:00:00",null,null,null,null,2943.6700000000023,null,null,null,36,"penalizari"]
[null,null,null,null,"00:00:00",null,null,null,null,2943.6700000000023]
[null,null,null,null,"00:00:00",null,null,null,null,2943.6700000000023]
[null,null,null,null,"00:00:00",null,null,null,null,2943.6700000000023]
[null,null,null,null,"00:00:00",null,null,null,null,2943.6700000000023]
[null,null,null,null,"00:00:00",null,null,null,null,2943.6700000000023]
[null,null,null,null,"00:00:00",null,null,null,null,2943.6700000000023]
[null,null,null,null,"00:00:00",null,null,null,null,2943.6700000000023]
[null,null,null,null,"00:00:00",null,null,null,null,2943.6700000000023]
[null,null,null,null,"00:00:00",null,null,null,null,2943.6700000000023]
[null,null,null,null,"00:00:00",null,null,null,null,2943.6700000000023]
[null,null,null,null,"00:00:00",null,null,null,null,2943.6700000000023]
[null,null,null,null,"00:00:00",null,null,null,null,2943.6700000000023]
[null,null,null,null,"00:00:00",null,null,null,null,2943.6700000000023]
[null,null,null,null,"00:00:00",null,null,null,null,2943.6700000000023]
[null,null,null,null,"00:00:00",null,null,null,null,2943.6700000000023]
[null,null,null,null,"00:00:00",null,null,null,null,2943.6700000000023]
[null,null,null,null,"00:00:00",null,null,null,null,2943.6700000000023]
[null,null,null,null,"00:00:00",null,null,null,null,2943.6700000000023]
[null,null,null,null,"00:00:00",null,null,null,null,2943.6700000000023]
[null,null,null,null,"00:00:00",null,null,null,null,2943.6700000000023]
[null,null,null,null,"00:00:00",null,null,null,null,2943.6700000000023]
[null,null,null,null,"00:00:00",null,null,null,null,2943.6700000000023]

{"sheet":"oct","index":29,"n_rows":50,"n_cols":15,"rows_kept":50,"cut":false,"hidden":false,"merged":[[0,2,0,4]]}
[null,"Data","Document primar",null,null,null,null,null,null,null,"Sold final",{"$f":"J50","v":2943.6700000000023},"luna",2,"salar"]
["Nr crt"," inreg","Tip doc","Nr doc ","din","Ap","Explicatii","Incasari","Plati","Sold","Decontat","Statistica",10,3,"impozite si taxe"]
[null,null,null,null,null,null,"Sold preluat",{"$f":"sep!L1","v":2943.6700000000023},null,{"$f":"H3","v":2943.6700000000023},null,null,null,4,"salubtitate"]
[null,null,null,null,{"$f":"B4","v":"00:00:00"},null,null,null,null,{"$f":"J3+H4-I4","v":2943.6700000000023},null,null,null,5,"termoficare"]
[null,null,null,null,{"$f":"B5","v":"00:00:00"},null,null,null,null,{"$f":"J4+H5-I5","v":2943.6700000000023},null,null,null,6,"apa canal"]
[null,null,null,null,"00:00:00",null,null,null,null,2943.6700000000023,null,null,null,7,"gaz"]
[null,null,null,null,"00:00:00",null,null,null,null,2943.6700000000023,null,null,null,8,"electrica"]
[null,null,null,null,"00:00:00",null,null,null,null,2943.6700000000023,null,null,null,10,"manopera"]
[null,null,null,null,"00:00:00",null,null,null,null,2943.6700000000023,null,null,null,11,"materiale"]
[null,null,null,null,"00:00:00",null,null,null,null,2943.6700000000023,null,null,null,12,"deratizare"]
[null,null,null,null,"00:00:00",null,null,null,null,2943.6700000000023,null,null,null,13,"necesare curatenie"]
[null,null,null,null,"00:00:00",null,null,null,null,2943.6700000000023,null,null,null,14,"curatat zona verde"]
[null,null,null,null,"00:00:00",null,null,null,null,2943.6700000000023,null,null,null,15,"flori"]
[null,null,null,null,"00:00:00",null,null,null,null,2943.6700000000023,null,null,null,16,"benzina, fir"]
[null,null,null,null,"00:00:00",null,null,null,null,2943.6700000000023,null,null,null,17,"birotica"]
[null,null,null,null,"00:00:00",null,null,null,null,2943.6700000000023,null,null,null,18,"diverse"]
[null,null,null,null,"00:00:00",null,null,null,null,2943.6700000000023,null,null,null,19]
[null,null,null,null,"00:00:00",null,null,null,null,2943.6700000000023]
[null,null,null,null,"00:00:00",null,null,null,null,2943.6700000000023]
[null,null,null,null,"00:00:00",null,null,null,null,2943.6700000000023]
[null,null,null,null,"00:00:00",null,null,null,null,2943.6700000000023]
[null,null,null,null,"00:00:00",null,null,null,null,2943.6700000000023]
[null,null,null,null,"00:00:00",null,null,null,null,2943.6700000000023,null,null,null,31,"cheltuieli"]
[null,null,null,null,"00:00:00",null,null,null,null,2943.6700000000023,null,null,null,32,"restante"]
[null,null,null,null,"00:00:00",null,null,null,null,2943.6700000000023,null,null,null,33,"fond rulment"]
[null,null,null,null,"00:00:00",null,null,null,null,2943.6700000000023,null,null,null,34,"fond reparatii"]
[null,null,null,null,"00:00:00",null,null,null,null,2943.6700000000023,null,null,null,35,"diverse"]
[null,null,null,null,"00:00:00",null,null,null,null,2943.6700000000023,null,null,null,36,"penalizari"]
[null,null,null,null,"00:00:00",null,null,null,null,2943.6700000000023]
[null,null,null,null,"00:00:00",null,null,null,null,2943.6700000000023]
[null,null,null,null,"00:00:00",null,null,null,null,2943.6700000000023]
[null,null,null,null,"00:00:00",null,null,null,null,2943.6700000000023]
[null,null,null,null,"00:00:00",null,null,null,null,2943.6700000000023]
[null,null,null,null,"00:00:00",null,null,null,null,2943.6700000000023]
[null,null,null,null,"00:00:00",null,null,null,null,2943.6700000000023]
[null,null,null,null,"00:00:00",null,null,null,null,2943.6700000000023]
[null,null,null,null,"00:00:00",null,null,null,null,2943.6700000000023]
[null,null,null,null,"00:00:00",null,null,null,null,2943.6700000000023]
[null,null,null,null,"00:00:00",null,null,null,null,2943.6700000000023]
[null,null,null,null,"00:00:00",null,null,null,null,2943.6700000000023]
[null,null,null,null,"00:00:00",null,null,null,null,2943.6700000000023]
[null,null,null,null,"00:00:00",null,null,null,null,2943.6700000000023]
[null,null,null,null,"00:00:00",null,null,null,null,2943.6700000000023]
[null,null,null,null,"00:00:00",null,null,null,null,2943.6700000000023]
[null,null,null,null,"00:00:00",null,null,null,null,2943.6700000000023]
[null,null,null,null,"00:00:00",null,null,null,null,2943.6700000000023]
[null,null,null,null,"00:00:00",null,null,null,null,2943.6700000000023]
[null,null,null,null,"00:00:00",null,null,null,null,2943.6700000000023]
[null,null,null,null,"00:00:00",null,null,null,null,2943.6700000000023]
[null,null,null,null,"00:00:00",null,null,null,null,2943.6700000000023]

{"sheet":"noe","index":30,"n_rows":50,"n_cols":15,"rows_kept":50,"cut":false,"hidden":false,"merged":[[0,2,0,4]]}
[null,"Data","Document primar",null,null,null,null,null,null,null,"Sold final",{"$f":"J50","v":2943.6700000000023},"luna",2,"salar"]
["Nr crt"," inreg","Tip doc","Nr doc ","din","Ap","Explicatii","Incasari","Plati","Sold","Decontat","Statistica",11,3,"impozite si taxe"]
[null,null,null,null,null,null,"Sold preluat",{"$f":"oct!L1","v":2943.6700000000023},null,{"$f":"H3","v":2943.6700000000023},null,null,null,4,"salubtitate"]
[null,null,null,null,{"$f":"B4","v":"00:00:00"},null,null,null,null,{"$f":"J3+H4-I4","v":2943.6700000000023},null,null,null,5,"termoficare"]
[null,null,null,null,{"$f":"B5","v":"00:00:00"},null,null,null,null,{"$f":"J4+H5-I5","v":2943.6700000000023},null,null,null,6,"apa canal"]
[null,null,null,null,"00:00:00",null,null,null,null,2943.6700000000023,null,null,null,7,"gaz"]
[null,null,null,null,"00:00:00",null,null,null,null,2943.6700000000023,null,null,null,8,"electrica"]
[null,null,null,null,"00:00:00",null,null,null,null,2943.6700000000023,null,null,null,10,"manopera"]
[null,null,null,null,"00:00:00",null,null,null,null,2943.6700000000023,null,null,null,11,"materiale"]
[null,null,null,null,"00:00:00",null,null,null,null,2943.6700000000023,null,null,null,12,"deratizare"]
[null,null,null,null,"00:00:00",null,null,null,null,2943.6700000000023,null,null,null,13,"necesare curatenie"]
[null,null,null,null,"00:00:00",null,null,null,null,2943.6700000000023,null,null,null,14,"curatat zona verde"]
[null,null,null,null,"00:00:00",null,null,null,null,2943.6700000000023,null,null,null,15,"flori"]
[null,null,null,null,"00:00:00",null,null,null,null,2943.6700000000023,null,null,null,16,"benzina, fir"]
[null,null,null,null,"00:00:00",null,null,null,null,2943.6700000000023,null,null,null,17,"birotica"]
[null,null,null,null,"00:00:00",null,null,null,null,2943.6700000000023,null,null,null,18,"diverse"]
[null,null,null,null,"00:00:00",null,null,null,null,2943.6700000000023,null,null,null,19]
[null,null,null,null,"00:00:00",null,null,null,null,2943.6700000000023]
[null,null,null,null,"00:00:00",null,null,null,null,2943.6700000000023]
[null,null,null,null,"00:00:00",null,null,null,null,2943.6700000000023]
[null,null,null,null,"00:00:00",null,null,null,null,2943.6700000000023]
[null,null,null,null,"00:00:00",null,null,null,null,2943.6700000000023]
[null,null,null,null,"00:00:00",null,null,null,null,2943.6700000000023,null,null,null,31,"cheltuieli"]
[null,null,null,null,"00:00:00",null,null,null,null,2943.6700000000023,null,null,null,32,"restante"]
[null,null,null,null,"00:00:00",null,null,null,null,2943.6700000000023,null,null,null,33,"fond rulment"]
[null,null,null,null,"00:00:00",null,null,null,null,2943.6700000000023,null,null,null,34,"fond reparatii"]
[null,null,null,null,"00:00:00",null,null,null,null,2943.6700000000023,null,null,null,35,"diverse"]
[null,null,null,null,"00:00:00",null,null,null,null,2943.6700000000023,null,null,null,36,"penalizari"]
[null,null,null,null,"00:00:00",null,null,null,null,2943.6700000000023]
[null,null,null,null,"00:00:00",null,null,null,null,2943.6700000000023]
[null,null,null,null,"00:00:00",null,null,null,null,2943.6700000000023]
[null,null,null,null,"00:00:00",null,null,null,null,2943.6700000000023]
[null,null,null,null,"00:00:00",null,null,null,null,2943.6700000000023]
[null,null,null,null,"00:00:00",null,null,null,null,2943.6700000000023]
[null,null,null,null,"00:00:00",null,null,null,null,2943.6700000000023]
[null,null,null,null,"00:00:00",null,null,null,null,2943.6700000000023]
[null,null,null,null,"00:00:00",null,null,null,null,2943.6700000000023]
[null,null,null,null,"00:00:00",null,null,null,null,2943.6700000000023]
[null,null,null,null,"00:00:00",null,null,null,null,2943.6700000000023]
[null,null,null,null,"00:00:00",null,null,null,null,2943.6700000000023]
[null,null,null,null,"00:00:00",null,null,null,null,2943.6700000000023]
[null,null,null,null,"00:00:00",null,null,null,null,2943.6700000000023]
[null,null,null,null,"00:00:00",null,null,null,null,2943.6700000000023]
[null,null,null,null,"00:00:00",null,null,null,null,2943.6700000000023]
[null,null,null,null,"00:00:00",null,null,null,null,2943.6700000000023]
[null,null,null,null,"00:00:00",null,null,null,null,2943.6700000000023]
[null,null,null,null,"00:00:00",null,null,null,null,2943.6700000000023]
[null,null,null,null,"00:00:00",null,null,null,null,2943.6700000000023]
[null,null,null,null,"00:00:00",null,null,null,null,2943.6700000000023]
[null,null,null,null,"00:00:00",null,null,null,null,2943.6700000000023]

{"sheet":"dec","index":31,"n_rows":50,"n_cols":15,"rows_kept":50,"cut":false,"hidden":false,"merged":[[0,2,0,4]]}
[null,"Data","Document primar",null,null,null,null,null,null,null,"Sold final",{"$f":"J50","v":2943.6700000000023},"luna",2,"salar"]
["Nr crt"," inreg","Tip doc","Nr doc ","din","Ap","Explicatii","Incasari","Plati","Sold","Decontat","Statistica",12,3,"impozite si taxe"]
[null,null,null,null,null,null,"Sold preluat",{"$f":"noe!L1","v":2943.6700000000023},null,{"$f":"H3","v":2943.6700000000023},null,null,null,4,"salubtitate"]
[null,null,null,null,{"$f":"B4","v":"00:00:00"},null,null,null,null,{"$f":"J3+H4-I4","v":2943.6700000000023},null,null,null,5,"termoficare"]
[null,null,null,null,{"$f":"B5","v":"00:00:00"},null,null,null,null,{"$f":"J4+H5-I5","v":2943.6700000000023},null,null,null,6,"apa canal"]
[null,null,null,null,"00:00:00",null,null,null,null,2943.6700000000023,null,null,null,7,"gaz"]
[null,null,null,null,"00:00:00",null,null,null,null,2943.6700000000023,null,null,null,8,"electrica"]
[null,null,null,null,"00:00:00",null,null,null,null,2943.6700000000023,null,null,null,10,"manopera"]
[null,null,null,null,"00:00:00",null,null,null,null,2943.6700000000023,null,null,null,11,"materiale"]
[null,null,null,null,"00:00:00",null,null,null,null,2943.6700000000023,null,null,null,12,"deratizare"]
[null,null,null,null,"00:00:00",null,null,null,null,2943.6700000000023,null,null,null,13,"necesare curatenie"]
[null,null,null,null,"00:00:00",null,null,null,null,2943.6700000000023,null,null,null,14,"curatat zona verde"]
[null,null,null,null,"00:00:00",null,null,null,null,2943.6700000000023,null,null,null,15,"flori"]
[null,null,null,null,"00:00:00",null,null,null,null,2943.6700000000023,null,null,null,16,"benzina, fir"]
[null,null,null,null,"00:00:00",null,null,null,null,2943.6700000000023,null,null,null,17,"birotica"]
[null,null,null,null,"00:00:00",null,null,null,null,2943.6700000000023,null,null,null,18,"diverse"]
[null,null,null,null,"00:00:00",null,null,null,null,2943.6700000000023,null,null,null,19]
[null,null,null,null,"00:00:00",null,null,null,null,2943.6700000000023]
[null,null,null,null,"00:00:00",null,null,null,null,2943.6700000000023]
[null,null,null,null,"00:00:00",null,null,null,null,2943.6700000000023]
[null,null,null,null,"00:00:00",null,null,null,null,2943.6700000000023]
[null,null,null,null,"00:00:00",null,null,null,null,2943.6700000000023]
[null,null,null,null,"00:00:00",null,null,null,null,2943.6700000000023,null,null,null,31,"cheltuieli"]
[null,null,null,null,"00:00:00",null,null,null,null,2943.6700000000023,null,null,null,32,"restante"]
[null,null,null,null,"00:00:00",null,null,null,null,2943.6700000000023,null,null,null,33,"fond rulment"]
[null,null,null,null,"00:00:00",null,null,null,null,2943.6700000000023,null,null,null,34,"fond reparatii"]
[null,null,null,null,"00:00:00",null,null,null,null,2943.6700000000023,null,null,null,35,"diverse"]
[null,null,null,null,"00:00:00",null,null,null,null,2943.6700000000023,null,null,null,36,"penalizari"]
[null,null,null,null,"00:00:00",null,null,null,null,2943.6700000000023]
[null,null,null,null,"00:00:00",null,null,null,null,2943.6700000000023]
[null,null,null,null,"00:00:00",null,null,null,null,2943.6700000000023]
[null,null,null,null,"00:00:00",null,null,null,null,2943.6700000000023]
[null,null,null,null,"00:00:00",null,null,null,null,2943.6700000000023]
[null,null,null,null,"00:00:00",null,null,null,null,2943.6700000000023]
[null,null,null,null,"00:00:00",null,null,null,null,2943.6700000000023]
[null,null,null,null,"00:00:00",null,null,null,null,2943.6700000000023]
[null,null,null,null,"00:00:00",null,null,null,null,2943.6700000000023]
[null,null,null,null,"00:00:00",null,null,null,null,2943.6700000000023]
[null,null,null,null,"00:00:00",null,null,null,null,2943.6700000000023]
[null,null,null,null,"00:00:00",null,null,null,null,2943.6700000000023]
[null,null,null,null,"00:00:00",null,null,null,null,2943.6700000000023]
[null,null,null,null,"00:00:00",null,null,null,null,2943.6700000000023]
[null,null,null,null,"00:00:00",null,null,null,null,2943.6700000000023]
[null,null,null,null,"00:00:00",null,null,null,null,2943.6700000000023]
[null,null,null,null,"00:00:00",null,null,null,null,2943.6700000000023]
[null,null,null,null,"00:00:00",null,null,null,null,2943.6700000000023]
[null,null,null,null,"00:00:00",null,null,null,null,2943.6700000000023]
[null,null,null,null,"00:00:00",null,null,null,null,2943.6700000000023]
[null,null,null,null,"00:00:00",null,null,null,null,2943.6700000000023]
[null,null,null,null,"00:00:00",null,null,null,null,2943.6700000000023]

{"sheet":"chelt","index":32,"n_rows":39,"n_cols":14,"rows_kept":39,"cut":false,"hidden":false,"merged":[]}
["C","ian","feb","mar","apr"," mai ","iun ","iul ","aug","sep","oct","noe ","dec","TOTAL"]
[{"$f":"ian!O1","v":"salar"},1059,null,null,null,null,null,null,null,null,null,null,null,{"$f":"SUM(Plati[[#This Row],[ian]:[dec]])","v":1059}]
[{"$f":"ian!O2","v":"impozite si taxe"},585,null,null,null,null,null,null,null,null,null,null,null,{"$f":"SUM(Plati[[#This Row],[ian]:[dec]])","v":585}]
[{"$f":"ian!O3","v":"salubritate"},837.45,null,null,null,null,null,null,null,null,null,null,null,{"$f":"SUM(Plati[[#This Row],[ian]:[dec]])","v":837.45}]
[{"$f":"ian!O4","v":"termoficare"},null,null,null,null,null,null,null,null,null,null,null,null,{"$f":"SUM(Plati[[#This Row],[ian]:[dec]])","v":0}]
[{"$f":"ian!O5","v":"apa canal"},null,null,null,null,null,null,null,null,null,null,null,null,{"$f":"SUM(Plati[[#This Row],[ian]:[dec]])","v":0}]
[{"$f":"ian!O6","v":"gaz"},287,null,null,null,null,null,null,null,null,null,null,null,{"$f":"SUM(Plati[[#This Row],[ian]:[dec]])","v":287}]
[{"$f":"ian!O7","v":"electrica"},83.49,null,null,null,null,null,null,null,null,null,null,null,{"$f":"SUM(Plati[[#This Row],[ian]:[dec]])","v":83.49}]
[{"$f":"ian!O8","v":"manopera"},null,null,null,null,null,null,null,null,null,null,null,null,{"$f":"SUM(Plati[[#This Row],[ian]:[dec]])","v":0}]
[{"$f":"ian!O9","v":"materiale"},null,null,null,null,null,null,null,null,null,null,null,null,{"$f":"SUM(Plati[[#This Row],[ian]:[dec]])","v":0}]
[{"$f":"ian!O10","v":"deratizare"},null,null,null,null,null,null,null,null,null,null,null,null,{"$f":"SUM(Plati[[#This Row],[ian]:[dec]])","v":0}]
[{"$f":"ian!O11","v":"necesare curatenie"},120,null,null,null,null,null,null,null,null,null,null,null,{"$f":"SUM(Plati[[#This Row],[ian]:[dec]])","v":120}]
[{"$f":"ian!O12","v":"curatat zona verde"},null,null,null,null,null,null,null,null,null,null,null,null,{"$f":"SUM(Plati[[#This Row],[ian]:[dec]])","v":0}]
[{"$f":"ian!O13","v":"flori"},null,null,null,null,null,null,null,null,null,null,null,null,{"$f":"SUM(Plati[[#This Row],[ian]:[dec]])","v":0}]
[{"$f":"ian!O14","v":"benzina, fir"},null,null,null,null,null,null,null,null,null,null,null,null,{"$f":"SUM(Plati[[#This Row],[ian]:[dec]])","v":0}]
[{"$f":"ian!O15","v":"birotica"},null,null,null,null,null,null,null,null,null,null,null,null,{"$f":"SUM(Plati[[#This Row],[ian]:[dec]])","v":0}]
[{"$f":"ian!O16","v":"diverse"},null,null,null,null,null,null,null,null,null,null,null,null,{"$f":"SUM(Plati[[#This Row],[ian]:[dec]])","v":0}]
[{"$f":"ian!O17","v":" "},null,null,null,null,null,null,null,null,null,null,null,null,{"$f":"SUM(Plati[[#This Row],[ian]:[dec]])","v":0}]
[{"$f":"ian!O18","v":" "},null,null,null,null,null,null,null,null,null,null,null,null,{"$f":"SUM(Plati[[#This Row],[ian]:[dec]])","v":0}]
[{"$f":"ian!O19","v":" "},null,null,null,null,null,null,null,null,null,null,null,null,{"$f":"SUM(Plati[[#This Row],[ian]:[dec]])","v":0}]
[{"$f":"ian!O20","v":" "},null,null,null,null,null,null,null,null,null,null,null,null,{"$f":"SUM(Plati[[#This Row],[ian]:[dec]])","v":0}]
[{"$f":"ian!O21","v":" "},null,null,null,null,null,null,null,null,null,null,null,null,{"$f":"SUM(Plati[[#This Row],[ian]:[dec]])","v":0}]
[{"$f":"ian!O22","v":"d"},null,null,null,null,null,null,null,null,null,null,null,null,{"$f":"SUM(Plati[[#This Row],[ian]:[dec]])","v":0}]
[{"$f":"ian!O23","v":"d"},null,null,null,null,null,null,null,null,null,null,null,null,{"$f":"SUM(Plati[[#This Row],[ian]:[dec]])","v":0}]
["TOTAL",{"$f":"SUM(B2:B24)","v":2971.9399999999996},{"$f":"SUM(C2:C24)","v":0},{"$f":"SUM(D2:D24)","v":0},0,0,0,0,0,0,0,0,0,{"$f":"SUM(B25:M25)","v":2971.9399999999996}]
[]
[]
[]
[]
["C","ian","feb","mar","apr"," mai ","iun ","iul ","aug","sep","oct","noe ","dec","TOTAL"]
[{"$f":"ian!O24","v":"cheltuieli"},158.88999999999999,null,null,null,null,null,null,null,null,null,null,null,{"$f":"SUM(Incas[[#This Row],[ian]:[dec]])","v":158.88999999999999}]
[{"$f":"ian!O25","v":"restante"},null,null,null,null,null,null,null,null,null,null,null,null,{"$f":"SUM(Incas[[#This Row],[ian]:[dec]])","v":0}]
[{"$f":"ian!O26","v":"fond rulment"},null,null,null,null,null,null,null,null,null,null,null,null,{"$f":"SUM(Incas[[#This Row],[ian]:[dec]])","v":0}]
[{"$f":"ian!O27","v":"fond reparatii"},null,null,null,null,null,null,null,null,null,null,null,null,{"$f":"SUM(Incas[[#This Row],[ian]:[dec]])","v":0}]
[{"$f":"ian!O28","v":"diverse"},null,null,null,null,null,null,null,null,null,null,null,null,{"$f":"SUM(Incas[[#This Row],[ian]:[dec]])","v":0}]
[{"$f":"ian!O29","v":"penalizari"},null,null,null,null,null,null,null,null,null,null,null,null,{"$f":"SUM(Incas[[#This Row],[ian]:[dec]])","v":0}]
[{"$f":"ian!O30","v":" "},null,null,null,null,null,null,null,null,null,null,null,null,{"$f":"SUM(Incas[[#This Row],[ian]:[dec]])","v":0}]
[{"$f":"ian!O31","v":" "},null,null,null,null,null,null,null,null,null,null,null,null,{"$f":"SUM(Incas[[#This Row],[ian]:[dec]])","v":0}]
["Total",{"$f":"SUBTOTAL(109,Incas[ian])","v":158.88999999999999},{"$f":"SUBTOTAL(109,Incas[feb])","v":0},{"$f":"SUBTOTAL(109,Incas[mar])","v":0},{"$f":"SUBTOTAL(109,Incas[apr])","v":0},{"$f":"SUBTOTAL(109,Incas[[ mai ]])","v":0},{"$f":"SUBTOTAL(109,Incas[[iun ]])","v":0},{"$f":"SUBTOTAL(109,Incas[[iul ]])","v":0},{"$f":"SUBTOTAL(109,Incas[aug])","v":0},{"$f":"SUBTOTAL(109,Incas[sep])","v":0},{"$f":"SUBTOTAL(109,Incas[oct])","v":0},{"$f":"SUBTOTAL(109,Incas[[noe ]])","v":0},{"$f":"SUBTOTAL(109,Incas[dec])","v":0},{"$f":"SUBTOTAL(103,Incas[TOTAL])","v":8}]

{"sheet":"cash","index":33,"n_rows":17,"n_cols":5,"rows_kept":17,"cut":false,"hidden":false,"merged":[]}
[500,2,{"$f":"A1*B1","v":1000}]
[200,8,1600]
[100,4,400]
[50,4,200]
[10,47,470]
[5,4,20]
[1,100,100]
[0.5,26,13]
[null,null,{"$f":"SUM(C1:C8)","v":3803},3860.2700000000023]
[]
[]
[]
[]
[]
[]
[]
[null,null,null,null," "]